BEGIN:VCALENDAR
VERSION:2.0
PRODID:-//Broken Arrow Soccer Club - ECPv6.15.20//NONSGML v1.0//EN
CALSCALE:GREGORIAN
METHOD:PUBLISH
X-WR-CALNAME:Broken Arrow Soccer Club
X-ORIGINAL-URL:https://basoccer.club
X-WR-CALDESC:Events for Broken Arrow Soccer Club
REFRESH-INTERVAL;VALUE=DURATION:PT1H
X-Robots-Tag:noindex
X-PUBLISHED-TTL:PT1H
BEGIN:VTIMEZONE
TZID:America/Chicago
BEGIN:DAYLIGHT
TZOFFSETFROM:-0600
TZOFFSETTO:-0500
TZNAME:CDT
DTSTART:20240310T080000
END:DAYLIGHT
BEGIN:STANDARD
TZOFFSETFROM:-0500
TZOFFSETTO:-0600
TZNAME:CST
DTSTART:20241103T070000
END:STANDARD
BEGIN:DAYLIGHT
TZOFFSETFROM:-0600
TZOFFSETTO:-0500
TZNAME:CDT
DTSTART:20250309T080000
END:DAYLIGHT
BEGIN:STANDARD
TZOFFSETFROM:-0500
TZOFFSETTO:-0600
TZNAME:CST
DTSTART:20251102T070000
END:STANDARD
BEGIN:DAYLIGHT
TZOFFSETFROM:-0600
TZOFFSETTO:-0500
TZNAME:CDT
DTSTART:20260308T080000
END:DAYLIGHT
BEGIN:STANDARD
TZOFFSETFROM:-0500
TZOFFSETTO:-0600
TZNAME:CST
DTSTART:20261101T070000
END:STANDARD
END:VTIMEZONE
BEGIN:VEVENT
DTSTART;VALUE=DATE:20250818
DTEND;VALUE=DATE:20250819
DTSTAMP:20260420T000531
CREATED:20250716T221000Z
LAST-MODIFIED:20250716T221637Z
UID:12620-1755475200-1755561599@basoccer.club
SUMMARY:BA Academy Registration Deadline for ALL Teams
DESCRIPTION:Get details and register here.
URL:https://basoccer.club/eventt/ba-academy-registration-deadline-for-all-teams-f25/
LOCATION:OK
ORGANIZER;CN="General":MAILTO:jessica@basoccer.club
END:VEVENT
BEGIN:VEVENT
DTSTART;TZID=America/Chicago:20250815T180000
DTEND;TZID=America/Chicago:20250815T200000
DTSTAMP:20260420T000531
CREATED:20250730T002918Z
LAST-MODIFIED:20250730T002918Z
UID:12822-1755280800-1755288000@basoccer.club
SUMMARY:Forever Faith Uniform Fitting
DESCRIPTION:
URL:https://basoccer.club/eventt/forever-faith-uniform-fitting-815/
LOCATION:Indian Springs Soccer Complex\, 13600 South 145th East Avenue\, Broken Arrow\, OK\, 74011\, United States
ORGANIZER;CN="General":MAILTO:jessica@basoccer.club
END:VEVENT
BEGIN:VEVENT
DTSTART;VALUE=DATE:20250815
DTEND;VALUE=DATE:20250819
DTSTAMP:20260420T000531
CREATED:20250721T183742Z
LAST-MODIFIED:20250721T183955Z
UID:12623-1755216000-1755561599@basoccer.club
SUMMARY:BASC Shop Days @ Dick's Sporting Goods
DESCRIPTION:Click the link below for more information and to get your 20% discount coupon.
URL:https://basoccer.club/eventt/basc-shop-days-dicks-sporting-goods-f25/
LOCATION:Dick’s Sporting Goods\, 1620 East Hillside Drive\, Broken Arrow\, OK\, 74012\, United States
CATEGORIES:Club Event
ORGANIZER;CN="General":MAILTO:jessica@basoccer.club
END:VEVENT
BEGIN:VEVENT
DTSTART;TZID=America/Chicago:20250814T180000
DTEND;TZID=America/Chicago:20250814T200000
DTSTAMP:20260420T000531
CREATED:20250730T002840Z
LAST-MODIFIED:20250730T002840Z
UID:12820-1755194400-1755201600@basoccer.club
SUMMARY:Forever Faith Uniform Fitting
DESCRIPTION:
URL:https://basoccer.club/eventt/forever-faith-uniform-fitting-814/
LOCATION:Indian Springs Soccer Complex\, 13600 South 145th East Avenue\, Broken Arrow\, OK\, 74011\, United States
ORGANIZER;CN="General":MAILTO:jessica@basoccer.club
END:VEVENT
BEGIN:VEVENT
DTSTART;TZID=America/Chicago:20250813T180000
DTEND;TZID=America/Chicago:20250813T200000
DTSTAMP:20260420T000531
CREATED:20250730T002805Z
LAST-MODIFIED:20250730T002805Z
UID:12817-1755108000-1755115200@basoccer.club
SUMMARY:Forever Faith Uniform Fitting
DESCRIPTION:
URL:https://basoccer.club/eventt/forever-faith-uniform-fitting/
LOCATION:Indian Springs Soccer Complex\, 13600 South 145th East Avenue\, Broken Arrow\, OK\, 74011\, United States
ORGANIZER;CN="General":MAILTO:jessica@basoccer.club
END:VEVENT
BEGIN:VEVENT
DTSTART;TZID=America/Chicago:20250809T083000
DTEND;TZID=America/Chicago:20250809T120000
DTSTAMP:20260420T000531
CREATED:20250708T152800Z
LAST-MODIFIED:20250804T195406Z
UID:12581-1754728200-1754740800@basoccer.club
SUMMARY:New Coach In-House Training @ ISSC
DESCRIPTION:Follow the link below for more information and to register.
URL:https://basoccer.club/eventt/new-coach-in-house-training-issc-f25/
LOCATION:Indian Springs Soccer Complex\, 13600 South 145th East Avenue\, Broken Arrow\, OK\, 74011\, United States
CATEGORIES:Training - Coach/Manager
ORGANIZER;CN="Coach":MAILTO:coach@basoccer.club
END:VEVENT
BEGIN:VEVENT
DTSTART;VALUE=DATE:20250808
DTEND;VALUE=DATE:20250809
DTSTAMP:20260420T000531
CREATED:20250707T165938Z
LAST-MODIFIED:20250707T172430Z
UID:12560-1754611200-1754697599@basoccer.club
SUMMARY:Registration Deadline: Labor Day Kickoff Classic Friendlies
DESCRIPTION:Click the link below for more information and to register.
URL:https://basoccer.club/eventt/registration-deadline-labor-day-kickoff-classic-friendlies-8825/
LOCATION:OK
CATEGORIES:upcoming tournaments
ORGANIZER;CN="Tournament":MAILTO:tournament@basoccer.club
END:VEVENT
BEGIN:VEVENT
DTSTART;TZID=America/Chicago:20250802T080000
DTEND;TZID=America/Chicago:20250802T120000
DTSTAMP:20260420T000531
CREATED:20250708T150344Z
LAST-MODIFIED:20250708T151213Z
UID:12577-1754121600-1754136000@basoccer.club
SUMMARY:Field Day
DESCRIPTION:Get more information at the link below.
URL:https://basoccer.club/eventt/field-day-f25/
LOCATION:Indian Springs Soccer Complex\, 13600 South 145th East Avenue\, Broken Arrow\, OK\, 74011\, United States
CATEGORIES:Club Event
ORGANIZER;CN="Complex Manager":MAILTO:complexmanager@basoccer.club
END:VEVENT
BEGIN:VEVENT
DTSTART;TZID=America/Chicago:20250801T183000
DTEND;TZID=America/Chicago:20250801T203000
DTSTAMP:20260420T000531
CREATED:20250708T021036Z
LAST-MODIFIED:20250708T021412Z
UID:12567-1754073000-1754080200@basoccer.club
SUMMARY:Coach Meeting - Mandatory for ALL Coaches
DESCRIPTION:Click website link below for details.
URL:https://basoccer.club/eventt/coach-meeting-mandatory-for-all-coaches-8125/
LOCATION:Hilton Garden Inn\, 420 W Albany St.\, Broken Arrrow\, OK\, United States
CATEGORIES:Club Event,Training - Coach/Manager
ORGANIZER;CN="Coach":MAILTO:coach@basoccer.club
END:VEVENT
BEGIN:VEVENT
DTSTART;VALUE=DATE:20250801
DTEND;VALUE=DATE:20250805
DTSTAMP:20260420T000531
CREATED:20250721T183848Z
LAST-MODIFIED:20250721T183848Z
UID:12654-1754006400-1754351999@basoccer.club
SUMMARY:TAX FREE WEEKEND - BASC Shop Days @ Dick's Sporting Goods
DESCRIPTION:Click the link below for more information and to get your 20% discount coupon.
URL:https://basoccer.club/eventt/tax-free-weekend-basc-shop-days-dicks-sporting-goods-f25/
LOCATION:Dick’s Sporting Goods\, 1620 East Hillside Drive\, Broken Arrow\, OK\, 74012\, United States
CATEGORIES:Club Event
ORGANIZER;CN="General":MAILTO:jessica@basoccer.club
END:VEVENT
BEGIN:VEVENT
DTSTART;TZID=America/Chicago:20250731T170000
DTEND;TZID=America/Chicago:20250731T170000
DTSTAMP:20260420T000531
CREATED:20250708T150155Z
LAST-MODIFIED:20250708T150155Z
UID:12575-1753981200-1753981200@basoccer.club
SUMMARY:Practice Field Requests Due by 5pm
DESCRIPTION:Practice Field Locations \nRequest Your Practice Field
URL:https://basoccer.club/eventt/practice-field-requests-due-by-5pm-f25/
LOCATION:OK
CATEGORIES:General
ORGANIZER;CN="Practice Fields":MAILTO:practicefield@basoccer.club
END:VEVENT
BEGIN:VEVENT
DTSTART;VALUE=DATE:20250720
DTEND;VALUE=DATE:20250721
DTSTAMP:20260420T000531
CREATED:20250422T152631Z
LAST-MODIFIED:20250422T152631Z
UID:12341-1752969600-1753055999@basoccer.club
SUMMARY:Late Registration Begins. Fee raises to $135
DESCRIPTION:Follow the link below to register your Soccer Player!
URL:https://basoccer.club/eventt/late-registration-begins-fee-raises-to-135-f25/
LOCATION:OK
CATEGORIES:Registration
ORGANIZER;CN="Registrar":MAILTO:registration@basoccer.club
END:VEVENT
BEGIN:VEVENT
DTSTART;VALUE=DATE:20250719
DTEND;VALUE=DATE:20250720
DTSTAMP:20260420T000531
CREATED:20250422T152244Z
LAST-MODIFIED:20250422T152307Z
UID:12338-1752883200-1752969599@basoccer.club
SUMMARY:BASC Fall 2025 Registration Closes
DESCRIPTION:Follow the link below to register your Soccer Player!
URL:https://basoccer.club/eventt/basc-fall-2025-registration-closes/
LOCATION:OK
CATEGORIES:Registration
ORGANIZER;CN="Registrar":MAILTO:registration@basoccer.club
END:VEVENT
BEGIN:VEVENT
DTSTART;VALUE=DATE:20250718
DTEND;VALUE=DATE:20250719
DTSTAMP:20260420T000531
CREATED:20250422T153226Z
LAST-MODIFIED:20250422T153312Z
UID:12347-1752796800-1752883199@basoccer.club
SUMMARY:Rec Select Rosters Due
DESCRIPTION:Get your Rec Select Roster at the link below. \nEmail your fully filled out Rec Select Roster to the Registrar at: registration@basoccer.club
URL:https://basoccer.club/eventt/rec-select-rosters-due-f25/
LOCATION:OK
CATEGORIES:Registration
ORGANIZER;CN="Registrar":MAILTO:registration@basoccer.club
END:VEVENT
BEGIN:VEVENT
DTSTART;VALUE=DATE:20250714
DTEND;VALUE=DATE:20250717
DTSTAMP:20260420T000531
CREATED:20250422T153048Z
LAST-MODIFIED:20250422T153048Z
UID:12343-1752451200-1752710399@basoccer.club
SUMMARY:Financial Aid Vouchers Distributed
DESCRIPTION:
URL:https://basoccer.club/eventt/financial-aid-vouchers-distributed-f25/
LOCATION:OK
ORGANIZER;CN="General":MAILTO:jessica@basoccer.club
END:VEVENT
BEGIN:VEVENT
DTSTART;VALUE=DATE:20250711
DTEND;VALUE=DATE:20250712
DTSTAMP:20260420T000531
CREATED:20250422T153148Z
LAST-MODIFIED:20250422T153148Z
UID:12345-1752192000-1752278399@basoccer.club
SUMMARY:DEADLINE: Financial Aid Applications for fall 2025 Season
DESCRIPTION:Follow the link below to learn more and apply.
URL:https://basoccer.club/eventt/deadline-financial-aid-applications-f25/
LOCATION:OK
CATEGORIES:General,Registration
ORGANIZER;CN="General":MAILTO:jessica@basoccer.club
END:VEVENT
BEGIN:VEVENT
DTSTART;VALUE=DATE:20250704
DTEND;VALUE=DATE:20250705
DTSTAMP:20260420T000531
CREATED:20230523T211333Z
LAST-MODIFIED:20230523T211339Z
UID:9315-1751587200-1751673599@basoccer.club
SUMMARY:Office Closed - Independence Day Holiday
DESCRIPTION:
URL:https://basoccer.club/eventt/office-closed-independence-day-holiday-25/
LOCATION:Indian Springs Soccer Complex\, 13600 South 145th East Avenue\, Broken Arrow\, OK\, 74011\, United States
CATEGORIES:Office Closed
ORGANIZER;CN="Info":MAILTO:info@basoccer.club
END:VEVENT
BEGIN:VEVENT
DTSTART;TZID=America/Chicago:20250628T080000
DTEND;TZID=America/Chicago:20250628T120000
DTSTAMP:20260420T000531
CREATED:20250415T192935Z
LAST-MODIFIED:20250618T161321Z
UID:12312-1751097600-1751112000@basoccer.club
SUMMARY:Post Season Field Day
DESCRIPTION:Get more information at the link below.
URL:https://basoccer.club/eventt/post-season-field-day-s25/
LOCATION:Indian Springs Soccer Complex\, 13600 South 145th East Avenue\, Broken Arrow\, OK\, 74011\, United States
CATEGORIES:Club Event
ORGANIZER;CN="Complex Manager":MAILTO:complexmanager@basoccer.club
END:VEVENT
BEGIN:VEVENT
DTSTART;VALUE=DATE:20250627
DTEND;VALUE=DATE:20250628
DTSTAMP:20260420T000531
CREATED:20250112T194321Z
LAST-MODIFIED:20250112T194321Z
UID:11844-1750982400-1751068799@basoccer.club
SUMMARY:BASC Office Summer Hours in Effect - Closed Friday's in June
DESCRIPTION:Follow the link below for more information.
URL:https://basoccer.club/eventt/basc-office-summer-hours-in-effect-closed-fridays-in-june-62725/
LOCATION:Indian Springs Soccer Complex\, 13600 South 145th East Avenue\, Broken Arrow\, OK\, 74011\, United States
CATEGORIES:General
ORGANIZER;CN="Info":MAILTO:info@basoccer.club
END:VEVENT
BEGIN:VEVENT
DTSTART;TZID=America/Chicago:20250621T090000
DTEND;TZID=America/Chicago:20250621T150000
DTSTAMP:20260420T000531
CREATED:20220620T181413Z
LAST-MODIFIED:20250530T192312Z
UID:7111-1750496400-1750518000@basoccer.club
SUMMARY:BASC @ Blue Bell Taste of Summer
DESCRIPTION:Clink the link below for more information.
URL:https://basoccer.club/eventt/basc-taste-of-summer/
LOCATION:Central Park Community Center\, 1500 South Main Street\, Broken Arrow\, OK\, 74012\, United States
CATEGORIES:Club Event
ORGANIZER;CN="Registrar":MAILTO:registration@basoccer.club
END:VEVENT
BEGIN:VEVENT
DTSTART;VALUE=DATE:20250620
DTEND;VALUE=DATE:20250621
DTSTAMP:20260420T000531
CREATED:20250112T194301Z
LAST-MODIFIED:20250112T194301Z
UID:11842-1750377600-1750463999@basoccer.club
SUMMARY:BASC Office Summer Hours in Effect - Closed Friday's in June
DESCRIPTION:Follow the link below for more information.
URL:https://basoccer.club/eventt/basc-office-summer-hours-in-effect-closed-fridays-in-june-62025/
LOCATION:Indian Springs Soccer Complex\, 13600 South 145th East Avenue\, Broken Arrow\, OK\, 74011\, United States
CATEGORIES:General
ORGANIZER;CN="Info":MAILTO:info@basoccer.club
END:VEVENT
BEGIN:VEVENT
DTSTART;TZID=America/Chicago:20250617T190000
DTEND;TZID=America/Chicago:20250617T200000
DTSTAMP:20260420T000531
CREATED:20250112T194647Z
LAST-MODIFIED:20250510T182839Z
UID:11854-1750186800-1750190400@basoccer.club
SUMMARY:BASC Spring Awards Ceremony
DESCRIPTION:The Spring 2025 Awards ceremony is for League winners in the U9 and older age groups. \nWinning coaches will be notified in early June with details.
URL:https://basoccer.club/eventt/basc-spring-awards-ceremony-61725/
LOCATION:Ridge Christian Church\, 4010 W New Orleans St\,\, Broken Arrow\, OK\, 74011\, United States
CATEGORIES:Club Event
ORGANIZER;CN="General":MAILTO:jessica@basoccer.club
END:VEVENT
BEGIN:VEVENT
DTSTART;VALUE=DATE:20250613
DTEND;VALUE=DATE:20250614
DTSTAMP:20260420T000531
CREATED:20250112T194230Z
LAST-MODIFIED:20250112T194230Z
UID:11840-1749772800-1749859199@basoccer.club
SUMMARY:BASC Office Summer Hours in Effect - Closed Friday's in June
DESCRIPTION:Follow the link below for more information.
URL:https://basoccer.club/eventt/basc-office-summer-hours-in-effect-closed-fridays-in-june-13/
LOCATION:Indian Springs Soccer Complex\, 13600 South 145th East Avenue\, Broken Arrow\, OK\, 74011\, United States
CATEGORIES:General
ORGANIZER;CN="Info":MAILTO:info@basoccer.club
END:VEVENT
BEGIN:VEVENT
DTSTART;VALUE=DATE:20250610
DTEND;VALUE=DATE:20250611
DTSTAMP:20260420T000531
CREATED:20250402T002008Z
LAST-MODIFIED:20250402T002008Z
UID:12239-1749513600-1749599999@basoccer.club
SUMMARY:Summer Soccer Season Start
DESCRIPTION:
URL:https://basoccer.club/eventt/sss-start/
LOCATION:Indian Springs Soccer Complex\, 13600 South 145th East Avenue\, Broken Arrow\, OK\, 74011\, United States
CATEGORIES:BA Express
ORGANIZER;CN="General":MAILTO:jessica@basoccer.club
END:VEVENT
BEGIN:VEVENT
DTSTART;VALUE=DATE:20250606
DTEND;VALUE=DATE:20250607
DTSTAMP:20260420T000531
CREATED:20250112T194159Z
LAST-MODIFIED:20250112T194159Z
UID:11838-1749168000-1749254399@basoccer.club
SUMMARY:BASC Office Summer Hours in Effect - Closed Friday's in June
DESCRIPTION:Follow the link below for more information.
URL:https://basoccer.club/eventt/basc-office-summer-hours-in-effect-closed-fridays-in-june-25/
LOCATION:Indian Springs Soccer Complex\, 13600 South 145th East Avenue\, Broken Arrow\, OK\, 74011\, United States
CATEGORIES:General
ORGANIZER;CN="Info":MAILTO:info@basoccer.club
END:VEVENT
BEGIN:VEVENT
DTSTART;VALUE=DATE:20250602
DTEND;VALUE=DATE:20250606
DTSTAMP:20260420T000531
CREATED:20250311T205439Z
LAST-MODIFIED:20250311T205439Z
UID:12152-1748822400-1749167999@basoccer.club
SUMMARY:BASC Summer Soccer Camp
DESCRIPTION:Half Day Camp – 8:30am – 11:30am \nLittle Macs Camp – 8:30am – 10am \nFollow the link below for more information and to register.
URL:https://basoccer.club/eventt/basc-summer-soccer-camp-25/
LOCATION:Indian Springs Soccer Complex\, 13600 South 145th East Avenue\, Broken Arrow\, OK\, 74011\, United States
CATEGORIES:Club Event
ORGANIZER;CN="Coach":MAILTO:coach@basoccer.club
END:VEVENT
BEGIN:VEVENT
DTSTART;VALUE=DATE:20250602
DTEND;VALUE=DATE:20250603
DTSTAMP:20260420T000531
CREATED:20250402T001758Z
LAST-MODIFIED:20250402T001758Z
UID:12237-1748822400-1748908799@basoccer.club
SUMMARY:DEADLINE: Summer Soccer Series Registration
DESCRIPTION:Click here for details and to register.
URL:https://basoccer.club/eventt/deadline-summer-soccer-series-registration/
LOCATION:Indian Springs Soccer Complex\, 13600 South 145th East Avenue\, Broken Arrow\, OK\, 74011\, United States
CATEGORIES:Club Event
ATTACH;FMTTYPE=image/png:https://basoccer.club/wp-content/uploads/2022/04/Compete-in-the-Heat-Summer-Soccer-Series.png
ORGANIZER;CN="General":MAILTO:jessica@basoccer.club
END:VEVENT
BEGIN:VEVENT
DTSTART;VALUE=DATE:20250530
DTEND;VALUE=DATE:20250603
DTSTAMP:20260420T000531
CREATED:20250530T185631Z
LAST-MODIFIED:20250530T185631Z
UID:12478-1748563200-1748908799@basoccer.club
SUMMARY:BASC Shop Days @ Dick's Sporting Goods
DESCRIPTION:Click the link below for more information and to get your 20% discount coupon.
URL:https://basoccer.club/eventt/basc-shop-days-dicks-sporting-goods-525/
LOCATION:Dick’s Sporting Goods\, 1620 East Hillside Drive\, Broken Arrow\, OK\, 74012\, United States
CATEGORIES:Club Event
ORGANIZER;CN="General":MAILTO:jessica@basoccer.club
END:VEVENT
BEGIN:VEVENT
DTSTART;VALUE=DATE:20250526
DTEND;VALUE=DATE:20250527
DTSTAMP:20260420T000531
CREATED:20230523T211246Z
LAST-MODIFIED:20230523T211246Z
UID:9313-1748217600-1748303999@basoccer.club
SUMMARY:OFFICE CLOSED - Memorial Day Holiday
DESCRIPTION:
URL:https://basoccer.club/eventt/office-closed-memorial-day-holiday-25/
LOCATION:OK
CATEGORIES:Office Closed
ORGANIZER;CN="General":MAILTO:jessica@basoccer.club
END:VEVENT
BEGIN:VEVENT
DTSTART;VALUE=DATE:20250525
DTEND;VALUE=DATE:20250526
DTSTAMP:20260420T000531
CREATED:20250112T195302Z
LAST-MODIFIED:20250112T195302Z
UID:11860-1748131200-1748217599@basoccer.club
SUMMARY:Closed League - Last Day for Regularly Scheduled League Games
DESCRIPTION:Click the link below to find your teams league schedule.
URL:https://basoccer.club/eventt/closed-league-last-day-for-regularly-scheduled-league-games/
LOCATION:OK
CATEGORIES:Club Event,General
ORGANIZER;CN="General":MAILTO:jessica@basoccer.club
END:VEVENT
END:VCALENDAR