BEGIN:VCALENDAR
VERSION:2.0
PRODID:-//Broken Arrow Soccer Club - ECPv6.15.20//NONSGML v1.0//EN
CALSCALE:GREGORIAN
METHOD:PUBLISH
X-WR-CALNAME:Broken Arrow Soccer Club
X-ORIGINAL-URL:https://basoccer.club
X-WR-CALDESC:Events for Broken Arrow Soccer Club
REFRESH-INTERVAL;VALUE=DURATION:PT1H
X-Robots-Tag:noindex
X-PUBLISHED-TTL:PT1H
BEGIN:VTIMEZONE
TZID:America/Chicago
BEGIN:DAYLIGHT
TZOFFSETFROM:-0600
TZOFFSETTO:-0500
TZNAME:CDT
DTSTART:20240310T080000
END:DAYLIGHT
BEGIN:STANDARD
TZOFFSETFROM:-0500
TZOFFSETTO:-0600
TZNAME:CST
DTSTART:20241103T070000
END:STANDARD
BEGIN:DAYLIGHT
TZOFFSETFROM:-0600
TZOFFSETTO:-0500
TZNAME:CDT
DTSTART:20250309T080000
END:DAYLIGHT
BEGIN:STANDARD
TZOFFSETFROM:-0500
TZOFFSETTO:-0600
TZNAME:CST
DTSTART:20251102T070000
END:STANDARD
BEGIN:DAYLIGHT
TZOFFSETFROM:-0600
TZOFFSETTO:-0500
TZNAME:CDT
DTSTART:20260308T080000
END:DAYLIGHT
BEGIN:STANDARD
TZOFFSETFROM:-0500
TZOFFSETTO:-0600
TZNAME:CST
DTSTART:20261101T070000
END:STANDARD
BEGIN:DAYLIGHT
TZOFFSETFROM:-0600
TZOFFSETTO:-0500
TZNAME:CDT
DTSTART:20270314T080000
END:DAYLIGHT
BEGIN:STANDARD
TZOFFSETFROM:-0500
TZOFFSETTO:-0600
TZNAME:CST
DTSTART:20271107T070000
END:STANDARD
END:VTIMEZONE
BEGIN:VEVENT
DTSTART;TZID=America/Chicago:20251027T150000
DTEND;TZID=America/Chicago:20251027T150000
DTSTAMP:20260419T205116
CREATED:20230523T212109Z
LAST-MODIFIED:20230523T212442Z
UID:9321-1761577200-1761577200@basoccer.club
SUMMARY:Nominations for Executive Board positions Due by Close of Business: Treasurer\, Registrar\, Games Commissioner\, & Head Coach
DESCRIPTION:Click the link below for more information.
URL:https://basoccer.club/eventt/nominations-for-executive-board-positions-due-by-close-of-business-treasurer-registrar-games-commissioner-head-coach-1125/
LOCATION:OK
CATEGORIES:Club Event
ORGANIZER;CN="Info":MAILTO:info@basoccer.club
END:VEVENT
BEGIN:VEVENT
DTSTART;TZID=America/Chicago:20251025T190000
DTEND;TZID=America/Chicago:20251025T220000
DTSTAMP:20260419T205116
CREATED:20250910T214234Z
LAST-MODIFIED:20250910T214420Z
UID:12997-1761418800-1761429600@basoccer.club
SUMMARY:BASC Night @ FC Tulsa
DESCRIPTION:Join BASC tonight and watch FC Tulsa take on the Colorado Springs Switchbacks! \nGet tickets here.
URL:https://basoccer.club/eventt/basc-night-fc-tulsa-f25/
LOCATION:ONEOK Field\, 201 N Elgin Ave\, Tulsa\, 74120\, United States
ORGANIZER;CN="Event":MAILTO:jdickerson@basoccer.club
END:VEVENT
BEGIN:VEVENT
DTSTART;VALUE=DATE:20251023
DTEND;VALUE=DATE:20251027
DTSTAMP:20260419T205116
CREATED:20250721T184641Z
LAST-MODIFIED:20250721T184641Z
UID:12658-1761177600-1761523199@basoccer.club
SUMMARY:Competitive Tournament @ ISSC - No League Games
DESCRIPTION:
URL:https://basoccer.club/eventt/competitive-tournament-issc-no-league-games-f25/
LOCATION:Indian Springs Soccer Complex\, 13600 South 145th East Avenue\, Broken Arrow\, OK\, 74011\, United States
CATEGORIES:upcoming tournaments
ORGANIZER;CN="Info":MAILTO:info@basoccer.club
END:VEVENT
BEGIN:VEVENT
DTSTART;TZID=America/Chicago:20251020T180000
DTEND;TZID=America/Chicago:20251020T200000
DTSTAMP:20260419T205116
CREATED:20250723T154850Z
LAST-MODIFIED:20250723T154904Z
UID:12685-1760983200-1760990400@basoccer.club
SUMMARY:Goal Keeper Training
DESCRIPTION:For Goal Keeper Training Specifics\, please click here.
URL:https://basoccer.club/eventt/goal-keeper-training-102025/
LOCATION:Indian Springs Soccer Complex\, 13600 South 145th East Avenue\, Broken Arrow\, OK\, 74011\, United States
CATEGORIES:Training - players
ORGANIZER;CN="Coach":MAILTO:coach@basoccer.club
END:VEVENT
BEGIN:VEVENT
DTSTART;VALUE=DATE:20251019
DTEND;VALUE=DATE:20251020
DTSTAMP:20260419T205116
CREATED:20250721T184310Z
LAST-MODIFIED:20250721T184310Z
UID:12636-1760832000-1760918399@basoccer.club
SUMMARY:Registration Deadline: BASC Fall Classic
DESCRIPTION:Click the link below for more information and to register.
URL:https://basoccer.club/eventt/registration-deadline-basc-fall-classic-2/
LOCATION:Indian Springs Soccer Complex\, 13600 South 145th East Avenue\, Broken Arrow\, OK\, 74011\, United States
CATEGORIES:upcoming tournaments
ORGANIZER;CN="Tournament":MAILTO:tournament@basoccer.club
END:VEVENT
BEGIN:VEVENT
DTSTART;TZID=America/Chicago:20251017T000000
DTEND;TZID=America/Chicago:20260117T235900
DTSTAMP:20260419T205116
CREATED:20251016T210642Z
LAST-MODIFIED:20251016T235259Z
UID:12631-1760659200-1768694340@basoccer.club
SUMMARY:Spring 2026 Recreational Soccer Registration OPEN
DESCRIPTION:Click here for more information and to register. 
URL:https://basoccer.club/eventt/spring-2026-recreational-soccer-registration-open/
LOCATION:OK
CATEGORIES:Registration
ORGANIZER;CN="Registrar":MAILTO:registration@basoccer.club
END:VEVENT
BEGIN:VEVENT
DTSTART;TZID=America/Chicago:20251013T180000
DTEND;TZID=America/Chicago:20251013T200000
DTSTAMP:20260419T205116
CREATED:20250723T154816Z
LAST-MODIFIED:20250723T154816Z
UID:12683-1760378400-1760385600@basoccer.club
SUMMARY:Goal Keeper Training
DESCRIPTION:For Goal Keeper Training Specifics\, please click here.
URL:https://basoccer.club/eventt/goal-keeper-training-101325/
LOCATION:Indian Springs Soccer Complex\, 13600 South 145th East Avenue\, Broken Arrow\, OK\, 74011\, United States
CATEGORIES:Training - players
ORGANIZER;CN="Coach":MAILTO:coach@basoccer.club
END:VEVENT
BEGIN:VEVENT
DTSTART;TZID=America/Chicago:20251011T140000
DTEND;TZID=America/Chicago:20251011T220000
DTSTAMP:20260419T205116
CREATED:20250910T220059Z
LAST-MODIFIED:20250910T220126Z
UID:13006-1760191200-1760220000@basoccer.club
SUMMARY:Chick-fil-a Spirit Night Fundraiser
DESCRIPTION:Get details here.
URL:https://basoccer.club/eventt/chick-fil-a-spirit-night-fundraiser-1025/
LOCATION:Chick-fil-a Creek Turnpike\, 5501 S Aspen Ave\, Broken Arrow\, 74011\, United States
ORGANIZER;CN="Fundraiser":MAILTO:jdickerson@basoccer.club
END:VEVENT
BEGIN:VEVENT
DTSTART;TZID=America/Chicago:20251006T180000
DTEND;TZID=America/Chicago:20251006T200000
DTSTAMP:20260419T205116
CREATED:20250723T154726Z
LAST-MODIFIED:20250723T154726Z
UID:12681-1759773600-1759780800@basoccer.club
SUMMARY:Goal Keeper Training
DESCRIPTION:For Goal Keeper Training Specifics\, please click here.
URL:https://basoccer.club/eventt/goal-keeper-training-10625/
LOCATION:Indian Springs Soccer Complex\, 13600 South 145th East Avenue\, Broken Arrow\, OK\, 74011\, United States
CATEGORIES:Training - players
ORGANIZER;CN="Coach":MAILTO:coach@basoccer.club
END:VEVENT
BEGIN:VEVENT
DTSTART;TZID=America/Chicago:20250929T180000
DTEND;TZID=America/Chicago:20250929T200000
DTSTAMP:20260419T205116
CREATED:20250723T154559Z
LAST-MODIFIED:20250929T171631Z
UID:12679-1759168800-1759176000@basoccer.club
SUMMARY:CANCELLED - Goal Keeper Training
DESCRIPTION:For Goal Keeper Training Specifics\, please click here.
URL:https://basoccer.club/eventt/goal-keeper-training-92925/
LOCATION:Indian Springs Soccer Complex\, 13600 South 145th East Avenue\, Broken Arrow\, OK\, 74011\, United States
CATEGORIES:Training - players
ORGANIZER;CN="Coach":MAILTO:coach@basoccer.club
END:VEVENT
BEGIN:VEVENT
DTSTART;TZID=America/Chicago:20250922T180000
DTEND;TZID=America/Chicago:20250922T200000
DTSTAMP:20260419T205116
CREATED:20250723T154528Z
LAST-MODIFIED:20250723T154528Z
UID:12677-1758564000-1758571200@basoccer.club
SUMMARY:Goal Keeper Training
DESCRIPTION:For Goal Keeper Training Specifics\, please click here.
URL:https://basoccer.club/eventt/goal-keeper-training-92225/
LOCATION:Indian Springs Soccer Complex\, 13600 South 145th East Avenue\, Broken Arrow\, OK\, 74011\, United States
CATEGORIES:Training - players
ORGANIZER;CN="Coach":MAILTO:coach@basoccer.club
END:VEVENT
BEGIN:VEVENT
DTSTART;TZID=America/Chicago:20250921T190000
DTEND;TZID=America/Chicago:20250921T220000
DTSTAMP:20260419T205116
CREATED:20250910T215434Z
LAST-MODIFIED:20250910T215536Z
UID:13000-1758481200-1758492000@basoccer.club
SUMMARY:BASC Night @ TU men's soccer
DESCRIPTION:Join BASC tonight and watch the University of Tulsa take on the University of South Florida Bulldogs in men’s soccer! \nGet tickets here.
URL:https://basoccer.club/eventt/basc-night-tu-mens-soccer-f25/
LOCATION:Hurricane Soccer and Track Stadium\, 512 South Delaware Ave\, Tulsa\, OK\, 740104\, United States
ORGANIZER;CN="Event":MAILTO:jdickerson@basoccer.club
END:VEVENT
BEGIN:VEVENT
DTSTART;TZID=America/Chicago:20250920T140000
DTEND;TZID=America/Chicago:20250920T220000
DTSTAMP:20260419T205116
CREATED:20250910T215923Z
LAST-MODIFIED:20250910T220024Z
UID:13002-1758376800-1758405600@basoccer.club
SUMMARY:Chick-fil-a Spirit Night Fundraiser
DESCRIPTION:Get details here.
URL:https://basoccer.club/eventt/chick-fil-a-spirit-night-fundraiser/
LOCATION:Chick-fil-a Creek Turnpike\, 5501 S Aspen Ave\, Broken Arrow\, 74011\, United States
ORGANIZER;CN="Fundraiser":MAILTO:jdickerson@basoccer.club
END:VEVENT
BEGIN:VEVENT
DTSTART;TZID=America/Chicago:20250917T180000
DTEND;TZID=America/Chicago:20250917T200000
DTSTAMP:20260419T205116
CREATED:20250723T161255Z
LAST-MODIFIED:20250723T170005Z
UID:12625-1758132000-1758139200@basoccer.club
SUMMARY:On Field Referee Class @ ISSC
DESCRIPTION:For anyone who wants to become a soccer referee. Follow the link below to register online.
URL:https://basoccer.club/eventt/on-field-referee-class-issc-917/
LOCATION:Indian Springs Soccer Complex\, 13600 South 145th East Avenue\, Broken Arrow\, OK\, 74011\, United States
CATEGORIES:Referee
ORGANIZER;CN="Referee":MAILTO:areareferee@basoccer.club
END:VEVENT
BEGIN:VEVENT
DTSTART;TZID=America/Chicago:20250915T180000
DTEND;TZID=America/Chicago:20250915T200000
DTSTAMP:20260419T205116
CREATED:20250723T154357Z
LAST-MODIFIED:20250723T154357Z
UID:12675-1757959200-1757966400@basoccer.club
SUMMARY:Goal Keeper Training
DESCRIPTION:For Goal Keeper Training Specifics\, please click here.
URL:https://basoccer.club/eventt/goal-keeper-training-91525/
LOCATION:Indian Springs Soccer Complex\, 13600 South 145th East Avenue\, Broken Arrow\, OK\, 74011\, United States
CATEGORIES:Training - players
ORGANIZER;CN="Coach":MAILTO:coach@basoccer.club
END:VEVENT
BEGIN:VEVENT
DTSTART;VALUE=DATE:20250914
DTEND;VALUE=DATE:20250915
DTSTAMP:20260419T205116
CREATED:20250723T161036Z
LAST-MODIFIED:20250723T161201Z
UID:12624-1757808000-1757894399@basoccer.club
SUMMARY:9/17 Referee Class Registration Deadline @ 10pm
DESCRIPTION:For anyone who wants to become a soccer referee. Follow the link below to register online by 10pm.
URL:https://basoccer.club/eventt/917-referee-class-registration-deadline-10pm/
LOCATION:Indian Springs Soccer Complex\, 13600 South 145th East Avenue\, Broken Arrow\, OK\, 74011\, United States
CATEGORIES:Referee
ORGANIZER;CN="Referee":MAILTO:areareferee@basoccer.club
END:VEVENT
BEGIN:VEVENT
DTSTART;TZID=America/Chicago:20250913T090000
DTEND;TZID=America/Chicago:20250913T120000
DTSTAMP:20260419T205116
CREATED:20250910T182314Z
LAST-MODIFIED:20250910T182751Z
UID:12987-1757754000-1757764800@basoccer.club
SUMMARY:Elk's Soccer Shoot Competition
DESCRIPTION:Calling all kids ages 8-15 to come out and see how good your shot is. Boys and girls compete separately. \nSaturday\, 9/13 | 9am – 12pm | ISSC field 6 \nGet Details here.
URL:https://basoccer.club/eventt/elks-soccer-shoot-competition/
LOCATION:Indian Springs Soccer Complex\, 13600 South 145th East Avenue\, Broken Arrow\, OK\, 74011\, United States
ORGANIZER;CN="Event":MAILTO:jdickerson@basoccer.club
END:VEVENT
BEGIN:VEVENT
DTSTART;TZID=America/Chicago:20250908T180000
DTEND;TZID=America/Chicago:20250908T200000
DTSTAMP:20260419T205116
CREATED:20250723T154326Z
LAST-MODIFIED:20250723T154326Z
UID:12673-1757354400-1757361600@basoccer.club
SUMMARY:Goal Keeper Training
DESCRIPTION:For Goal Keeper Training Specifics\, please click here.
URL:https://basoccer.club/eventt/goal-keeper-training-9825/
LOCATION:Indian Springs Soccer Complex\, 13600 South 145th East Avenue\, Broken Arrow\, OK\, 74011\, United States
CATEGORIES:Training - players
ORGANIZER;CN="Coach":MAILTO:coach@basoccer.club
END:VEVENT
BEGIN:VEVENT
DTSTART;VALUE=DATE:20250906
DTEND;VALUE=DATE:20250907
DTSTAMP:20260419T205116
CREATED:20250721T193337Z
LAST-MODIFIED:20250721T193337Z
UID:12664-1757116800-1757203199@basoccer.club
SUMMARY:BA Academy League Season Starts
DESCRIPTION:Click the link below to find your teams league schedule.
URL:https://basoccer.club/eventt/ba-academy-league-season-starts-f25/
LOCATION:Indian Springs Soccer Complex\, 13600 South 145th East Avenue\, Broken Arrow\, OK\, 74011\, United States
CATEGORIES:Club Event,General
ORGANIZER;CN="General":MAILTO:jessica@basoccer.club
END:VEVENT
BEGIN:VEVENT
DTSTART;VALUE=DATE:20250906
DTEND;VALUE=DATE:20250907
DTSTAMP:20260419T205116
CREATED:20250721T184922Z
LAST-MODIFIED:20250721T184922Z
UID:12660-1757116800-1757203199@basoccer.club
SUMMARY:OPC Season Start
DESCRIPTION:
URL:https://basoccer.club/eventt/opc-season-start-f25-2/
LOCATION:OK
CATEGORIES:BA Express
ORGANIZER;CN="BA Express":MAILTO:competitiveheadcoach@basoccer.club
END:VEVENT
BEGIN:VEVENT
DTSTART;VALUE=DATE:20250906
DTEND;VALUE=DATE:20250907
DTSTAMP:20260419T205116
CREATED:20250721T183312Z
LAST-MODIFIED:20250721T183312Z
UID:12627-1757116800-1757203199@basoccer.club
SUMMARY:Closed League Season Starts
DESCRIPTION:Click the link below to find your teams league schedule.
URL:https://basoccer.club/eventt/closed-league-season-starts-f25/
LOCATION:Indian Springs Soccer Complex\, 13600 South 145th East Avenue\, Broken Arrow\, OK\, 74011\, United States
CATEGORIES:Club Event,General
ORGANIZER;CN="General":MAILTO:jessica@basoccer.club
END:VEVENT
BEGIN:VEVENT
DTSTART;VALUE=DATE:20250906
DTEND;VALUE=DATE:20250907
DTSTAMP:20260419T205116
CREATED:20250721T182621Z
LAST-MODIFIED:20250721T182621Z
UID:12630-1757116800-1757203199@basoccer.club
SUMMARY:Rec Open / Rec Select League Season Starts
DESCRIPTION:Click the link below to find your teams league schedule.
URL:https://basoccer.club/eventt/rec-open-rec-select-league-season-starts-f25/
LOCATION:Indian Springs Soccer Complex\, 13600 South 145th East Avenue\, Broken Arrow\, OK\, 74011\, United States
CATEGORIES:Club Event,General
ORGANIZER;CN="General":MAILTO:jessica@basoccer.club
END:VEVENT
BEGIN:VEVENT
DTSTART;VALUE=DATE:20250906
DTEND;VALUE=DATE:20250907
DTSTAMP:20260419T205116
CREATED:20250721T182305Z
LAST-MODIFIED:20250721T182305Z
UID:12632-1757116800-1757203199@basoccer.club
SUMMARY:KICKSTART Starts
DESCRIPTION:Click the link below to get more information and for your KICKSTART Directors contact information.
URL:https://basoccer.club/eventt/kickstart-starts-f25/
LOCATION:Indian Springs Soccer Complex\, 13600 South 145th East Avenue\, Broken Arrow\, OK\, 74011\, United States
CATEGORIES:Club Event,General
ORGANIZER;CN="Registrar":MAILTO:registration@basoccer.club
END:VEVENT
BEGIN:VEVENT
DTSTART;VALUE=DATE:20250906
DTEND;VALUE=DATE:20250907
DTSTAMP:20260419T205116
CREATED:20250721T182215Z
LAST-MODIFIED:20250721T182215Z
UID:12633-1757116800-1757203199@basoccer.club
SUMMARY:TOPSoccer Starts
DESCRIPTION:Click the link below to get more information.
URL:https://basoccer.club/eventt/topsoccer-starts-2/
LOCATION:Indian Springs Soccer Complex\, 13600 South 145th East Avenue\, Broken Arrow\, OK\, 74011\, United States
CATEGORIES:Club Event,General
ORGANIZER;CN="Registrar":MAILTO:registration@basoccer.club
END:VEVENT
BEGIN:VEVENT
DTSTART;VALUE=DATE:20250906
DTEND;VALUE=DATE:20250907
DTSTAMP:20260419T205116
CREATED:20250721T181802Z
LAST-MODIFIED:20250721T181802Z
UID:12626-1757116800-1757203199@basoccer.club
SUMMARY:OPL Season Start
DESCRIPTION:
URL:https://basoccer.club/eventt/opl-season-start-f25/
LOCATION:OK
CATEGORIES:BA Express
ORGANIZER;CN="BA Express":MAILTO:competitiveheadcoach@basoccer.club
END:VEVENT
BEGIN:VEVENT
DTSTART;TZID=America/Chicago:20250904T193000
DTEND;TZID=America/Chicago:20250904T203000
DTSTAMP:20260419T205116
CREATED:20230523T204718Z
LAST-MODIFIED:20230523T204718Z
UID:9301-1757014200-1757017800@basoccer.club
SUMMARY:General Membership Meeting
DESCRIPTION:Follow the link below for more information.
URL:https://basoccer.club/eventt/general-membership-meeting-925/
LOCATION:Central Park Community Center\, 1500 South Main Street\, Broken Arrow\, OK\, 74012\, United States
CATEGORIES:Club Event
ORGANIZER;CN="Info":MAILTO:info@basoccer.club
END:VEVENT
BEGIN:VEVENT
DTSTART;VALUE=DATE:20250901
DTEND;VALUE=DATE:20250902
DTSTAMP:20260419T205116
CREATED:20230523T211942Z
LAST-MODIFIED:20230523T211942Z
UID:9319-1756684800-1756771199@basoccer.club
SUMMARY:Office Closed - Labor Day Holiday
DESCRIPTION:
URL:https://basoccer.club/eventt/office-closed-labor-day-holiday-25/
LOCATION:Indian Springs Soccer Complex\, 13600 South 145th East Avenue\, Broken Arrow\, OK\, 74011\, United States
CATEGORIES:Office Closed
ORGANIZER;CN="Info":MAILTO:info@basoccer.club
END:VEVENT
BEGIN:VEVENT
DTSTART;VALUE=DATE:20250830
DTEND;VALUE=DATE:20250831
DTSTAMP:20260419T205116
CREATED:20221206T173340Z
LAST-MODIFIED:20230622T171602Z
UID:8271-1756512000-1756598399@basoccer.club
SUMMARY:Labor Day Kick-Off Classic Friendlies
DESCRIPTION:Click the link below for tournament info. \nSchedule
URL:https://basoccer.club/eventt/labor-day-kick-off-classic-25/
LOCATION:Indian Springs Soccer Complex\, 13600 South 145th East Avenue\, Broken Arrow\, OK\, 74011\, United States
CATEGORIES:upcoming tournaments
ORGANIZER;CN="Tournament":MAILTO:tournament@basoccer.club
END:VEVENT
BEGIN:VEVENT
DTSTART;TZID=America/Chicago:20250825T180000
DTEND;TZID=America/Chicago:20250825T200000
DTSTAMP:20260419T205116
CREATED:20250723T154247Z
LAST-MODIFIED:20250723T154247Z
UID:12634-1756144800-1756152000@basoccer.club
SUMMARY:Goal Keeper Training
DESCRIPTION:For Goal Keeper Training Specifics\, please click here.
URL:https://basoccer.club/eventt/goal-keeper-training-82525/
LOCATION:Indian Springs Soccer Complex\, 13600 South 145th East Avenue\, Broken Arrow\, OK\, 74011\, United States
CATEGORIES:Training - players
ORGANIZER;CN="Coach":MAILTO:coach@basoccer.club
END:VEVENT
BEGIN:VEVENT
DTSTART;TZID=America/Chicago:20250825T150000
DTEND;TZID=America/Chicago:20250825T150000
DTSTAMP:20260419T205116
CREATED:20230523T211511Z
LAST-MODIFIED:20230523T211841Z
UID:9317-1756134000-1756134000@basoccer.club
SUMMARY:Nominations for Executive Board positions Due by Close of Business: 3rd VP & Secretary
DESCRIPTION:Click the link below for more information.
URL:https://basoccer.club/eventt/nominations-for-executive-board-positions-due-by-close-of-business-3rd-vp-secretary-25/
LOCATION:OK
CATEGORIES:Club Event
ORGANIZER;CN="Info":MAILTO:info@basoccer.club
END:VEVENT
END:VCALENDAR