BEGIN:VCALENDAR
VERSION:2.0
PRODID:-//Broken Arrow Soccer Club - ECPv6.15.20//NONSGML v1.0//EN
CALSCALE:GREGORIAN
METHOD:PUBLISH
X-WR-CALNAME:Broken Arrow Soccer Club
X-ORIGINAL-URL:https://basoccer.club
X-WR-CALDESC:Events for Broken Arrow Soccer Club
REFRESH-INTERVAL;VALUE=DURATION:PT1H
X-Robots-Tag:noindex
X-PUBLISHED-TTL:PT1H
BEGIN:VTIMEZONE
TZID:America/Chicago
BEGIN:DAYLIGHT
TZOFFSETFROM:-0600
TZOFFSETTO:-0500
TZNAME:CDT
DTSTART:20210314T080000
END:DAYLIGHT
BEGIN:STANDARD
TZOFFSETFROM:-0500
TZOFFSETTO:-0600
TZNAME:CST
DTSTART:20211107T070000
END:STANDARD
BEGIN:DAYLIGHT
TZOFFSETFROM:-0600
TZOFFSETTO:-0500
TZNAME:CDT
DTSTART:20220313T080000
END:DAYLIGHT
BEGIN:STANDARD
TZOFFSETFROM:-0500
TZOFFSETTO:-0600
TZNAME:CST
DTSTART:20221106T070000
END:STANDARD
BEGIN:DAYLIGHT
TZOFFSETFROM:-0600
TZOFFSETTO:-0500
TZNAME:CDT
DTSTART:20230312T080000
END:DAYLIGHT
BEGIN:STANDARD
TZOFFSETFROM:-0500
TZOFFSETTO:-0600
TZNAME:CST
DTSTART:20231105T070000
END:STANDARD
BEGIN:DAYLIGHT
TZOFFSETFROM:-0600
TZOFFSETTO:-0500
TZNAME:CDT
DTSTART:20240310T080000
END:DAYLIGHT
BEGIN:STANDARD
TZOFFSETFROM:-0500
TZOFFSETTO:-0600
TZNAME:CST
DTSTART:20241103T070000
END:STANDARD
END:VTIMEZONE
BEGIN:VEVENT
DTSTART;TZID=America/Chicago:20221101T170000
DTEND;TZID=America/Chicago:20221101T200000
DTSTAMP:20260422T174712
CREATED:20221025T174306Z
LAST-MODIFIED:20221025T174320Z
UID:8138-1667322000-1667332800@basoccer.club
SUMMARY:Goal Keeper Training
DESCRIPTION:For Goal Keeper Training Specifics\, please click here.
URL:https://basoccer.club/eventt/goal-keeper-training-1nov/
LOCATION:Indian Springs Soccer Complex\, 13600 South 145th East Avenue\, Broken Arrow\, OK\, 74011\, United States
CATEGORIES:Training - players
ORGANIZER;CN="Coach":MAILTO:coach@basoccer.club
END:VEVENT
BEGIN:VEVENT
DTSTART;TZID=America/Chicago:20221025T170000
DTEND;TZID=America/Chicago:20221025T200000
DTSTAMP:20260422T174712
CREATED:20220720T233419Z
LAST-MODIFIED:20221025T173726Z
UID:7421-1666717200-1666728000@basoccer.club
SUMMARY:CANCELLED TONIGHT - Goal Keeper Training
DESCRIPTION:For Goal Keeper Training Specifics\, please click here.
URL:https://basoccer.club/eventt/goal-keeper-training-25oct/
LOCATION:Indian Springs Soccer Complex\, 13600 South 145th East Avenue\, Broken Arrow\, OK\, 74011\, United States
CATEGORIES:Training - players
ORGANIZER;CN="Coach":MAILTO:coach@basoccer.club
END:VEVENT
BEGIN:VEVENT
DTSTART;VALUE=DATE:20221024
DTEND;VALUE=DATE:20221025
DTSTAMP:20260422T174712
CREATED:20220629T171107Z
LAST-MODIFIED:20220629T172405Z
UID:7308-1666569600-1666655999@basoccer.club
SUMMARY:Nominations for Executive Board positions Due by Close of Business: Treasurer\, Registrar\, Games Commissioner\, & Head Coach
DESCRIPTION:Click the link below for more information.
URL:https://basoccer.club/eventt/nominations-for-executive-board-positions-due-november/
LOCATION:OK
CATEGORIES:Club Event
ORGANIZER;CN="Info":MAILTO:info@basoccer.club
END:VEVENT
BEGIN:VEVENT
DTSTART;VALUE=DATE:20221020
DTEND;VALUE=DATE:20221024
DTSTAMP:20260422T174712
CREATED:20220629T163059Z
LAST-MODIFIED:20221206T180717Z
UID:7293-1666224000-1666569599@basoccer.club
SUMMARY:Competitive Tournament @ ISSC -- No League Games
DESCRIPTION:
URL:https://basoccer.club/eventt/competitive-tournament-issc/
LOCATION:OK
CATEGORIES:upcoming tournaments
ORGANIZER;CN="Info":MAILTO:info@basoccer.club
END:VEVENT
BEGIN:VEVENT
DTSTART;TZID=America/Chicago:20221018T170000
DTEND;TZID=America/Chicago:20221018T200000
DTSTAMP:20260422T174712
CREATED:20220720T233342Z
LAST-MODIFIED:20220720T233342Z
UID:7419-1666112400-1666123200@basoccer.club
SUMMARY:Goal Keeper Training
DESCRIPTION:For Goal Keeper Training Specifics\, please click here.
URL:https://basoccer.club/eventt/goal-keeper-training-18oct/
LOCATION:Indian Springs Soccer Complex\, 13600 South 145th East Avenue\, Broken Arrow\, OK\, 74011\, United States
CATEGORIES:Training - players
ORGANIZER;CN="Coach":MAILTO:coach@basoccer.club
END:VEVENT
BEGIN:VEVENT
DTSTART;VALUE=DATE:20221017
DTEND;VALUE=DATE:20221018
DTSTAMP:20260422T174712
CREATED:20220922T233100Z
LAST-MODIFIED:20220922T233118Z
UID:7993-1665964800-1666051199@basoccer.club
SUMMARY:DEADLINE: Coach nominations of players for the Frankie Mozingo Player Award Due
DESCRIPTION:Follow the link below for more information.
URL:https://basoccer.club/eventt/deadline-for-coaches-to-nominate-for-frankie-mozingo-player-award-f22/
LOCATION:OK
CATEGORIES:Club Event
ORGANIZER;CN="Coach":MAILTO:coach@basoccer.club
END:VEVENT
BEGIN:VEVENT
DTSTART;VALUE=DATE:20221017
DTEND;VALUE=DATE:20221018
DTSTAMP:20260422T174712
CREATED:20220629T163325Z
LAST-MODIFIED:20220713T145325Z
UID:7295-1665964800-1666051199@basoccer.club
SUMMARY:Registration Deadline: BASC Fall Classic
DESCRIPTION:Click the link below for more information and to register.
URL:https://basoccer.club/eventt/registration-deadline-basc-fall-classic/
LOCATION:Indian Springs Soccer Complex\, 13600 South 145th East Avenue\, Broken Arrow\, OK\, 74011\, United States
CATEGORIES:upcoming tournaments
ORGANIZER;CN="Tournament":MAILTO:tournament@basoccer.club
END:VEVENT
BEGIN:VEVENT
DTSTART;TZID=America/Chicago:20221015T190000
DTEND;TZID=America/Chicago:20221015T210000
DTSTAMP:20260422T174712
CREATED:20221010T142743Z
LAST-MODIFIED:20221010T150137Z
UID:8074-1665860400-1665867600@basoccer.club
SUMMARY:BASC Night @ TU men's soccer
DESCRIPTION:Watch #10 TU take on the Memphis Tigers in men’s soccer! \nGet tickets here.
URL:https://basoccer.club/eventt/basc-night-tu-mens-soccer/
LOCATION:Hurricane Soccer and Track Stadium\, 512 South Delaware Ave\, Tulsa\, OK\, 740104\, United States
ORGANIZER;CN="General":MAILTO:jessica@basoccer.club
END:VEVENT
BEGIN:VEVENT
DTSTART;VALUE=DATE:20221014
DTEND;VALUE=DATE:20230108
DTSTAMP:20260422T174712
CREATED:20221012T190436Z
LAST-MODIFIED:20221012T190436Z
UID:8096-1665705600-1673135999@basoccer.club
SUMMARY:Spring 2023 Recreational Soccer Registration OPEN
DESCRIPTION:Click here for more information and to register. 
URL:https://basoccer.club/eventt/recreational-soccer-registration-open-s23/
LOCATION:OK
CATEGORIES:Registration
ORGANIZER;CN="Info":MAILTO:info@basoccer.club
END:VEVENT
BEGIN:VEVENT
DTSTART;TZID=America/Chicago:20221011T170000
DTEND;TZID=America/Chicago:20221011T200000
DTSTAMP:20260422T174712
CREATED:20220720T233313Z
LAST-MODIFIED:20220720T233313Z
UID:7417-1665507600-1665518400@basoccer.club
SUMMARY:Goal Keeper Training
DESCRIPTION:For Goal Keeper Training Specifics\, please click here.
URL:https://basoccer.club/eventt/goal-keeper-training-11oct/
LOCATION:Indian Springs Soccer Complex\, 13600 South 145th East Avenue\, Broken Arrow\, OK\, 74011\, United States
CATEGORIES:Training - players
ORGANIZER;CN="Coach":MAILTO:coach@basoccer.club
END:VEVENT
BEGIN:VEVENT
DTSTART;TZID=America/Chicago:20221008T180000
DTEND;TZID=America/Chicago:20221008T203000
DTSTAMP:20260422T174712
CREATED:20220721T000016Z
LAST-MODIFIED:20220721T000016Z
UID:7426-1665252000-1665261000@basoccer.club
SUMMARY:Coach/Referee Pick Up Game
DESCRIPTION:Follow the link below for details
URL:https://basoccer.club/eventt/coach-referee-pick-up-game-8oct/
LOCATION:Indian Springs Soccer Complex\, 13600 South 145th East Avenue\, Broken Arrow\, OK\, 74011\, United States
CATEGORIES:Club Event
ORGANIZER;CN="Coach":MAILTO:coach@basoccer.club
END:VEVENT
BEGIN:VEVENT
DTSTART;TZID=America/Chicago:20221004T170000
DTEND;TZID=America/Chicago:20221004T200000
DTSTAMP:20260422T174712
CREATED:20220720T233220Z
LAST-MODIFIED:20220720T233220Z
UID:7415-1664902800-1664913600@basoccer.club
SUMMARY:Goal Keeper Training
DESCRIPTION:For Goal Keeper Training Specifics\, please click here.
URL:https://basoccer.club/eventt/goal-keeper-training-4oct/
LOCATION:Indian Springs Soccer Complex\, 13600 South 145th East Avenue\, Broken Arrow\, OK\, 74011\, United States
CATEGORIES:Training - players
ORGANIZER;CN="Coach":MAILTO:coach@basoccer.club
END:VEVENT
BEGIN:VEVENT
DTSTART;TZID=America/Chicago:20220927T170000
DTEND;TZID=America/Chicago:20220927T200000
DTSTAMP:20260422T174712
CREATED:20220720T233106Z
LAST-MODIFIED:20220720T233106Z
UID:7413-1664298000-1664308800@basoccer.club
SUMMARY:Goal Keeper Training
DESCRIPTION:For Goal Keeper Training Specifics\, please click here.
URL:https://basoccer.club/eventt/goal-keeper-training-27sept/
LOCATION:Indian Springs Soccer Complex\, 13600 South 145th East Avenue\, Broken Arrow\, OK\, 74011\, United States
CATEGORIES:Training - players
ORGANIZER;CN="Coach":MAILTO:coach@basoccer.club
END:VEVENT
BEGIN:VEVENT
DTSTART;TZID=America/Chicago:20220926T183000
DTEND;TZID=America/Chicago:20220926T203000
DTSTAMP:20260422T174712
CREATED:20220915T185032Z
LAST-MODIFIED:20220915T185032Z
UID:7967-1664217000-1664224200@basoccer.club
SUMMARY:Referee Class
DESCRIPTION:For anyone who wants to become a soccer referee. Follow the link below to register online.
URL:https://basoccer.club/eventt/referee-class/
LOCATION:Indian Springs Soccer Complex\, 13600 South 145th East Avenue\, Broken Arrow\, OK\, 74011\, United States
CATEGORIES:Referee
ORGANIZER;CN="Referee":MAILTO:areareferee@basoccer.club
END:VEVENT
BEGIN:VEVENT
DTSTART;TZID=America/Chicago:20220924T180000
DTEND;TZID=America/Chicago:20220924T203000
DTSTAMP:20260422T174712
CREATED:20220720T235847Z
LAST-MODIFIED:20220720T235847Z
UID:7423-1664042400-1664051400@basoccer.club
SUMMARY:Coach/Referee Pick Up Game
DESCRIPTION:Follow the link below for details
URL:https://basoccer.club/eventt/pick-up-game-24sept/
LOCATION:Indian Springs Soccer Complex\, 13600 South 145th East Avenue\, Broken Arrow\, OK\, 74011\, United States
CATEGORIES:Club Event
ORGANIZER;CN="Coach":MAILTO:coach@basoccer.club
END:VEVENT
BEGIN:VEVENT
DTSTART;TZID=America/Chicago:20220920T170000
DTEND;TZID=America/Chicago:20220920T200000
DTSTAMP:20260422T174712
CREATED:20220720T233019Z
LAST-MODIFIED:20220720T233019Z
UID:7411-1663693200-1663704000@basoccer.club
SUMMARY:Goal Keeper Training
DESCRIPTION:For Goal Keeper Training Specifics\, please click here.
URL:https://basoccer.club/eventt/goal-keeper-training-20sept/
LOCATION:Indian Springs Soccer Complex\, 13600 South 145th East Avenue\, Broken Arrow\, OK\, 74011\, United States
CATEGORIES:Training - players
ORGANIZER;CN="Coach":MAILTO:coach@basoccer.club
END:VEVENT
BEGIN:VEVENT
DTSTART;TZID=America/Chicago:20220913T170000
DTEND;TZID=America/Chicago:20220913T200000
DTSTAMP:20260422T174712
CREATED:20220720T232625Z
LAST-MODIFIED:20220720T232944Z
UID:7409-1663088400-1663099200@basoccer.club
SUMMARY:Goal Keeper Training
DESCRIPTION:For Goal Keeper Training Specifics\, please click here.
URL:https://basoccer.club/eventt/goal-keeper-training-13sept/
LOCATION:Indian Springs Soccer Complex\, 13600 South 145th East Avenue\, Broken Arrow\, OK\, 74011\, United States
CATEGORIES:Training - players
ORGANIZER;CN="Coach":MAILTO:coach@basoccer.club
END:VEVENT
BEGIN:VEVENT
DTSTART;VALUE=DATE:20220910
DTEND;VALUE=DATE:20220911
DTSTAMP:20260422T174712
CREATED:20220629T145552Z
LAST-MODIFIED:20220720T214945Z
UID:7264-1662768000-1662854399@basoccer.club
SUMMARY:Rec Open / Rec Select League Season Starts
DESCRIPTION:Click the link below to find your teams league schedule.
URL:https://basoccer.club/eventt/rec-open-rec-select-league-season-starts/
LOCATION:OK
CATEGORIES:Club Event,General
ORGANIZER;CN="General":MAILTO:jessica@basoccer.club
END:VEVENT
BEGIN:VEVENT
DTSTART;VALUE=DATE:20220910
DTEND;VALUE=DATE:20220911
DTSTAMP:20260422T174712
CREATED:20220629T144037Z
LAST-MODIFIED:20220629T145438Z
UID:7262-1662768000-1662854399@basoccer.club
SUMMARY:Closed League Season Starts
DESCRIPTION:Click the link below to find your teams league schedule.
URL:https://basoccer.club/eventt/closed-league-season-starts/
LOCATION:OK
CATEGORIES:Club Event,General
ORGANIZER;CN="General":MAILTO:jessica@basoccer.club
END:VEVENT
BEGIN:VEVENT
DTSTART;TZID=America/Chicago:20220906T170000
DTEND;TZID=America/Chicago:20220906T200000
DTSTAMP:20260422T174712
CREATED:20220720T232407Z
LAST-MODIFIED:20220720T232407Z
UID:7407-1662483600-1662494400@basoccer.club
SUMMARY:Goal Keeper Training
DESCRIPTION:For Goal Keeper Training Specifics\, please click here.
URL:https://basoccer.club/eventt/goal-keeper-training-6sept/
LOCATION:Indian Springs Soccer Complex\, 13600 South 145th East Avenue\, Broken Arrow\, OK\, 74011\, United States
CATEGORIES:Training - players
ORGANIZER;CN="Coach":MAILTO:coach@basoccer.club
END:VEVENT
BEGIN:VEVENT
DTSTART;VALUE=DATE:20220905
DTEND;VALUE=DATE:20220906
DTSTAMP:20260422T174712
CREATED:20220905T160134Z
LAST-MODIFIED:20220413T174501Z
UID:6648-1662336000-1662422399@basoccer.club
SUMMARY:Office Closed - Labor Day Holiday
DESCRIPTION:
URL:https://basoccer.club/eventt/office-closed-labor-day-holiday/
LOCATION:Indian Springs Soccer Complex\, 13600 South 145th East Avenue\, Broken Arrow\, OK\, 74011\, United States
CATEGORIES:Office Closed
ORGANIZER;CN="Info":MAILTO:info@basoccer.club
END:VEVENT
BEGIN:VEVENT
DTSTART;VALUE=DATE:20220903
DTEND;VALUE=DATE:20220904
DTSTAMP:20260422T174712
CREATED:20220620T205848Z
LAST-MODIFIED:20220620T205955Z
UID:7120-1662163200-1662249599@basoccer.club
SUMMARY:Open Goaaal! Labor Day Kick-Off Classic
DESCRIPTION:Click the link below for tournament info.
URL:https://basoccer.club/eventt/open-goaaal-labor-day-kick-off-classic/
LOCATION:Indian Springs Soccer Complex\, 13600 South 145th East Avenue\, Broken Arrow\, OK\, 74011\, United States
CATEGORIES:upcoming tournaments
ORGANIZER;CN="Tournament":MAILTO:tournament@basoccer.club
END:VEVENT
BEGIN:VEVENT
DTSTART;TZID=America/Chicago:20220901T193000
DTEND;TZID=America/Chicago:20220901T203000
DTSTAMP:20260422T174712
CREATED:20220629T165639Z
LAST-MODIFIED:20220629T165639Z
UID:7297-1662060600-1662064200@basoccer.club
SUMMARY:General Membership Meeting
DESCRIPTION:Follow the link below for more information.
URL:https://basoccer.club/eventt/general-membership-meeting-sept/
LOCATION:Central Park Community Center\, 1500 South Main Street\, Broken Arrow\, OK\, 74012\, United States
CATEGORIES:Club Event
ORGANIZER;CN="Info":MAILTO:info@basoccer.club
END:VEVENT
BEGIN:VEVENT
DTSTART;TZID=America/Chicago:20220831T180000
DTEND;TZID=America/Chicago:20220831T200000
DTSTAMP:20260422T174712
CREATED:20220829T154207Z
LAST-MODIFIED:20220829T154207Z
UID:7820-1661968800-1661976000@basoccer.club
SUMMARY:Referee Recertification Class
DESCRIPTION:For anyone who is currently a referee and would like to continue reffing. Follow the link below for details. \n 
URL:https://basoccer.club/eventt/referee-recertification-class/
LOCATION:Indian Springs Soccer Complex\, 13600 South 145th East Avenue\, Broken Arrow\, OK\, 74011\, United States
CATEGORIES:Referee
ORGANIZER;CN="Referee":MAILTO:areareferee@basoccer.club
END:VEVENT
BEGIN:VEVENT
DTSTART;TZID=America/Chicago:20220830T170000
DTEND;TZID=America/Chicago:20220830T200000
DTSTAMP:20260422T174712
CREATED:20220720T232316Z
LAST-MODIFIED:20220720T232316Z
UID:7405-1661878800-1661889600@basoccer.club
SUMMARY:Goal Keeper Training
DESCRIPTION:For Goal Keeper Training Specifics\, please click here.
URL:https://basoccer.club/eventt/goal-keeper-training-30aug/
LOCATION:Indian Springs Soccer Complex\, 13600 South 145th East Avenue\, Broken Arrow\, OK\, 74011\, United States
CATEGORIES:Training - players
ORGANIZER;CN="Coach":MAILTO:coach@basoccer.club
END:VEVENT
BEGIN:VEVENT
DTSTART;VALUE=DATE:20220827
DTEND;VALUE=DATE:20220828
DTSTAMP:20260422T174712
CREATED:20220705T172920Z
LAST-MODIFIED:20220705T172920Z
UID:7331-1661558400-1661644799@basoccer.club
SUMMARY:OPL Season Start
DESCRIPTION:
URL:https://basoccer.club/eventt/opl-season-start/
LOCATION:OK
CATEGORIES:BA Express
ORGANIZER;CN="BA Express":MAILTO:competitiveheadcoach@basoccer.club
END:VEVENT
BEGIN:VEVENT
DTSTART;VALUE=DATE:20220826
DTEND;VALUE=DATE:20220830
DTSTAMP:20260422T174712
CREATED:20220629T174936Z
LAST-MODIFIED:20220629T184147Z
UID:7315-1661472000-1661817599@basoccer.club
SUMMARY:BASC Shop Days @ Dick's Sporting Goods
DESCRIPTION:Click the link below for more information and to get your 20% discount coupon.
URL:https://basoccer.club/eventt/basc-shop-days-dicks-sporting-goods-2/
LOCATION:Dick’s Sporting Goods\, 1620 East Hillside Drive\, Broken Arrow\, OK\, 74012\, United States
CATEGORIES:Club Event
ORGANIZER;CN="General":MAILTO:jessica@basoccer.club
END:VEVENT
BEGIN:VEVENT
DTSTART;TZID=America/Chicago:20220823T170000
DTEND;TZID=America/Chicago:20220823T200000
DTSTAMP:20260422T174712
CREATED:20220720T231747Z
LAST-MODIFIED:20220720T231747Z
UID:7403-1661274000-1661284800@basoccer.club
SUMMARY:Goal Keeper Training
DESCRIPTION:For Goal Keeper Training Specifics\, please click here.
URL:https://basoccer.club/eventt/goal-keeper-training-23aug/
LOCATION:Indian Springs Soccer Complex\, 13600 South 145th East Avenue\, Broken Arrow\, OK\, 74011\, United States
CATEGORIES:Training - players
ORGANIZER;CN="Coach":MAILTO:coach@basoccer.club
END:VEVENT
BEGIN:VEVENT
DTSTART;VALUE=DATE:20220822
DTEND;VALUE=DATE:20220823
DTSTAMP:20260422T174712
CREATED:20220629T170939Z
LAST-MODIFIED:20220629T172427Z
UID:7306-1661126400-1661212799@basoccer.club
SUMMARY:Nominations for Executive Board positions Due by Close of Business: 3rd VP & Secretary
DESCRIPTION:Click the link below for more information.
URL:https://basoccer.club/eventt/nominations-for-executive-board-positions-due-by-close-of-business-3rd-vp-secretary/
LOCATION:OK
CATEGORIES:Club Event
ORGANIZER;CN="Info":MAILTO:info@basoccer.club
END:VEVENT
BEGIN:VEVENT
DTSTART;TZID=America/Chicago:20220818T074500
DTEND;TZID=America/Chicago:20220818T210000
DTSTAMP:20260422T174712
CREATED:20220726T181022Z
LAST-MODIFIED:20220726T181022Z
UID:7469-1660808700-1660856400@basoccer.club
SUMMARY:11v11 Grassroots Field Session @ ISSC
DESCRIPTION:Follow the link below for details and to register.
URL:https://basoccer.club/eventt/11v11-grassroots-field-session-issc-18aug/
LOCATION:Indian Springs Soccer Complex\, 13600 South 145th East Avenue\, Broken Arrow\, OK\, 74011\, United States
CATEGORIES:Training - Coach/Manager
ORGANIZER;CN="Coach":MAILTO:coach@basoccer.club
END:VEVENT
END:VCALENDAR