BEGIN:VCALENDAR
VERSION:2.0
PRODID:-//Broken Arrow Soccer Club - ECPv6.15.20//NONSGML v1.0//EN
CALSCALE:GREGORIAN
METHOD:PUBLISH
X-WR-CALNAME:Broken Arrow Soccer Club
X-ORIGINAL-URL:https://basoccer.club
X-WR-CALDESC:Events for Broken Arrow Soccer Club
REFRESH-INTERVAL;VALUE=DURATION:PT1H
X-Robots-Tag:noindex
X-PUBLISHED-TTL:PT1H
BEGIN:VTIMEZONE
TZID:America/Chicago
BEGIN:DAYLIGHT
TZOFFSETFROM:-0600
TZOFFSETTO:-0500
TZNAME:CDT
DTSTART:20240310T080000
END:DAYLIGHT
BEGIN:STANDARD
TZOFFSETFROM:-0500
TZOFFSETTO:-0600
TZNAME:CST
DTSTART:20241103T070000
END:STANDARD
BEGIN:DAYLIGHT
TZOFFSETFROM:-0600
TZOFFSETTO:-0500
TZNAME:CDT
DTSTART:20250309T080000
END:DAYLIGHT
BEGIN:STANDARD
TZOFFSETFROM:-0500
TZOFFSETTO:-0600
TZNAME:CST
DTSTART:20251102T070000
END:STANDARD
BEGIN:DAYLIGHT
TZOFFSETFROM:-0600
TZOFFSETTO:-0500
TZNAME:CDT
DTSTART:20260308T080000
END:DAYLIGHT
BEGIN:STANDARD
TZOFFSETFROM:-0500
TZOFFSETTO:-0600
TZNAME:CST
DTSTART:20261101T070000
END:STANDARD
BEGIN:DAYLIGHT
TZOFFSETFROM:-0600
TZOFFSETTO:-0500
TZNAME:CDT
DTSTART:20270314T080000
END:DAYLIGHT
BEGIN:STANDARD
TZOFFSETFROM:-0500
TZOFFSETTO:-0600
TZNAME:CST
DTSTART:20271107T070000
END:STANDARD
END:VTIMEZONE
BEGIN:VEVENT
DTSTART;TZID=America/Chicago:20260207T080000
DTEND;TZID=America/Chicago:20260207T120000
DTSTAMP:20260419T204052
CREATED:20260106T203214Z
LAST-MODIFIED:20260207T194026Z
UID:13107-1770451200-1770465600@basoccer.club
SUMMARY:Field Day
DESCRIPTION:Get more information at the link below. \n  \n 
URL:https://basoccer.club/eventt/field-day-s26/
LOCATION:Indian Springs Soccer Complex\, 13600 South 145th East Avenue\, Broken Arrow\, OK\, 74011\, United States
CATEGORIES:Club Event
ORGANIZER;CN="Complex Manager":MAILTO:complexmanager@basoccer.club
END:VEVENT
BEGIN:VEVENT
DTSTART;TZID=America/Chicago:20260202T183000
DTEND;TZID=America/Chicago:20260202T203000
DTSTAMP:20260419T204052
CREATED:20260106T191003Z
LAST-MODIFIED:20260121T164653Z
UID:13106-1770057000-1770064200@basoccer.club
SUMMARY:Coach Meeting - Mandatory for ALL BASC Coaches
DESCRIPTION:Click website link below for details.
URL:https://basoccer.club/eventt/coach-meeting-mandatory-for-all-basc-coaches/
LOCATION:Hilton Garden Inn\, 420 W Albany St.\, Broken Arrrow\, OK\, United States
CATEGORIES:Club Event,Training - Coach/Manager
ORGANIZER;CN="Coach":MAILTO:coach@basoccer.club
END:VEVENT
BEGIN:VEVENT
DTSTART;TZID=America/Chicago:20260130T170000
DTEND;TZID=America/Chicago:20260130T170000
DTSTAMP:20260419T204052
CREATED:20260106T191037Z
LAST-MODIFIED:20260129T034718Z
UID:13105-1769792400-1769792400@basoccer.club
SUMMARY:Practice Field Requests Due by 5pm
DESCRIPTION:Practice Field Locations \nRequest Your Practice Field
URL:https://basoccer.club/eventt/practice-field-requests-due-by-5pm-2/
LOCATION:OK
CATEGORIES:General
ORGANIZER;CN="Practice Fields":MAILTO:practicefield@basoccer.club
END:VEVENT
BEGIN:VEVENT
DTSTART;VALUE=DATE:20260130
DTEND;VALUE=DATE:20260203
DTSTAMP:20260419T204052
CREATED:20251215T174426Z
LAST-MODIFIED:20251215T174455Z
UID:13112-1769731200-1770076799@basoccer.club
SUMMARY:BASC Shop Days @ Dick's Sporting Goods
DESCRIPTION:Click the link below for more information and to get your 20% discount coupon.
URL:https://basoccer.club/eventt/basc-shop-days-dicks-sporting-goods-126/
LOCATION:Dick’s Sporting Goods\, 1620 East Hillside Drive\, Broken Arrow\, OK\, 74012\, United States
CATEGORIES:Club Event
ORGANIZER;CN="General":MAILTO:jessica@basoccer.club
END:VEVENT
BEGIN:VEVENT
DTSTART;VALUE=DATE:20260119
DTEND;VALUE=DATE:20260212
DTSTAMP:20260419T204052
CREATED:20260127T172355Z
LAST-MODIFIED:20260127T173059Z
UID:13604-1768780800-1770854399@basoccer.club
SUMMARY:Director of Coaching (DOC) Position - Accepting Applications
DESCRIPTION:Accepting Applications through February 11\, 2026 \nGet specifications and apply here.
URL:https://basoccer.club/eventt/director-of-coaching-position-accepting-applications/
LOCATION:OK
ORGANIZER;CN="General":MAILTO:jessica@basoccer.club
END:VEVENT
BEGIN:VEVENT
DTSTART;VALUE=DATE:20260117
DTEND;VALUE=DATE:20260118
DTSTAMP:20260419T204052
CREATED:20251016T212158Z
LAST-MODIFIED:20251016T212158Z
UID:13100-1768608000-1768694399@basoccer.club
SUMMARY:BASC Spring 2026 Registration Closes
DESCRIPTION:Follow the link below to register your Soccer Player!
URL:https://basoccer.club/eventt/basc-spring-2026-registration-closes/
LOCATION:OK
CATEGORIES:Registration
ORGANIZER;CN="Registrar":MAILTO:registration@basoccer.club
END:VEVENT
BEGIN:VEVENT
DTSTART;VALUE=DATE:20260116
DTEND;VALUE=DATE:20260117
DTSTAMP:20260419T204052
CREATED:20251016T210854Z
LAST-MODIFIED:20251016T210913Z
UID:13099-1768521600-1768607999@basoccer.club
SUMMARY:Rec Select Rosters Due
DESCRIPTION:Get your Rec Select Roster at the link below. \nEmail your fully filled out Rec Select Roster to the Registrar at: registration@basoccer.club
URL:https://basoccer.club/eventt/rec-select-rosters-due-s26/
LOCATION:OK
CATEGORIES:Registration
ORGANIZER;CN="Registrar":MAILTO:registration@basoccer.club
END:VEVENT
BEGIN:VEVENT
DTSTART;VALUE=DATE:20260112
DTEND;VALUE=DATE:20260115
DTSTAMP:20260419T204052
CREATED:20251016T212526Z
LAST-MODIFIED:20251016T212526Z
UID:13119-1768176000-1768435199@basoccer.club
SUMMARY:Financial Aid Vouchers Distributed
DESCRIPTION:
URL:https://basoccer.club/eventt/financial-aid-vouchers-distributed-s26/
LOCATION:OK
ORGANIZER;CN="General":MAILTO:jessica@basoccer.club
END:VEVENT
BEGIN:VEVENT
DTSTART;VALUE=DATE:20260109
DTEND;VALUE=DATE:20260110
DTSTAMP:20260419T204052
CREATED:20251016T210807Z
LAST-MODIFIED:20251016T210807Z
UID:13098-1767916800-1768003199@basoccer.club
SUMMARY:DEADLINE: Financial Aid Applications for spring 2026 Season
DESCRIPTION:Follow the link below to learn more and apply.
URL:https://basoccer.club/eventt/deadline-financial-aid-applications-for-spring-2026-season/
LOCATION:OK
CATEGORIES:General,Registration
ORGANIZER;CN="General":MAILTO:jessica@basoccer.club
END:VEVENT
BEGIN:VEVENT
DTSTART;VALUE=DATE:20260101
DTEND;VALUE=DATE:20260102
DTSTAMP:20260419T204052
CREATED:20230523T210807Z
LAST-MODIFIED:20230523T210807Z
UID:9311-1767225600-1767311999@basoccer.club
SUMMARY:Office Closed - New Year Holiday
DESCRIPTION:
URL:https://basoccer.club/eventt/office-closed-new-year-holiday-26/
LOCATION:Indian Springs Soccer Complex\, 13600 South 145th East Avenue\, Broken Arrow\, OK\, 74011\, United States
CATEGORIES:Office Closed
ORGANIZER;CN="Info":MAILTO:info@basoccer.club
END:VEVENT
BEGIN:VEVENT
DTSTART;VALUE=DATE:20251226
DTEND;VALUE=DATE:20251227
DTSTAMP:20260419T204052
CREATED:20250112T194506Z
LAST-MODIFIED:20250112T194506Z
UID:11852-1766707200-1766793599@basoccer.club
SUMMARY:BASC Office Winter Hours in Effect - Closed Friday's in December
DESCRIPTION:Follow the link below for more information.
URL:https://basoccer.club/eventt/basc-office-winter-hours-in-effect-closed-fridays-in-december-122625/
LOCATION:Indian Springs Soccer Complex\, 13600 South 145th East Avenue\, Broken Arrow\, OK\, 74011\, United States
CATEGORIES:General
ORGANIZER;CN="Info":MAILTO:info@basoccer.club
END:VEVENT
BEGIN:VEVENT
DTSTART;VALUE=DATE:20251219
DTEND;VALUE=DATE:20251220
DTSTAMP:20260419T204052
CREATED:20250112T194446Z
LAST-MODIFIED:20250112T194446Z
UID:11850-1766102400-1766188799@basoccer.club
SUMMARY:BASC Office Winter Hours in Effect - Closed Friday's in December
DESCRIPTION:Follow the link below for more information.
URL:https://basoccer.club/eventt/basc-office-winter-hours-in-effect-closed-fridays-in-december-121925/
LOCATION:Indian Springs Soccer Complex\, 13600 South 145th East Avenue\, Broken Arrow\, OK\, 74011\, United States
CATEGORIES:General
ORGANIZER;CN="Info":MAILTO:info@basoccer.club
END:VEVENT
BEGIN:VEVENT
DTSTART;TZID=America/Chicago:20251216T190000
DTEND;TZID=America/Chicago:20251216T200000
DTSTAMP:20260419T204052
CREATED:20250919T200706Z
LAST-MODIFIED:20251126T040920Z
UID:13017-1765911600-1765915200@basoccer.club
SUMMARY:BASC Fall Awards Ceremony
DESCRIPTION:The Fall 2025 Awards ceremony for U9 – U19 League winners. Click below for details. \nWinning coaches will be notified in late November / early December with details.
URL:https://basoccer.club/eventt/basc-fall-awards-ceremony-f25/
LOCATION:Ridge Christian Church\, 4010 W New Orleans St\,\, Broken Arrow\, OK\, 74011\, United States
CATEGORIES:Club Event
ORGANIZER;CN="General":MAILTO:jessica@basoccer.club
END:VEVENT
BEGIN:VEVENT
DTSTART;VALUE=DATE:20251212
DTEND;VALUE=DATE:20251213
DTSTAMP:20260419T204052
CREATED:20250112T194425Z
LAST-MODIFIED:20250112T194425Z
UID:11848-1765497600-1765583999@basoccer.club
SUMMARY:BASC Office Winter Hours in Effect - Closed Friday's in December
DESCRIPTION:Follow the link below for more information.
URL:https://basoccer.club/eventt/basc-office-winter-hours-in-effect-closed-fridays-in-december-121225/
LOCATION:Indian Springs Soccer Complex\, 13600 South 145th East Avenue\, Broken Arrow\, OK\, 74011\, United States
CATEGORIES:General
ORGANIZER;CN="Info":MAILTO:info@basoccer.club
END:VEVENT
BEGIN:VEVENT
DTSTART;VALUE=DATE:20251205
DTEND;VALUE=DATE:20251206
DTSTAMP:20260419T204052
CREATED:20250112T194407Z
LAST-MODIFIED:20250112T194407Z
UID:11846-1764892800-1764979199@basoccer.club
SUMMARY:BASC Office Winter Hours in Effect - Closed Friday's in December
DESCRIPTION:Follow the link below for more information.
URL:https://basoccer.club/eventt/basc-office-winter-hours-in-effect-closed-fridays-in-december-12525/
LOCATION:Indian Springs Soccer Complex\, 13600 South 145th East Avenue\, Broken Arrow\, OK\, 74011\, United States
CATEGORIES:General
ORGANIZER;CN="Info":MAILTO:info@basoccer.club
END:VEVENT
BEGIN:VEVENT
DTSTART;VALUE=DATE:20251130
DTEND;VALUE=DATE:20251201
DTSTAMP:20260419T204052
CREATED:20250721T182132Z
LAST-MODIFIED:20250721T182132Z
UID:12629-1764460800-1764547199@basoccer.club
SUMMARY:Rec Open / Rec Select League - Last Day for ALL League Games
DESCRIPTION:Click the link below to find your teams league schedule.
URL:https://basoccer.club/eventt/rec-open-rec-select-league-last-day-for-regularly-scheduled-league-games-f25/
LOCATION:OK
CATEGORIES:Club Event,General
ORGANIZER;CN="General":MAILTO:jessica@basoccer.club
END:VEVENT
BEGIN:VEVENT
DTSTART;TZID=America/Chicago:20251113T180000
DTEND;TZID=America/Chicago:20251116T200000
DTSTAMP:20260419T204052
CREATED:20221206T175340Z
LAST-MODIFIED:20250715T011931Z
UID:8277-1763056800-1763323200@basoccer.club
SUMMARY:BASC Fall Classic
DESCRIPTION:Follow the link below for more information and to register. \nSchedule
URL:https://basoccer.club/eventt/basc-fall-classic-25/
LOCATION:OK
CATEGORIES:upcoming tournaments
ORGANIZER;CN="Tournament":MAILTO:tournament@basoccer.club
END:VEVENT
BEGIN:VEVENT
DTSTART;VALUE=DATE:20251109
DTEND;VALUE=DATE:20251110
DTSTAMP:20260419T204052
CREATED:20250721T183446Z
LAST-MODIFIED:20250721T183446Z
UID:12628-1762646400-1762732799@basoccer.club
SUMMARY:Closed League - Last Day for Regularly Scheduled League Games
DESCRIPTION:Click the link below to find your teams league schedule.
URL:https://basoccer.club/eventt/closed-league-last-day-for-regularly-scheduled-league-games-f25/
LOCATION:OK
CATEGORIES:Club Event,General
ORGANIZER;CN="General":MAILTO:jessica@basoccer.club
END:VEVENT
BEGIN:VEVENT
DTSTART;TZID=America/Chicago:20251106T193000
DTEND;TZID=America/Chicago:20251106T203000
DTSTAMP:20260419T204052
CREATED:20230523T204756Z
LAST-MODIFIED:20251002T211802Z
UID:9303-1762457400-1762461000@basoccer.club
SUMMARY:General Membership Meeting
DESCRIPTION:Follow the link below for more information.
URL:https://basoccer.club/eventt/general-membership-meeting-1125/
LOCATION:The Student Center @ Northside Christian Church\, 1221 N Elm Place\, Broken Arrow\, 74012\, United States
CATEGORIES:Club Event
ORGANIZER;CN="Info":MAILTO:info@basoccer.club
END:VEVENT
BEGIN:VEVENT
DTSTART;TZID=America/Chicago:20251103T180000
DTEND;TZID=America/Chicago:20251103T200000
DTSTAMP:20260419T204052
CREATED:20250723T155015Z
LAST-MODIFIED:20250723T155015Z
UID:12689-1762192800-1762200000@basoccer.club
SUMMARY:Goal Keeper Training
DESCRIPTION:For Goal Keeper Training Specifics\, please click here.
URL:https://basoccer.club/eventt/goal-keeper-training-11325/
LOCATION:Indian Springs Soccer Complex\, 13600 South 145th East Avenue\, Broken Arrow\, OK\, 74011\, United States
CATEGORIES:Training - players
ORGANIZER;CN="Coach":MAILTO:coach@basoccer.club
END:VEVENT
BEGIN:VEVENT
DTSTART;VALUE=DATE:20251103
DTEND;VALUE=DATE:20251110
DTSTAMP:20260419T204052
CREATED:20251009T175436Z
LAST-MODIFIED:20251009T184515Z
UID:13080-1762128000-1762732799@basoccer.club
SUMMARY:BASC Spirit Week @ Nothing Bundt Cakes
DESCRIPTION:Get details here.
URL:https://basoccer.club/eventt/basc-spirit-week-nothing-bundt-cakes/
LOCATION:Nothing Bundt Cakes – BA\, 1228 E Hillside Drive\, Broken Arrow\, OK\, 74012\, United States
CATEGORIES:Club Event
ORGANIZER;CN="Event":MAILTO:jdickerson@basoccer.club
END:VEVENT
BEGIN:VEVENT
DTSTART;TZID=America/Chicago:20251101T170000
DTEND;TZID=America/Chicago:20251101T190000
DTSTAMP:20260419T204052
CREATED:20250723T190052Z
LAST-MODIFIED:20250723T202419Z
UID:12706-1762016400-1762023600@basoccer.club
SUMMARY:Coach\, Manager\, & Referee Pickup Soccer Match
DESCRIPTION:Follow the link below for details
URL:https://basoccer.club/eventt/coach-manager-vs-referee-soccer-match-f25/
LOCATION:Indian Springs Soccer Complex\, 13600 South 145th East Avenue\, Broken Arrow\, OK\, 74011\, United States
CATEGORIES:Club Event
ORGANIZER;CN="Coach":MAILTO:coach@basoccer.club
END:VEVENT
BEGIN:VEVENT
DTSTART;TZID=America/Chicago:20251027T180000
DTEND;TZID=America/Chicago:20251027T200000
DTSTAMP:20260419T204052
CREATED:20250723T154939Z
LAST-MODIFIED:20250723T154939Z
UID:12687-1761588000-1761595200@basoccer.club
SUMMARY:Goal Keeper Training
DESCRIPTION:For Goal Keeper Training Specifics\, please click here.
URL:https://basoccer.club/eventt/goal-keeper-training-102725/
LOCATION:Indian Springs Soccer Complex\, 13600 South 145th East Avenue\, Broken Arrow\, OK\, 74011\, United States
CATEGORIES:Training - players
ORGANIZER;CN="Coach":MAILTO:coach@basoccer.club
END:VEVENT
BEGIN:VEVENT
DTSTART;TZID=America/Chicago:20251027T150000
DTEND;TZID=America/Chicago:20251027T150000
DTSTAMP:20260419T204052
CREATED:20230523T212109Z
LAST-MODIFIED:20230523T212442Z
UID:9321-1761577200-1761577200@basoccer.club
SUMMARY:Nominations for Executive Board positions Due by Close of Business: Treasurer\, Registrar\, Games Commissioner\, & Head Coach
DESCRIPTION:Click the link below for more information.
URL:https://basoccer.club/eventt/nominations-for-executive-board-positions-due-by-close-of-business-treasurer-registrar-games-commissioner-head-coach-1125/
LOCATION:OK
CATEGORIES:Club Event
ORGANIZER;CN="Info":MAILTO:info@basoccer.club
END:VEVENT
BEGIN:VEVENT
DTSTART;TZID=America/Chicago:20251025T190000
DTEND;TZID=America/Chicago:20251025T220000
DTSTAMP:20260419T204052
CREATED:20250910T214234Z
LAST-MODIFIED:20250910T214420Z
UID:12997-1761418800-1761429600@basoccer.club
SUMMARY:BASC Night @ FC Tulsa
DESCRIPTION:Join BASC tonight and watch FC Tulsa take on the Colorado Springs Switchbacks! \nGet tickets here.
URL:https://basoccer.club/eventt/basc-night-fc-tulsa-f25/
LOCATION:ONEOK Field\, 201 N Elgin Ave\, Tulsa\, 74120\, United States
ORGANIZER;CN="Event":MAILTO:jdickerson@basoccer.club
END:VEVENT
BEGIN:VEVENT
DTSTART;VALUE=DATE:20251023
DTEND;VALUE=DATE:20251027
DTSTAMP:20260419T204052
CREATED:20250721T184641Z
LAST-MODIFIED:20250721T184641Z
UID:12658-1761177600-1761523199@basoccer.club
SUMMARY:Competitive Tournament @ ISSC - No League Games
DESCRIPTION:
URL:https://basoccer.club/eventt/competitive-tournament-issc-no-league-games-f25/
LOCATION:Indian Springs Soccer Complex\, 13600 South 145th East Avenue\, Broken Arrow\, OK\, 74011\, United States
CATEGORIES:upcoming tournaments
ORGANIZER;CN="Info":MAILTO:info@basoccer.club
END:VEVENT
BEGIN:VEVENT
DTSTART;TZID=America/Chicago:20251020T180000
DTEND;TZID=America/Chicago:20251020T200000
DTSTAMP:20260419T204052
CREATED:20250723T154850Z
LAST-MODIFIED:20250723T154904Z
UID:12685-1760983200-1760990400@basoccer.club
SUMMARY:Goal Keeper Training
DESCRIPTION:For Goal Keeper Training Specifics\, please click here.
URL:https://basoccer.club/eventt/goal-keeper-training-102025/
LOCATION:Indian Springs Soccer Complex\, 13600 South 145th East Avenue\, Broken Arrow\, OK\, 74011\, United States
CATEGORIES:Training - players
ORGANIZER;CN="Coach":MAILTO:coach@basoccer.club
END:VEVENT
BEGIN:VEVENT
DTSTART;VALUE=DATE:20251019
DTEND;VALUE=DATE:20251020
DTSTAMP:20260419T204052
CREATED:20250721T184310Z
LAST-MODIFIED:20250721T184310Z
UID:12636-1760832000-1760918399@basoccer.club
SUMMARY:Registration Deadline: BASC Fall Classic
DESCRIPTION:Click the link below for more information and to register.
URL:https://basoccer.club/eventt/registration-deadline-basc-fall-classic-2/
LOCATION:Indian Springs Soccer Complex\, 13600 South 145th East Avenue\, Broken Arrow\, OK\, 74011\, United States
CATEGORIES:upcoming tournaments
ORGANIZER;CN="Tournament":MAILTO:tournament@basoccer.club
END:VEVENT
BEGIN:VEVENT
DTSTART;TZID=America/Chicago:20251017T000000
DTEND;TZID=America/Chicago:20260117T235900
DTSTAMP:20260419T204052
CREATED:20251016T210642Z
LAST-MODIFIED:20251016T235259Z
UID:12631-1760659200-1768694340@basoccer.club
SUMMARY:Spring 2026 Recreational Soccer Registration OPEN
DESCRIPTION:Click here for more information and to register. 
URL:https://basoccer.club/eventt/spring-2026-recreational-soccer-registration-open/
LOCATION:OK
CATEGORIES:Registration
ORGANIZER;CN="Registrar":MAILTO:registration@basoccer.club
END:VEVENT
BEGIN:VEVENT
DTSTART;TZID=America/Chicago:20251013T180000
DTEND;TZID=America/Chicago:20251013T200000
DTSTAMP:20260419T204052
CREATED:20250723T154816Z
LAST-MODIFIED:20250723T154816Z
UID:12683-1760378400-1760385600@basoccer.club
SUMMARY:Goal Keeper Training
DESCRIPTION:For Goal Keeper Training Specifics\, please click here.
URL:https://basoccer.club/eventt/goal-keeper-training-101325/
LOCATION:Indian Springs Soccer Complex\, 13600 South 145th East Avenue\, Broken Arrow\, OK\, 74011\, United States
CATEGORIES:Training - players
ORGANIZER;CN="Coach":MAILTO:coach@basoccer.club
END:VEVENT
END:VCALENDAR