BEGIN:VCALENDAR
VERSION:2.0
PRODID:-//Broken Arrow Soccer Club - ECPv6.15.20//NONSGML v1.0//EN
CALSCALE:GREGORIAN
METHOD:PUBLISH
X-WR-CALNAME:Broken Arrow Soccer Club
X-ORIGINAL-URL:https://basoccer.club
X-WR-CALDESC:Events for Broken Arrow Soccer Club
REFRESH-INTERVAL;VALUE=DURATION:PT1H
X-Robots-Tag:noindex
X-PUBLISHED-TTL:PT1H
BEGIN:VTIMEZONE
TZID:America/Chicago
BEGIN:DAYLIGHT
TZOFFSETFROM:-0600
TZOFFSETTO:-0500
TZNAME:CDT
DTSTART:20210314T080000
END:DAYLIGHT
BEGIN:STANDARD
TZOFFSETFROM:-0500
TZOFFSETTO:-0600
TZNAME:CST
DTSTART:20211107T070000
END:STANDARD
BEGIN:DAYLIGHT
TZOFFSETFROM:-0600
TZOFFSETTO:-0500
TZNAME:CDT
DTSTART:20220313T080000
END:DAYLIGHT
BEGIN:STANDARD
TZOFFSETFROM:-0500
TZOFFSETTO:-0600
TZNAME:CST
DTSTART:20221106T070000
END:STANDARD
BEGIN:DAYLIGHT
TZOFFSETFROM:-0600
TZOFFSETTO:-0500
TZNAME:CDT
DTSTART:20230312T080000
END:DAYLIGHT
BEGIN:STANDARD
TZOFFSETFROM:-0500
TZOFFSETTO:-0600
TZNAME:CST
DTSTART:20231105T070000
END:STANDARD
BEGIN:DAYLIGHT
TZOFFSETFROM:-0600
TZOFFSETTO:-0500
TZNAME:CDT
DTSTART:20240310T080000
END:DAYLIGHT
BEGIN:STANDARD
TZOFFSETFROM:-0500
TZOFFSETTO:-0600
TZNAME:CST
DTSTART:20241103T070000
END:STANDARD
END:VTIMEZONE
BEGIN:VEVENT
DTSTART;VALUE=DATE:20221230
DTEND;VALUE=DATE:20221231
DTSTAMP:20260422T174713
CREATED:20220629T153236Z
LAST-MODIFIED:20220629T153236Z
UID:7281-1672358400-1672444799@basoccer.club
SUMMARY:BASC Office Winter Hours in Effect - Closed Friday's in December
DESCRIPTION:Follow the link below for more information.
URL:https://basoccer.club/eventt/basc-office-winter-hours-in-effect-closed-fridays-in-december-5/
LOCATION:Indian Springs Soccer Complex\, 13600 South 145th East Avenue\, Broken Arrow\, OK\, 74011\, United States
CATEGORIES:General
ORGANIZER;CN="Info":MAILTO:info@basoccer.club
END:VEVENT
BEGIN:VEVENT
DTSTART;VALUE=DATE:20221226
DTEND;VALUE=DATE:20221227
DTSTAMP:20260422T174713
CREATED:20220629T153918Z
LAST-MODIFIED:20220629T153918Z
UID:7285-1672012800-1672099199@basoccer.club
SUMMARY:Office Closed - Christmas Day Holiday
DESCRIPTION:
URL:https://basoccer.club/eventt/office-closed-christmas-day-holiday/
LOCATION:Indian Springs Soccer Complex\, 13600 South 145th East Avenue\, Broken Arrow\, OK\, 74011\, United States
CATEGORIES:Office Closed
ORGANIZER;CN="Info":MAILTO:info@basoccer.club
END:VEVENT
BEGIN:VEVENT
DTSTART;VALUE=DATE:20221223
DTEND;VALUE=DATE:20221224
DTSTAMP:20260422T174713
CREATED:20220629T153159Z
LAST-MODIFIED:20220629T153159Z
UID:7279-1671753600-1671839999@basoccer.club
SUMMARY:BASC Office Winter Hours in Effect - Closed Friday's in December
DESCRIPTION:Follow the link below for more information.
URL:https://basoccer.club/eventt/basc-office-winter-hours-in-effect-closed-fridays-in-december-4/
LOCATION:Indian Springs Soccer Complex\, 13600 South 145th East Avenue\, Broken Arrow\, OK\, 74011\, United States
CATEGORIES:General
ORGANIZER;CN="Info":MAILTO:info@basoccer.club
END:VEVENT
BEGIN:VEVENT
DTSTART;VALUE=DATE:20221222
DTEND;VALUE=DATE:20221223
DTSTAMP:20260422T174713
CREATED:20220629T153831Z
LAST-MODIFIED:20220629T153831Z
UID:7283-1671667200-1671753599@basoccer.club
SUMMARY:Office Closed - Christmas Eve Holiday
DESCRIPTION:
URL:https://basoccer.club/eventt/office-closed-christmas-eve-holiday/
LOCATION:Indian Springs Soccer Complex\, 13600 South 145th East Avenue\, Broken Arrow\, OK\, 74011\, United States
CATEGORIES:Office Closed
ORGANIZER;CN="Info":MAILTO:info@basoccer.club
END:VEVENT
BEGIN:VEVENT
DTSTART;VALUE=DATE:20221216
DTEND;VALUE=DATE:20221217
DTSTAMP:20260422T174713
CREATED:20220629T153138Z
LAST-MODIFIED:20220629T153138Z
UID:7277-1671148800-1671235199@basoccer.club
SUMMARY:BASC Office Winter Hours in Effect - Closed Friday's in December
DESCRIPTION:Follow the link below for more information.
URL:https://basoccer.club/eventt/basc-office-winter-hours-in-effect-closed-fridays-in-december-3/
LOCATION:Indian Springs Soccer Complex\, 13600 South 145th East Avenue\, Broken Arrow\, OK\, 74011\, United States
CATEGORIES:General
ORGANIZER;CN="Info":MAILTO:info@basoccer.club
END:VEVENT
BEGIN:VEVENT
DTSTART;TZID=America/Chicago:20221215T190000
DTEND;TZID=America/Chicago:20221215T200000
DTSTAMP:20260422T174713
CREATED:20220923T180854Z
LAST-MODIFIED:20220923T180901Z
UID:7996-1671130800-1671134400@basoccer.club
SUMMARY:BASC Fall Awards Ceremony
DESCRIPTION:The Fall 2022 Awards ceremony for U9 – U19 League winners. Click below for details. \nWinning coaches will be notified in late November / early December with details.
URL:https://basoccer.club/eventt/basc-fall-awards-ceremony-f22/
LOCATION:Ridge Christian Church\, 4010 W New Orleans St\,\, Broken Arrow\, OK\, 74011\, United States
CATEGORIES:Club Event
ORGANIZER;CN="General":MAILTO:jessica@basoccer.club
END:VEVENT
BEGIN:VEVENT
DTSTART;VALUE=DATE:20221209
DTEND;VALUE=DATE:20221210
DTSTAMP:20260422T174713
CREATED:20220629T153118Z
LAST-MODIFIED:20220629T153118Z
UID:7275-1670544000-1670630399@basoccer.club
SUMMARY:BASC Office Winter Hours in Effect - Closed Friday's in December
DESCRIPTION:Follow the link below for more information.
URL:https://basoccer.club/eventt/basc-office-winter-hours-in-effect-closed-fridays-in-december-2/
LOCATION:Indian Springs Soccer Complex\, 13600 South 145th East Avenue\, Broken Arrow\, OK\, 74011\, United States
CATEGORIES:General
ORGANIZER;CN="Info":MAILTO:info@basoccer.club
END:VEVENT
BEGIN:VEVENT
DTSTART;VALUE=DATE:20221202
DTEND;VALUE=DATE:20221203
DTSTAMP:20260422T174713
CREATED:20220629T153021Z
LAST-MODIFIED:20220629T153021Z
UID:7273-1669939200-1670025599@basoccer.club
SUMMARY:BASC Office Winter Hours in Effect - Closed Friday's in December
DESCRIPTION:Follow the link below for more information.
URL:https://basoccer.club/eventt/basc-office-winter-hours-in-effect-closed-fridays-in-december/
LOCATION:Indian Springs Soccer Complex\, 13600 South 145th East Avenue\, Broken Arrow\, OK\, 74011\, United States
CATEGORIES:General
ORGANIZER;CN="Info":MAILTO:info@basoccer.club
END:VEVENT
BEGIN:VEVENT
DTSTART;VALUE=DATE:20221128
DTEND;VALUE=DATE:20221129
DTSTAMP:20260422T174713
CREATED:20221031T004720Z
LAST-MODIFIED:20221031T164508Z
UID:8164-1669593600-1669679999@basoccer.club
SUMMARY:REGISTRATION DEADLINE: Winter Open League
DESCRIPTION:Get more information and/or register for the 2022-23 BASC Winter League at the link below.
URL:https://basoccer.club/eventt/registration-deadline-winter-open-league/
CATEGORIES:General,Registration
END:VEVENT
BEGIN:VEVENT
DTSTART;VALUE=DATE:20221127
DTEND;VALUE=DATE:20221128
DTSTAMP:20260422T174713
CREATED:20220629T150253Z
LAST-MODIFIED:20220720T220603Z
UID:7268-1669507200-1669593599@basoccer.club
SUMMARY:Rec Open / Rec Select League - Final Day for all Rescheduled League Games
DESCRIPTION:Click the link below to find your teams league schedule.
URL:https://basoccer.club/eventt/rec-open-rec-select-league-final-day-for-all-rescheduled-league-games/
CATEGORIES:Club Event,General
ORGANIZER;CN="General":MAILTO:jessica@basoccer.club
END:VEVENT
BEGIN:VEVENT
DTSTART;VALUE=DATE:20221124
DTEND;VALUE=DATE:20221126
DTSTAMP:20260422T174713
CREATED:20220629T152633Z
LAST-MODIFIED:20220629T152822Z
UID:7271-1669248000-1669420799@basoccer.club
SUMMARY:Office Closed - Thanksgiving Holiday
DESCRIPTION:
URL:https://basoccer.club/eventt/office-closed-thanksgiving-holiday/
LOCATION:Indian Springs Soccer Complex\, 13600 South 145th East Avenue\, Broken Arrow\, OK\, 74011\, United States
CATEGORIES:Office Closed
ORGANIZER;CN="Info":MAILTO:info@basoccer.club
END:VEVENT
BEGIN:VEVENT
DTSTART;VALUE=DATE:20221120
DTEND;VALUE=DATE:20221121
DTSTAMP:20260422T174713
CREATED:20220705T173237Z
LAST-MODIFIED:20220705T173237Z
UID:7334-1668902400-1668988799@basoccer.club
SUMMARY:OPL - Last day of regularly scheduled games (U11-U15)
DESCRIPTION:
URL:https://basoccer.club/eventt/opl-season-deadline/
CATEGORIES:BA Express
ORGANIZER;CN="BA Express":MAILTO:competitiveheadcoach@basoccer.club
END:VEVENT
BEGIN:VEVENT
DTSTART;VALUE=DATE:20221113
DTEND;VALUE=DATE:20221114
DTSTAMP:20260422T174713
CREATED:20220629T150148Z
LAST-MODIFIED:20220720T215501Z
UID:7266-1668297600-1668383999@basoccer.club
SUMMARY:Rec Open / Rec Select League - Last Day for Regularly Scheduled League Games
DESCRIPTION:Click the link below to find your teams league schedule.
URL:https://basoccer.club/eventt/rec-open-rec-select-league-last-day-for-regularly-scheduled-league-games/
CATEGORIES:Club Event,General
ORGANIZER;CN="General":MAILTO:jessica@basoccer.club
END:VEVENT
BEGIN:VEVENT
DTSTART;TZID=America/Chicago:20221111T180000
DTEND;TZID=America/Chicago:20221113T200000
DTSTAMP:20260422T174713
CREATED:20220629T161314Z
LAST-MODIFIED:20220629T165328Z
UID:7289-1668189600-1668369600@basoccer.club
SUMMARY:BASC Fall Classic
DESCRIPTION:Follow the link below for more information and to register.
URL:https://basoccer.club/eventt/basc-fall-classic/
CATEGORIES:upcoming tournaments
ORGANIZER;CN="Tournament":MAILTO:tournament@basoccer.club
END:VEVENT
BEGIN:VEVENT
DTSTART;TZID=America/Chicago:20221105T180000
DTEND;TZID=America/Chicago:20221105T203000
DTSTAMP:20260422T174713
CREATED:20220722T141405Z
LAST-MODIFIED:20221011T120552Z
UID:7428-1667671200-1667680200@basoccer.club
SUMMARY:Coach/Referee Pick Up Game
DESCRIPTION:Follow the link below for details
URL:https://basoccer.club/eventt/coach-referee-pick-up-game-5nov/
LOCATION:Indian Springs Soccer Complex\, 13600 South 145th East Avenue\, Broken Arrow\, OK\, 74011\, United States
CATEGORIES:Club Event
ORGANIZER;CN="Coach":MAILTO:coach@basoccer.club
END:VEVENT
BEGIN:VEVENT
DTSTART;TZID=America/Chicago:20221103T193000
DTEND;TZID=America/Chicago:20221103T203000
DTSTAMP:20260422T174713
CREATED:20220629T165801Z
LAST-MODIFIED:20220629T165801Z
UID:7300-1667503800-1667507400@basoccer.club
SUMMARY:General Membership Meeting
DESCRIPTION:Follow the link below for more information.
URL:https://basoccer.club/eventt/general-membership-meeting-nov/
LOCATION:Central Park Community Center\, 1500 South Main Street\, Broken Arrow\, OK\, 74012\, United States
CATEGORIES:Club Event
ORGANIZER;CN="Info":MAILTO:info@basoccer.club
END:VEVENT
BEGIN:VEVENT
DTSTART;TZID=America/Chicago:20221101T170000
DTEND;TZID=America/Chicago:20221101T200000
DTSTAMP:20260422T174713
CREATED:20221025T174306Z
LAST-MODIFIED:20221025T174320Z
UID:8138-1667322000-1667332800@basoccer.club
SUMMARY:Goal Keeper Training
DESCRIPTION:For Goal Keeper Training Specifics\, please click here.
URL:https://basoccer.club/eventt/goal-keeper-training-1nov/
LOCATION:Indian Springs Soccer Complex\, 13600 South 145th East Avenue\, Broken Arrow\, OK\, 74011\, United States
CATEGORIES:Training - players
ORGANIZER;CN="Coach":MAILTO:coach@basoccer.club
END:VEVENT
BEGIN:VEVENT
DTSTART;TZID=America/Chicago:20221025T170000
DTEND;TZID=America/Chicago:20221025T200000
DTSTAMP:20260422T174713
CREATED:20220720T233419Z
LAST-MODIFIED:20221025T173726Z
UID:7421-1666717200-1666728000@basoccer.club
SUMMARY:CANCELLED TONIGHT - Goal Keeper Training
DESCRIPTION:For Goal Keeper Training Specifics\, please click here.
URL:https://basoccer.club/eventt/goal-keeper-training-25oct/
LOCATION:Indian Springs Soccer Complex\, 13600 South 145th East Avenue\, Broken Arrow\, OK\, 74011\, United States
CATEGORIES:Training - players
ORGANIZER;CN="Coach":MAILTO:coach@basoccer.club
END:VEVENT
BEGIN:VEVENT
DTSTART;VALUE=DATE:20221024
DTEND;VALUE=DATE:20221025
DTSTAMP:20260422T174713
CREATED:20220629T171107Z
LAST-MODIFIED:20220629T172405Z
UID:7308-1666569600-1666655999@basoccer.club
SUMMARY:Nominations for Executive Board positions Due by Close of Business: Treasurer\, Registrar\, Games Commissioner\, & Head Coach
DESCRIPTION:Click the link below for more information.
URL:https://basoccer.club/eventt/nominations-for-executive-board-positions-due-november/
CATEGORIES:Club Event
ORGANIZER;CN="Info":MAILTO:info@basoccer.club
END:VEVENT
BEGIN:VEVENT
DTSTART;VALUE=DATE:20221020
DTEND;VALUE=DATE:20221024
DTSTAMP:20260422T174713
CREATED:20220629T163059Z
LAST-MODIFIED:20221206T180717Z
UID:7293-1666224000-1666569599@basoccer.club
SUMMARY:Competitive Tournament @ ISSC -- No League Games
DESCRIPTION:
URL:https://basoccer.club/eventt/competitive-tournament-issc/
CATEGORIES:upcoming tournaments
ORGANIZER;CN="Info":MAILTO:info@basoccer.club
END:VEVENT
BEGIN:VEVENT
DTSTART;TZID=America/Chicago:20221018T170000
DTEND;TZID=America/Chicago:20221018T200000
DTSTAMP:20260422T174713
CREATED:20220720T233342Z
LAST-MODIFIED:20220720T233342Z
UID:7419-1666112400-1666123200@basoccer.club
SUMMARY:Goal Keeper Training
DESCRIPTION:For Goal Keeper Training Specifics\, please click here.
URL:https://basoccer.club/eventt/goal-keeper-training-18oct/
LOCATION:Indian Springs Soccer Complex\, 13600 South 145th East Avenue\, Broken Arrow\, OK\, 74011\, United States
CATEGORIES:Training - players
ORGANIZER;CN="Coach":MAILTO:coach@basoccer.club
END:VEVENT
BEGIN:VEVENT
DTSTART;VALUE=DATE:20221017
DTEND;VALUE=DATE:20221018
DTSTAMP:20260422T174713
CREATED:20220922T233100Z
LAST-MODIFIED:20220922T233118Z
UID:7993-1665964800-1666051199@basoccer.club
SUMMARY:DEADLINE: Coach nominations of players for the Frankie Mozingo Player Award Due
DESCRIPTION:Follow the link below for more information.
URL:https://basoccer.club/eventt/deadline-for-coaches-to-nominate-for-frankie-mozingo-player-award-f22/
CATEGORIES:Club Event
ORGANIZER;CN="Coach":MAILTO:coach@basoccer.club
END:VEVENT
BEGIN:VEVENT
DTSTART;VALUE=DATE:20221017
DTEND;VALUE=DATE:20221018
DTSTAMP:20260422T174713
CREATED:20220629T163325Z
LAST-MODIFIED:20220713T145325Z
UID:7295-1665964800-1666051199@basoccer.club
SUMMARY:Registration Deadline: BASC Fall Classic
DESCRIPTION:Click the link below for more information and to register.
URL:https://basoccer.club/eventt/registration-deadline-basc-fall-classic/
LOCATION:Indian Springs Soccer Complex\, 13600 South 145th East Avenue\, Broken Arrow\, OK\, 74011\, United States
CATEGORIES:upcoming tournaments
ORGANIZER;CN="Tournament":MAILTO:tournament@basoccer.club
END:VEVENT
BEGIN:VEVENT
DTSTART;TZID=America/Chicago:20221015T190000
DTEND;TZID=America/Chicago:20221015T210000
DTSTAMP:20260422T174713
CREATED:20221010T142743Z
LAST-MODIFIED:20221010T150137Z
UID:8074-1665860400-1665867600@basoccer.club
SUMMARY:BASC Night @ TU men's soccer
DESCRIPTION:Watch #10 TU take on the Memphis Tigers in men’s soccer! \nGet tickets here.
URL:https://basoccer.club/eventt/basc-night-tu-mens-soccer/
LOCATION:Hurricane Soccer and Track Stadium\, 512 South Delaware Ave\, Tulsa\, OK\, 740104\, United States
ORGANIZER;CN="General":MAILTO:jessica@basoccer.club
END:VEVENT
BEGIN:VEVENT
DTSTART;VALUE=DATE:20221014
DTEND;VALUE=DATE:20230108
DTSTAMP:20260422T174713
CREATED:20221012T190436Z
LAST-MODIFIED:20221012T190436Z
UID:8096-1665705600-1673135999@basoccer.club
SUMMARY:Spring 2023 Recreational Soccer Registration OPEN
DESCRIPTION:Click here for more information and to register. 
URL:https://basoccer.club/eventt/recreational-soccer-registration-open-s23/
CATEGORIES:Registration
ORGANIZER;CN="Info":MAILTO:info@basoccer.club
END:VEVENT
BEGIN:VEVENT
DTSTART;TZID=America/Chicago:20221011T170000
DTEND;TZID=America/Chicago:20221011T200000
DTSTAMP:20260422T174713
CREATED:20220720T233313Z
LAST-MODIFIED:20220720T233313Z
UID:7417-1665507600-1665518400@basoccer.club
SUMMARY:Goal Keeper Training
DESCRIPTION:For Goal Keeper Training Specifics\, please click here.
URL:https://basoccer.club/eventt/goal-keeper-training-11oct/
LOCATION:Indian Springs Soccer Complex\, 13600 South 145th East Avenue\, Broken Arrow\, OK\, 74011\, United States
CATEGORIES:Training - players
ORGANIZER;CN="Coach":MAILTO:coach@basoccer.club
END:VEVENT
BEGIN:VEVENT
DTSTART;TZID=America/Chicago:20221008T180000
DTEND;TZID=America/Chicago:20221008T203000
DTSTAMP:20260422T174713
CREATED:20220721T000016Z
LAST-MODIFIED:20220721T000016Z
UID:7426-1665252000-1665261000@basoccer.club
SUMMARY:Coach/Referee Pick Up Game
DESCRIPTION:Follow the link below for details
URL:https://basoccer.club/eventt/coach-referee-pick-up-game-8oct/
LOCATION:Indian Springs Soccer Complex\, 13600 South 145th East Avenue\, Broken Arrow\, OK\, 74011\, United States
CATEGORIES:Club Event
ORGANIZER;CN="Coach":MAILTO:coach@basoccer.club
END:VEVENT
BEGIN:VEVENT
DTSTART;TZID=America/Chicago:20221004T170000
DTEND;TZID=America/Chicago:20221004T200000
DTSTAMP:20260422T174713
CREATED:20220720T233220Z
LAST-MODIFIED:20220720T233220Z
UID:7415-1664902800-1664913600@basoccer.club
SUMMARY:Goal Keeper Training
DESCRIPTION:For Goal Keeper Training Specifics\, please click here.
URL:https://basoccer.club/eventt/goal-keeper-training-4oct/
LOCATION:Indian Springs Soccer Complex\, 13600 South 145th East Avenue\, Broken Arrow\, OK\, 74011\, United States
CATEGORIES:Training - players
ORGANIZER;CN="Coach":MAILTO:coach@basoccer.club
END:VEVENT
BEGIN:VEVENT
DTSTART;TZID=America/Chicago:20220927T170000
DTEND;TZID=America/Chicago:20220927T200000
DTSTAMP:20260422T174713
CREATED:20220720T233106Z
LAST-MODIFIED:20220720T233106Z
UID:7413-1664298000-1664308800@basoccer.club
SUMMARY:Goal Keeper Training
DESCRIPTION:For Goal Keeper Training Specifics\, please click here.
URL:https://basoccer.club/eventt/goal-keeper-training-27sept/
LOCATION:Indian Springs Soccer Complex\, 13600 South 145th East Avenue\, Broken Arrow\, OK\, 74011\, United States
CATEGORIES:Training - players
ORGANIZER;CN="Coach":MAILTO:coach@basoccer.club
END:VEVENT
BEGIN:VEVENT
DTSTART;TZID=America/Chicago:20220926T183000
DTEND;TZID=America/Chicago:20220926T203000
DTSTAMP:20260422T174713
CREATED:20220915T185032Z
LAST-MODIFIED:20220915T185032Z
UID:7967-1664217000-1664224200@basoccer.club
SUMMARY:Referee Class
DESCRIPTION:For anyone who wants to become a soccer referee. Follow the link below to register online.
URL:https://basoccer.club/eventt/referee-class/
LOCATION:Indian Springs Soccer Complex\, 13600 South 145th East Avenue\, Broken Arrow\, OK\, 74011\, United States
CATEGORIES:Referee
ORGANIZER;CN="Referee":MAILTO:areareferee@basoccer.club
END:VEVENT
END:VCALENDAR