BEGIN:VCALENDAR
VERSION:2.0
PRODID:-//Broken Arrow Soccer Club - ECPv6.15.20//NONSGML v1.0//EN
CALSCALE:GREGORIAN
METHOD:PUBLISH
X-WR-CALNAME:Broken Arrow Soccer Club
X-ORIGINAL-URL:https://basoccer.club
X-WR-CALDESC:Events for Broken Arrow Soccer Club
REFRESH-INTERVAL;VALUE=DURATION:PT1H
X-Robots-Tag:noindex
X-PUBLISHED-TTL:PT1H
BEGIN:VTIMEZONE
TZID:America/Chicago
BEGIN:DAYLIGHT
TZOFFSETFROM:-0600
TZOFFSETTO:-0500
TZNAME:CDT
DTSTART:20220313T080000
END:DAYLIGHT
BEGIN:STANDARD
TZOFFSETFROM:-0500
TZOFFSETTO:-0600
TZNAME:CST
DTSTART:20221106T070000
END:STANDARD
BEGIN:DAYLIGHT
TZOFFSETFROM:-0600
TZOFFSETTO:-0500
TZNAME:CDT
DTSTART:20230312T080000
END:DAYLIGHT
BEGIN:STANDARD
TZOFFSETFROM:-0500
TZOFFSETTO:-0600
TZNAME:CST
DTSTART:20231105T070000
END:STANDARD
BEGIN:DAYLIGHT
TZOFFSETFROM:-0600
TZOFFSETTO:-0500
TZNAME:CDT
DTSTART:20240310T080000
END:DAYLIGHT
BEGIN:STANDARD
TZOFFSETFROM:-0500
TZOFFSETTO:-0600
TZNAME:CST
DTSTART:20241103T070000
END:STANDARD
END:VTIMEZONE
BEGIN:VEVENT
DTSTART;VALUE=DATE:20230407
DTEND;VALUE=DATE:20230408
DTSTAMP:20260421T184406
CREATED:20230117T194732Z
LAST-MODIFIED:20230117T201627Z
UID:8511-1680825600-1680911999@basoccer.club
SUMMARY:OFFICE CLOSED - Good Friday Holiday
DESCRIPTION:
URL:https://basoccer.club/eventt/office-closed-good-friday-holiday-23/
LOCATION:Indian Springs Soccer Complex\, 13600 South 145th East Avenue\, Broken Arrow\, OK\, 74011\, United States
CATEGORIES:Office Closed
ORGANIZER;CN="Info":MAILTO:info@basoccer.club
END:VEVENT
BEGIN:VEVENT
DTSTART;VALUE=DATE:20230407
DTEND;VALUE=DATE:20230408
DTSTAMP:20260421T184406
CREATED:20220922T232121Z
LAST-MODIFIED:20220922T232121Z
UID:7989-1680825600-1680911999@basoccer.club
SUMMARY:DEADLINE: College Scholarship Application Deadline
DESCRIPTION:Follow the link below for criteria and to apply.
URL:https://basoccer.club/eventt/deadline-college-scholarship-application-deadline-23/
LOCATION:OK
CATEGORIES:General
ORGANIZER;CN="General":MAILTO:jessica@basoccer.club
END:VEVENT
BEGIN:VEVENT
DTSTART;TZID=America/Chicago:20230403T180000
DTEND;TZID=America/Chicago:20230403T200000
DTSTAMP:20260421T184406
CREATED:20230311T184309Z
LAST-MODIFIED:20230311T184309Z
UID:8962-1680544800-1680552000@basoccer.club
SUMMARY:Referee Class
DESCRIPTION:For anyone who wants to become a soccer referee. Follow the link below to register online.
URL:https://basoccer.club/eventt/referee-class-4323/
LOCATION:Indian Springs Soccer Complex\, 13600 South 145th East Avenue\, Broken Arrow\, OK\, 74011\, United States
CATEGORIES:Referee
ORGANIZER;CN="Referee":MAILTO:areareferee@basoccer.club
END:VEVENT
BEGIN:VEVENT
DTSTART;TZID=America/Chicago:20230403T170000
DTEND;TZID=America/Chicago:20230403T200000
DTSTAMP:20260421T184406
CREATED:20230114T015013Z
LAST-MODIFIED:20230114T015013Z
UID:8436-1680541200-1680552000@basoccer.club
SUMMARY:Goal Keeper Training
DESCRIPTION:For Goal Keeper Training Specifics\, please click here.
URL:https://basoccer.club/eventt/goal-keeper-training-3apr23/
LOCATION:Indian Springs Soccer Complex\, 13600 South 145th East Avenue\, Broken Arrow\, OK\, 74011\, United States
CATEGORIES:Training - players
ORGANIZER;CN="Coach":MAILTO:coach@basoccer.club
END:VEVENT
BEGIN:VEVENT
DTSTART;VALUE=DATE:20230331
DTEND;VALUE=DATE:20230401
DTSTAMP:20260421T184406
CREATED:20230328T165744Z
LAST-MODIFIED:20230328T202614Z
UID:9013-1680220800-1680307199@basoccer.club
SUMMARY:Referee Class Registration Deadline
DESCRIPTION:For anyone who wants to become a soccer referee. Follow the link below to register online before the end of today.
URL:https://basoccer.club/eventt/referee-class-deadline-s23/
LOCATION:Indian Springs Soccer Complex\, 13600 South 145th East Avenue\, Broken Arrow\, OK\, 74011\, United States
CATEGORIES:Referee
ORGANIZER;CN="Referee":MAILTO:areareferee@basoccer.club
END:VEVENT
BEGIN:VEVENT
DTSTART;VALUE=DATE:20230331
DTEND;VALUE=DATE:20230401
DTSTAMP:20260421T184406
CREATED:20230327T212335Z
LAST-MODIFIED:20230328T165542Z
UID:9009-1680220800-1680307199@basoccer.club
SUMMARY:Discounted Registration Deadline: Oklahoma Mother's Day Classic
DESCRIPTION:Register by end of day today to get 10% off your teams registration fee. \nhttp://basoccer.club/tournaments/oklahoma-mothers-day-classic/registration/
URL:https://basoccer.club/eventt/discounted-registration-deadline-oklahoma-mothers-day-classic-23/
LOCATION:OK
CATEGORIES:upcoming tournaments
ORGANIZER;CN="Tournament":MAILTO:tournament@basoccer.club
END:VEVENT
BEGIN:VEVENT
DTSTART;TZID=America/Chicago:20230327T170000
DTEND;TZID=America/Chicago:20230327T200000
DTSTAMP:20260421T184406
CREATED:20230114T014929Z
LAST-MODIFIED:20230114T014929Z
UID:8434-1679936400-1679947200@basoccer.club
SUMMARY:Goal Keeper Training
DESCRIPTION:For Goal Keeper Training Specifics\, please click here.
URL:https://basoccer.club/eventt/goal-keeper-training-27mar23/
LOCATION:Indian Springs Soccer Complex\, 13600 South 145th East Avenue\, Broken Arrow\, OK\, 74011\, United States
CATEGORIES:Training - players
ORGANIZER;CN="Coach":MAILTO:coach@basoccer.club
END:VEVENT
BEGIN:VEVENT
DTSTART;TZID=America/Chicago:20230325T180000
DTEND;TZID=America/Chicago:20230325T203000
DTSTAMP:20260421T184406
CREATED:20230126T185730Z
LAST-MODIFIED:20230324T202508Z
UID:8583-1679767200-1679776200@basoccer.club
SUMMARY:CANCELLED - Complex Closed - Coach\, Manager & Ref - Pick Up Game
DESCRIPTION:Follow the link below for details
URL:https://basoccer.club/eventt/coach-manager-ref-pick-up-game-32523/
LOCATION:Indian Springs Soccer Complex\, 13600 South 145th East Avenue\, Broken Arrow\, OK\, 74011\, United States
CATEGORIES:Club Event
ATTACH;FMTTYPE=image/png:https://basoccer.club/wp-content/uploads/2022/03/Pick-up-games_2022.png
ORGANIZER;CN="Coach":MAILTO:coach@basoccer.club
END:VEVENT
BEGIN:VEVENT
DTSTART;TZID=America/Chicago:20230320T170000
DTEND;TZID=America/Chicago:20230320T200000
DTSTAMP:20260421T184406
CREATED:20230114T014826Z
LAST-MODIFIED:20230114T014826Z
UID:8432-1679331600-1679342400@basoccer.club
SUMMARY:Goal Keeper Training
DESCRIPTION:For Goal Keeper Training Specifics\, please click here.
URL:https://basoccer.club/eventt/goal-keeper-training-20mar23/
LOCATION:Indian Springs Soccer Complex\, 13600 South 145th East Avenue\, Broken Arrow\, OK\, 74011\, United States
CATEGORIES:Training - players
ORGANIZER;CN="Coach":MAILTO:coach@basoccer.club
END:VEVENT
BEGIN:VEVENT
DTSTART;TZID=America/Chicago:20230313T170000
DTEND;TZID=America/Chicago:20230313T200000
DTSTAMP:20260421T184406
CREATED:20230114T014753Z
LAST-MODIFIED:20230114T014753Z
UID:8430-1678726800-1678737600@basoccer.club
SUMMARY:Goal Keeper Training
DESCRIPTION:For Goal Keeper Training Specifics\, please click here.
URL:https://basoccer.club/eventt/goal-keeper-training-13mar23/
LOCATION:Indian Springs Soccer Complex\, 13600 South 145th East Avenue\, Broken Arrow\, OK\, 74011\, United States
CATEGORIES:Training - players
ORGANIZER;CN="Coach":MAILTO:coach@basoccer.club
END:VEVENT
BEGIN:VEVENT
DTSTART;TZID=America/Chicago:20230312T133000
DTEND;TZID=America/Chicago:20230312T180000
DTSTAMP:20260421T184406
CREATED:20230309T220306Z
LAST-MODIFIED:20230309T220452Z
UID:8953-1678627800-1678644000@basoccer.club
SUMMARY:Coach Training by ODP staff
DESCRIPTION:http://basoccer.club/odp-coach-training_s23/
URL:https://basoccer.club/eventt/coach-training-by-odp-staff/
LOCATION:Indian Springs Soccer Complex\, 13600 South 145th East Avenue\, Broken Arrow\, OK\, 74011\, United States
ORGANIZER;CN="Coach":MAILTO:coach@basoccer.club
END:VEVENT
BEGIN:VEVENT
DTSTART;VALUE=DATE:20230311
DTEND;VALUE=DATE:20230312
DTSTAMP:20260421T184406
CREATED:20221229T185025Z
LAST-MODIFIED:20230223T180823Z
UID:8315-1678492800-1678579199@basoccer.club
SUMMARY:KICKSTART Starts
DESCRIPTION:Click the link below to get more information and for your KICKSTART Directors contact information.
URL:https://basoccer.club/eventt/kickstart-starts/
LOCATION:OK
CATEGORIES:Club Event,General
ORGANIZER;CN="General":MAILTO:jessica@basoccer.club
END:VEVENT
BEGIN:VEVENT
DTSTART;VALUE=DATE:20230311
DTEND;VALUE=DATE:20230312
DTSTAMP:20260421T184406
CREATED:20221129T212626Z
LAST-MODIFIED:20230223T155318Z
UID:8244-1678492800-1678579199@basoccer.club
SUMMARY:Rec Open / Rec Select League Season Starts
DESCRIPTION:Click the link below to find your teams league schedule.
URL:https://basoccer.club/eventt/rec-open-rec-select-league-season-starts-s23/
LOCATION:OK
CATEGORIES:Club Event,General
ORGANIZER;CN="General":MAILTO:jessica@basoccer.club
END:VEVENT
BEGIN:VEVENT
DTSTART;VALUE=DATE:20230311
DTEND;VALUE=DATE:20230312
DTSTAMP:20260421T184406
CREATED:20221129T212554Z
LAST-MODIFIED:20230223T180638Z
UID:8243-1678492800-1678579199@basoccer.club
SUMMARY:Closed League Season Starts
DESCRIPTION:Click the link below to find your teams league schedule.
URL:https://basoccer.club/eventt/closed-league-season-starts-s23/
LOCATION:OK
CATEGORIES:Club Event,General
ORGANIZER;CN="General":MAILTO:jessica@basoccer.club
END:VEVENT
BEGIN:VEVENT
DTSTART;TZID=America/Chicago:20230306T170000
DTEND;TZID=America/Chicago:20230306T200000
DTSTAMP:20260421T184406
CREATED:20230114T014720Z
LAST-MODIFIED:20230114T014720Z
UID:8428-1678122000-1678132800@basoccer.club
SUMMARY:Goal Keeper Training
DESCRIPTION:For Goal Keeper Training Specifics\, please click here.
URL:https://basoccer.club/eventt/goal-keeper-training-6mar23/
LOCATION:Indian Springs Soccer Complex\, 13600 South 145th East Avenue\, Broken Arrow\, OK\, 74011\, United States
CATEGORIES:Training - players
ORGANIZER;CN="Coach":MAILTO:coach@basoccer.club
END:VEVENT
BEGIN:VEVENT
DTSTART;TZID=America/Chicago:20230302T193000
DTEND;TZID=America/Chicago:20230302T203000
DTSTAMP:20260421T184406
CREATED:20220629T165954Z
LAST-MODIFIED:20220629T165954Z
UID:7302-1677785400-1677789000@basoccer.club
SUMMARY:General Membership Meeting
DESCRIPTION:Follow the link below for more information.
URL:https://basoccer.club/eventt/general-membership-meeting-march/
LOCATION:Central Park Community Center\, 1500 South Main Street\, Broken Arrow\, OK\, 74012\, United States
CATEGORIES:Club Event
ORGANIZER;CN="Info":MAILTO:info@basoccer.club
END:VEVENT
BEGIN:VEVENT
DTSTART;VALUE=DATE:20230225
DTEND;VALUE=DATE:20230226
DTSTAMP:20260421T184406
CREATED:20221129T212806Z
LAST-MODIFIED:20221129T212806Z
UID:8245-1677283200-1677369599@basoccer.club
SUMMARY:OPL Season Start
DESCRIPTION:
URL:https://basoccer.club/eventt/opl-season-start-s23/
LOCATION:OK
CATEGORIES:BA Express
ORGANIZER;CN="BA Express":MAILTO:competitiveheadcoach@basoccer.club
END:VEVENT
BEGIN:VEVENT
DTSTART;VALUE=DATE:20230224
DTEND;VALUE=DATE:20230228
DTSTAMP:20260421T184406
CREATED:20221129T212410Z
LAST-MODIFIED:20221129T212410Z
UID:8239-1677196800-1677542399@basoccer.club
SUMMARY:BASC Shop Days @ Dick's Sporting Goods
DESCRIPTION:Click the link below for more information and to get your 20% discount coupon.
URL:https://basoccer.club/eventt/dsg-shop-days-feb24-2722/
LOCATION:Dick’s Sporting Goods\, 1620 East Hillside Drive\, Broken Arrow\, OK\, 74012\, United States
CATEGORIES:Club Event
ORGANIZER;CN="General":MAILTO:jessica@basoccer.club
END:VEVENT
BEGIN:VEVENT
DTSTART;TZID=America/Chicago:20230218T080000
DTEND;TZID=America/Chicago:20230218T100000
DTSTAMP:20260421T184406
CREATED:20230216T194547Z
LAST-MODIFIED:20230216T194547Z
UID:8729-1676707200-1676714400@basoccer.club
SUMMARY:Field Day - Part 2
DESCRIPTION:Get more information at the link below.
URL:https://basoccer.club/eventt/field-day-part-2/
LOCATION:Indian Springs Soccer Complex\, 13600 South 145th East Avenue\, Broken Arrow\, OK\, 74011\, United States
CATEGORIES:Club Event
ORGANIZER;CN="Complex Manager":MAILTO:complexmanager@basoccer.club
END:VEVENT
BEGIN:VEVENT
DTSTART;TZID=America/Chicago:20230215T130000
DTEND;TZID=America/Chicago:20230215T133000
DTSTAMP:20260421T184406
CREATED:20230216T190634Z
LAST-MODIFIED:20230216T190634Z
UID:8725-1676466000-1676467800@basoccer.club
SUMMARY:Turf Fields Ribbon Cutting Ceremony
DESCRIPTION:The Ribbon Cutting Ceremony officially announcing the completion of the four new turf fields at Indian Springs Soccer Complex will be at 1pm today on field 37.
URL:https://basoccer.club/eventt/turf-fields-ribbon-cutting-ceremony/
LOCATION:Indian Springs Soccer Complex\, 13600 South 145th East Avenue\, Broken Arrow\, OK\, 74011\, United States
ORGANIZER;CN="General":MAILTO:jessica@basoccer.club
END:VEVENT
BEGIN:VEVENT
DTSTART;TZID=America/Chicago:20230213T180000
DTEND;TZID=America/Chicago:20230213T200000
DTSTAMP:20260421T184406
CREATED:20230112T173628Z
LAST-MODIFIED:20230112T175330Z
UID:8389-1676311200-1676318400@basoccer.club
SUMMARY:Referee Class
DESCRIPTION:For anyone who wants to become a soccer referee. Follow the link below to register online.
URL:https://basoccer.club/eventt/referee-class-13feb23/
LOCATION:Indian Springs Soccer Complex\, 13600 South 145th East Avenue\, Broken Arrow\, OK\, 74011\, United States
CATEGORIES:Referee
ORGANIZER;CN="Referee":MAILTO:areareferee@basoccer.club
END:VEVENT
BEGIN:VEVENT
DTSTART;VALUE=DATE:20230212
DTEND;VALUE=DATE:20230213
DTSTAMP:20260421T184406
CREATED:20230207T203821Z
LAST-MODIFIED:20230207T203821Z
UID:8626-1676160000-1676246399@basoccer.club
SUMMARY:Blackout Dates Due for ALL BASC teams
DESCRIPTION:Blackout dates are due by the Team Head Coach. Follow the link below to find step-by-step instructions on how to submit your blackout dates.
URL:https://basoccer.club/eventt/blackout-dates-s23/
LOCATION:OK
CATEGORIES:General
ORGANIZER;CN="General":MAILTO:jessica@basoccer.club
END:VEVENT
BEGIN:VEVENT
DTSTART;TZID=America/Chicago:20230211T080000
DTEND;TZID=America/Chicago:20230211T120000
DTSTAMP:20260421T184406
CREATED:20230113T174732Z
LAST-MODIFIED:20230113T174732Z
UID:8417-1676102400-1676116800@basoccer.club
SUMMARY:Field Day
DESCRIPTION:Get more information at the link below.
URL:https://basoccer.club/eventt/field-day-s23/
LOCATION:Indian Springs Soccer Complex\, 13600 South 145th East Avenue\, Broken Arrow\, OK\, 74011\, United States
CATEGORIES:Club Event
ORGANIZER;CN="Complex Manager":MAILTO:complexmanager@basoccer.club
END:VEVENT
BEGIN:VEVENT
DTSTART;TZID=America/Chicago:20230211T080000
DTEND;TZID=America/Chicago:20230211T113000
DTSTAMP:20260421T184406
CREATED:20230113T220210Z
LAST-MODIFIED:20230113T220311Z
UID:8424-1676102400-1676115000@basoccer.club
SUMMARY:New Coach In-House Training @ ISSC
DESCRIPTION:Follow the link below for more information and to register.
URL:https://basoccer.club/eventt/new-coach-in-house-training-issc-s23/
LOCATION:OK
ORGANIZER;CN="Coach":MAILTO:coach@basoccer.club
END:VEVENT
BEGIN:VEVENT
DTSTART;VALUE=DATE:20230203
DTEND;VALUE=DATE:20230207
DTSTAMP:20260421T184406
CREATED:20221129T212215Z
LAST-MODIFIED:20221129T212215Z
UID:8240-1675382400-1675727999@basoccer.club
SUMMARY:BASC Shop Days @ Dick's Sporting Goods
DESCRIPTION:Click the link below for more information and to get your 20% discount coupon.
URL:https://basoccer.club/eventt/dsg-shop-days-feb3-622/
LOCATION:Dick’s Sporting Goods\, 1620 East Hillside Drive\, Broken Arrow\, OK\, 74012\, United States
CATEGORIES:Club Event
ORGANIZER;CN="General":MAILTO:jessica@basoccer.club
END:VEVENT
BEGIN:VEVENT
DTSTART;TZID=America/Chicago:20230202T190000
DTEND;TZID=America/Chicago:20230202T210000
DTSTAMP:20260421T184406
CREATED:20221229T193103Z
LAST-MODIFIED:20230111T211213Z
UID:8321-1675364400-1675371600@basoccer.club
SUMMARY:Virtual Coach Meeting
DESCRIPTION:Click website link below for details.
URL:https://basoccer.club/eventt/virtual-coach-meeting-s23/
LOCATION:OK
CATEGORIES:Club Event,Training - Coach/Manager
ORGANIZER;CN="Coach":MAILTO:coach@basoccer.club
END:VEVENT
BEGIN:VEVENT
DTSTART;TZID=America/Chicago:20230201T170000
DTEND;TZID=America/Chicago:20230201T170000
DTSTAMP:20260421T184406
CREATED:20230116T183111Z
LAST-MODIFIED:20230116T184706Z
UID:8455-1675270800-1675270800@basoccer.club
SUMMARY:Practice Field Requests Due by 5pm
DESCRIPTION:Practice Field Locations \nRequest Your Practice Field
URL:https://basoccer.club/eventt/practice-field-requests-due-by-5pm-s23/
LOCATION:OK
CATEGORIES:General
ORGANIZER;CN="General":MAILTO:jessica@basoccer.club
END:VEVENT
BEGIN:VEVENT
DTSTART;TZID=America/Chicago:20230119T193000
DTEND;TZID=America/Chicago:20230119T203000
DTSTAMP:20260421T184406
CREATED:20230112T181226Z
LAST-MODIFIED:20230112T181226Z
UID:8394-1674156600-1674160200@basoccer.club
SUMMARY:Special General Membership Meeting
DESCRIPTION:Follow the link below for more information.
URL:https://basoccer.club/eventt/general-membership-meeting-19jan23/
LOCATION:Indian Springs Soccer Complex\, 13600 South 145th East Avenue\, Broken Arrow\, OK\, 74011\, United States
CATEGORIES:Club Event
ORGANIZER;CN="Info":MAILTO:info@basoccer.club
END:VEVENT
BEGIN:VEVENT
DTSTART;VALUE=DATE:20230108
DTEND;VALUE=DATE:20230109
DTSTAMP:20260421T184406
CREATED:20221012T190700Z
LAST-MODIFIED:20221012T190700Z
UID:8098-1673136000-1673222399@basoccer.club
SUMMARY:Late Registration Begins. Fee raises to $115
DESCRIPTION:Follow the link below to register your Soccer Player!
URL:https://basoccer.club/eventt/late-registration-begins-fee-raises-to-115-s23/
LOCATION:OK
CATEGORIES:Registration
ORGANIZER;CN="Info":MAILTO:info@basoccer.club
END:VEVENT
BEGIN:VEVENT
DTSTART;VALUE=DATE:20230107
DTEND;VALUE=DATE:20230108
DTSTAMP:20260421T184406
CREATED:20221012T190610Z
LAST-MODIFIED:20221012T190610Z
UID:8097-1673049600-1673135999@basoccer.club
SUMMARY:BASC Spring 2023 Registration Closes
DESCRIPTION:Follow the link below to register your Soccer Player!
URL:https://basoccer.club/eventt/soccer-registration-closes-s23/
LOCATION:OK
CATEGORIES:Registration
ORGANIZER;CN="Info":MAILTO:info@basoccer.club
END:VEVENT
END:VCALENDAR