BEGIN:VCALENDAR
VERSION:2.0
PRODID:-//Broken Arrow Soccer Club - ECPv6.15.20//NONSGML v1.0//EN
CALSCALE:GREGORIAN
METHOD:PUBLISH
X-WR-CALNAME:Broken Arrow Soccer Club
X-ORIGINAL-URL:https://basoccer.club
X-WR-CALDESC:Events for Broken Arrow Soccer Club
REFRESH-INTERVAL;VALUE=DURATION:PT1H
X-Robots-Tag:noindex
X-PUBLISHED-TTL:PT1H
BEGIN:VTIMEZONE
TZID:America/Chicago
BEGIN:DAYLIGHT
TZOFFSETFROM:-0600
TZOFFSETTO:-0500
TZNAME:CDT
DTSTART:20220313T080000
END:DAYLIGHT
BEGIN:STANDARD
TZOFFSETFROM:-0500
TZOFFSETTO:-0600
TZNAME:CST
DTSTART:20221106T070000
END:STANDARD
BEGIN:DAYLIGHT
TZOFFSETFROM:-0600
TZOFFSETTO:-0500
TZNAME:CDT
DTSTART:20230312T080000
END:DAYLIGHT
BEGIN:STANDARD
TZOFFSETFROM:-0500
TZOFFSETTO:-0600
TZNAME:CST
DTSTART:20231105T070000
END:STANDARD
BEGIN:DAYLIGHT
TZOFFSETFROM:-0600
TZOFFSETTO:-0500
TZNAME:CDT
DTSTART:20240310T080000
END:DAYLIGHT
BEGIN:STANDARD
TZOFFSETFROM:-0500
TZOFFSETTO:-0600
TZNAME:CST
DTSTART:20241103T070000
END:STANDARD
END:VTIMEZONE
BEGIN:VEVENT
DTSTART;TZID=America/Chicago:20230508T180000
DTEND;TZID=America/Chicago:20230511T210000
DTSTAMP:20260421T184241
CREATED:20230408T162111Z
LAST-MODIFIED:20230504T192950Z
UID:9064-1683568800-1683838800@basoccer.club
SUMMARY:BA Express Tryouts
DESCRIPTION:BA Express is hosting tryouts for their fall 2023 / spring 2024 teams ages 2013 and older. Specific dates and times of each age group can be found here.\n\n\n\n\nIndian Springs Soccer Complex Map\n\n\n \n\n\nhttps://brokenarrowexpress.club/\n\n\n 
URL:https://basoccer.club/eventt/ba-express-tryouts-23/
LOCATION:Indian Springs Soccer Complex\, 13600 South 145th East Avenue\, Broken Arrow\, OK\, 74011\, United States
CATEGORIES:BA Express
ORGANIZER;CN="BA Express":MAILTO:competitiveheadcoach@basoccer.club
END:VEVENT
BEGIN:VEVENT
DTSTART;TZID=America/Chicago:20230508T170000
DTEND;TZID=America/Chicago:20230508T200000
DTSTAMP:20260421T184241
CREATED:20230114T014612Z
LAST-MODIFIED:20230223T184152Z
UID:8426-1683565200-1683576000@basoccer.club
SUMMARY:Goal Keeper Training
DESCRIPTION:For Goal Keeper Training Specifics\, please click here.
URL:https://basoccer.club/eventt/goal-keeper-training-27feb23/
LOCATION:Indian Springs Soccer Complex\, 13600 South 145th East Avenue\, Broken Arrow\, OK\, 74011\, United States
CATEGORIES:Training - players
ORGANIZER;CN="Coach":MAILTO:coach@basoccer.club
END:VEVENT
BEGIN:VEVENT
DTSTART;TZID=America/Chicago:20230506T180000
DTEND;TZID=America/Chicago:20230506T203000
DTSTAMP:20260421T184241
CREATED:20230126T185841Z
LAST-MODIFIED:20230126T192806Z
UID:8587-1683396000-1683405000@basoccer.club
SUMMARY:Coach\, Manager & Ref - Pick Up Game
DESCRIPTION:Follow the link below for details
URL:https://basoccer.club/eventt/coach-manager-ref-pick-up-game-5623/
LOCATION:Indian Springs Soccer Complex\, 13600 South 145th East Avenue\, Broken Arrow\, OK\, 74011\, United States
CATEGORIES:Club Event
ATTACH;FMTTYPE=image/png:https://basoccer.club/wp-content/uploads/2022/03/Pick-up-games_2022.png
ORGANIZER;CN="Coach":MAILTO:coach@basoccer.club
END:VEVENT
BEGIN:VEVENT
DTSTART;TZID=America/Chicago:20230505T180000
DTEND;TZID=America/Chicago:20230505T193000
DTSTAMP:20260421T184241
CREATED:20230412T195430Z
LAST-MODIFIED:20230412T203403Z
UID:9082-1683309600-1683315000@basoccer.club
SUMMARY:EXPRESS FRIDAY NIGHT DEVELOPMENTAL TRAINING
DESCRIPTION:Additional advanced training for U6 – U10 players. \nRegistration Required.
URL:https://basoccer.club/eventt/express-friday-night-developmental-training-5523/
LOCATION:Indian Springs Soccer Complex\, 13600 South 145th East Avenue\, Broken Arrow\, OK\, 74011\, United States
CATEGORIES:Training - players
ORGANIZER;CN="Academy":MAILTO:coach@brokenarrowexpress.club
END:VEVENT
BEGIN:VEVENT
DTSTART;TZID=America/Chicago:20230504T193000
DTEND;TZID=America/Chicago:20230504T203000
DTSTAMP:20260421T184241
CREATED:20220629T170118Z
LAST-MODIFIED:20220629T170755Z
UID:7304-1683228600-1683232200@basoccer.club
SUMMARY:General Membership Meeting
DESCRIPTION:Follow the link below for more information.
URL:https://basoccer.club/eventt/general-membership-meeting-may23/
LOCATION:Central Park Community Center\, 1500 South Main Street\, Broken Arrow\, OK\, 74012\, United States
CATEGORIES:Club Event
ORGANIZER;CN="Info":MAILTO:info@basoccer.club
END:VEVENT
BEGIN:VEVENT
DTSTART;TZID=America/Chicago:20230501T170000
DTEND;TZID=America/Chicago:20230501T200000
DTSTAMP:20260421T184241
CREATED:20230114T015216Z
LAST-MODIFIED:20230114T015216Z
UID:8444-1682960400-1682971200@basoccer.club
SUMMARY:Goal Keeper Training
DESCRIPTION:For Goal Keeper Training Specifics\, please click here.
URL:https://basoccer.club/eventt/goal-keeper-training-1may23/
LOCATION:Indian Springs Soccer Complex\, 13600 South 145th East Avenue\, Broken Arrow\, OK\, 74011\, United States
CATEGORIES:Training - players
ORGANIZER;CN="Coach":MAILTO:coach@basoccer.club
END:VEVENT
BEGIN:VEVENT
DTSTART;TZID=America/Chicago:20230428T180000
DTEND;TZID=America/Chicago:20230428T193000
DTSTAMP:20260421T184241
CREATED:20230412T195358Z
LAST-MODIFIED:20230412T195358Z
UID:9080-1682704800-1682710200@basoccer.club
SUMMARY:EXPRESS FRIDAY NIGHT DEVELOPMENTAL TRAINING
DESCRIPTION:Additional advanced training for U6 – U10 players. \nRegistration Required.
URL:https://basoccer.club/eventt/express-friday-night-developmental-training-42823/
LOCATION:Indian Springs Soccer Complex\, 13600 South 145th East Avenue\, Broken Arrow\, OK\, 74011\, United States
CATEGORIES:Training - players
ORGANIZER;CN="Academy":MAILTO:coach@brokenarrowexpress.club
END:VEVENT
BEGIN:VEVENT
DTSTART;TZID=America/Chicago:20230424T170000
DTEND;TZID=America/Chicago:20230424T200000
DTSTAMP:20260421T184241
CREATED:20230114T015144Z
LAST-MODIFIED:20230424T163721Z
UID:8442-1682355600-1682366400@basoccer.club
SUMMARY:CANCELLED: Goal Keeper Training
DESCRIPTION:For Goal Keeper Training Specifics\, please click here.
URL:https://basoccer.club/eventt/goal-keeper-training-24apr23/
LOCATION:Indian Springs Soccer Complex\, 13600 South 145th East Avenue\, Broken Arrow\, OK\, 74011\, United States
CATEGORIES:Training - players
ORGANIZER;CN="Coach":MAILTO:coach@basoccer.club
END:VEVENT
BEGIN:VEVENT
DTSTART;TZID=America/Chicago:20230424T150000
DTEND;TZID=America/Chicago:20230424T150000
DTSTAMP:20260421T184241
CREATED:20220629T171238Z
LAST-MODIFIED:20230113T173325Z
UID:7310-1682348400-1682348400@basoccer.club
SUMMARY:Nominations for Executive Board positions Due by Close of Business: 1st VP\, 2nd VP\, & Area Referee
DESCRIPTION:Click the link below for more information.
URL:https://basoccer.club/eventt/nominations-for-executive-board-positions-due-may23/
LOCATION:OK
CATEGORIES:Club Event
ORGANIZER;CN="Info":MAILTO:info@basoccer.club
END:VEVENT
BEGIN:VEVENT
DTSTART;VALUE=DATE:20230424
DTEND;VALUE=DATE:20230606
DTSTAMP:20260421T184241
CREATED:20230501T184359Z
LAST-MODIFIED:20230501T184359Z
UID:9206-1682294400-1686009599@basoccer.club
SUMMARY:Summer Soccer Series Registration
DESCRIPTION:Click here for details and to register.
URL:https://basoccer.club/eventt/summer-soccer-series-registration_23/
LOCATION:Indian Springs Soccer Complex\, 13600 South 145th East Avenue\, Broken Arrow\, OK\, 74011\, United States
CATEGORIES:Club Event
ATTACH;FMTTYPE=image/png:https://basoccer.club/wp-content/uploads/2022/04/Compete-in-the-Heat-Summer-Soccer-Series.png
ORGANIZER;CN="General":MAILTO:jessica@basoccer.club
END:VEVENT
BEGIN:VEVENT
DTSTART;VALUE=DATE:20230421
DTEND;VALUE=DATE:20230422
DTSTAMP:20260421T184241
CREATED:20230406T205819Z
LAST-MODIFIED:20230406T210826Z
UID:9062-1682035200-1682121599@basoccer.club
SUMMARY:DEADLINE: Coach nominations of players for the Frankie Mozingo Player Award Due (U6-U12)
DESCRIPTION:Follow the link below for more information.
URL:https://basoccer.club/eventt/deadline-coach-nominations-of-players-for-the-frankie-mozingo-player-award-due_s23/
LOCATION:OK
CATEGORIES:Club Event
ORGANIZER;CN="General":MAILTO:jessica@basoccer.club
END:VEVENT
BEGIN:VEVENT
DTSTART;VALUE=DATE:20230420
DTEND;VALUE=DATE:20230424
DTSTAMP:20260421T184241
CREATED:20221206T180818Z
LAST-MODIFIED:20221206T180859Z
UID:8280-1681948800-1682294399@basoccer.club
SUMMARY:Competitive Tournament @ ISSC - No League Games
DESCRIPTION:
URL:https://basoccer.club/eventt/competitive-tournament-s23/
LOCATION:Indian Springs Soccer Complex\, 13600 South 145th East Avenue\, Broken Arrow\, OK\, 74011\, United States
CATEGORIES:upcoming tournaments
ORGANIZER;CN="Info":MAILTO:info@basoccer.club
END:VEVENT
BEGIN:VEVENT
DTSTART;TZID=America/Chicago:20230417T170000
DTEND;TZID=America/Chicago:20230417T200000
DTSTAMP:20260421T184241
CREATED:20230114T015110Z
LAST-MODIFIED:20230114T015110Z
UID:8440-1681750800-1681761600@basoccer.club
SUMMARY:Goal Keeper Training
DESCRIPTION:For Goal Keeper Training Specifics\, please click here.
URL:https://basoccer.club/eventt/goal-keeper-training-17apr23/
LOCATION:Indian Springs Soccer Complex\, 13600 South 145th East Avenue\, Broken Arrow\, OK\, 74011\, United States
CATEGORIES:Training - players
ORGANIZER;CN="Coach":MAILTO:coach@basoccer.club
END:VEVENT
BEGIN:VEVENT
DTSTART;VALUE=DATE:20230417
DTEND;VALUE=DATE:20230418
DTSTAMP:20260421T184241
CREATED:20230117T153641Z
LAST-MODIFIED:20230117T153641Z
UID:8457-1681689600-1681775999@basoccer.club
SUMMARY:REGISTRATION DEADLINE: Oklahoma Mothers Day Classic
DESCRIPTION:Register now for the Oklahoma Mother’s Day Classic
URL:https://basoccer.club/eventt/registration-deadline-oklahoma-mothers-day-classic-23/
LOCATION:Indian Springs Soccer Complex\, 13600 South 145th East Avenue\, Broken Arrow\, OK\, 74011\, United States
CATEGORIES:upcoming tournaments
ORGANIZER;CN="Tournament":MAILTO:tournament@basoccer.club
END:VEVENT
BEGIN:VEVENT
DTSTART;TZID=America/Chicago:20230415T180000
DTEND;TZID=America/Chicago:20230415T203000
DTSTAMP:20260421T184241
CREATED:20230126T185801Z
LAST-MODIFIED:20230126T185801Z
UID:8585-1681581600-1681590600@basoccer.club
SUMMARY:Coach\, Manager & Ref - Pick Up Game
DESCRIPTION:Follow the link below for details
URL:https://basoccer.club/eventt/coach-manager-ref-pick-up-game-41523/
LOCATION:Indian Springs Soccer Complex\, 13600 South 145th East Avenue\, Broken Arrow\, OK\, 74011\, United States
CATEGORIES:Club Event
ATTACH;FMTTYPE=image/png:https://basoccer.club/wp-content/uploads/2022/03/Pick-up-games_2022.png
ORGANIZER;CN="Coach":MAILTO:coach@basoccer.club
END:VEVENT
BEGIN:VEVENT
DTSTART;TZID=America/Chicago:20230414T180000
DTEND;TZID=America/Chicago:20230414T193000
DTSTAMP:20260421T184241
CREATED:20230412T195124Z
LAST-MODIFIED:20230412T195124Z
UID:9078-1681495200-1681500600@basoccer.club
SUMMARY:EXPRESS FRIDAY NIGHT DEVELOPMENTAL TRAINING
DESCRIPTION:Additional advanced training for U6 – U10 players. \nRegistration Required.
URL:https://basoccer.club/eventt/express-friday-night-developmental-training-41423/
LOCATION:Indian Springs Soccer Complex\, 13600 South 145th East Avenue\, Broken Arrow\, OK\, 74011\, United States
CATEGORIES:Training - players
ORGANIZER;CN="Academy":MAILTO:coach@brokenarrowexpress.club
END:VEVENT
BEGIN:VEVENT
DTSTART;VALUE=DATE:20230414
DTEND;VALUE=DATE:20230716
DTSTAMP:20260421T184241
CREATED:20230414T154606Z
LAST-MODIFIED:20230414T154706Z
UID:9095-1681430400-1689465599@basoccer.club
SUMMARY:Fall 2023 Recreational Soccer Registration OPEN
DESCRIPTION:Click here for more information and to register. 
URL:https://basoccer.club/eventt/recreational-soccer-registration-open-f23/
LOCATION:OK
CATEGORIES:Registration
ORGANIZER;CN="Info":MAILTO:info@basoccer.club
END:VEVENT
BEGIN:VEVENT
DTSTART;TZID=America/Chicago:20230410T170000
DTEND;TZID=America/Chicago:20230410T200000
DTSTAMP:20260421T184241
CREATED:20230114T015042Z
LAST-MODIFIED:20230114T015042Z
UID:8438-1681146000-1681156800@basoccer.club
SUMMARY:Goal Keeper Training
DESCRIPTION:For Goal Keeper Training Specifics\, please click here.
URL:https://basoccer.club/eventt/goal-keeper-training-10apr23/
LOCATION:Indian Springs Soccer Complex\, 13600 South 145th East Avenue\, Broken Arrow\, OK\, 74011\, United States
CATEGORIES:Training - players
ORGANIZER;CN="Coach":MAILTO:coach@basoccer.club
END:VEVENT
BEGIN:VEVENT
DTSTART;VALUE=DATE:20230409
DTEND;VALUE=DATE:20230410
DTSTAMP:20260421T184241
CREATED:20230117T162718Z
LAST-MODIFIED:20230117T162725Z
UID:8459-1680998400-1681084799@basoccer.club
SUMMARY:Easter Sunday - No League Games
DESCRIPTION:
URL:https://basoccer.club/eventt/easter-sunday-no-league-games-23/
LOCATION:Indian Springs Soccer Complex\, 13600 South 145th East Avenue\, Broken Arrow\, OK\, 74011\, United States
CATEGORIES:Office Closed
ORGANIZER;CN="Info":MAILTO:info@basoccer.club
END:VEVENT
BEGIN:VEVENT
DTSTART;VALUE=DATE:20230407
DTEND;VALUE=DATE:20230408
DTSTAMP:20260421T184241
CREATED:20230117T194732Z
LAST-MODIFIED:20230117T201627Z
UID:8511-1680825600-1680911999@basoccer.club
SUMMARY:OFFICE CLOSED - Good Friday Holiday
DESCRIPTION:
URL:https://basoccer.club/eventt/office-closed-good-friday-holiday-23/
LOCATION:Indian Springs Soccer Complex\, 13600 South 145th East Avenue\, Broken Arrow\, OK\, 74011\, United States
CATEGORIES:Office Closed
ORGANIZER;CN="Info":MAILTO:info@basoccer.club
END:VEVENT
BEGIN:VEVENT
DTSTART;VALUE=DATE:20230407
DTEND;VALUE=DATE:20230408
DTSTAMP:20260421T184241
CREATED:20220922T232121Z
LAST-MODIFIED:20220922T232121Z
UID:7989-1680825600-1680911999@basoccer.club
SUMMARY:DEADLINE: College Scholarship Application Deadline
DESCRIPTION:Follow the link below for criteria and to apply.
URL:https://basoccer.club/eventt/deadline-college-scholarship-application-deadline-23/
LOCATION:OK
CATEGORIES:General
ORGANIZER;CN="General":MAILTO:jessica@basoccer.club
END:VEVENT
BEGIN:VEVENT
DTSTART;TZID=America/Chicago:20230403T180000
DTEND;TZID=America/Chicago:20230403T200000
DTSTAMP:20260421T184241
CREATED:20230311T184309Z
LAST-MODIFIED:20230311T184309Z
UID:8962-1680544800-1680552000@basoccer.club
SUMMARY:Referee Class
DESCRIPTION:For anyone who wants to become a soccer referee. Follow the link below to register online.
URL:https://basoccer.club/eventt/referee-class-4323/
LOCATION:Indian Springs Soccer Complex\, 13600 South 145th East Avenue\, Broken Arrow\, OK\, 74011\, United States
CATEGORIES:Referee
ORGANIZER;CN="Referee":MAILTO:areareferee@basoccer.club
END:VEVENT
BEGIN:VEVENT
DTSTART;TZID=America/Chicago:20230403T170000
DTEND;TZID=America/Chicago:20230403T200000
DTSTAMP:20260421T184241
CREATED:20230114T015013Z
LAST-MODIFIED:20230114T015013Z
UID:8436-1680541200-1680552000@basoccer.club
SUMMARY:Goal Keeper Training
DESCRIPTION:For Goal Keeper Training Specifics\, please click here.
URL:https://basoccer.club/eventt/goal-keeper-training-3apr23/
LOCATION:Indian Springs Soccer Complex\, 13600 South 145th East Avenue\, Broken Arrow\, OK\, 74011\, United States
CATEGORIES:Training - players
ORGANIZER;CN="Coach":MAILTO:coach@basoccer.club
END:VEVENT
BEGIN:VEVENT
DTSTART;VALUE=DATE:20230331
DTEND;VALUE=DATE:20230401
DTSTAMP:20260421T184241
CREATED:20230328T165744Z
LAST-MODIFIED:20230328T202614Z
UID:9013-1680220800-1680307199@basoccer.club
SUMMARY:Referee Class Registration Deadline
DESCRIPTION:For anyone who wants to become a soccer referee. Follow the link below to register online before the end of today.
URL:https://basoccer.club/eventt/referee-class-deadline-s23/
LOCATION:Indian Springs Soccer Complex\, 13600 South 145th East Avenue\, Broken Arrow\, OK\, 74011\, United States
CATEGORIES:Referee
ORGANIZER;CN="Referee":MAILTO:areareferee@basoccer.club
END:VEVENT
BEGIN:VEVENT
DTSTART;VALUE=DATE:20230331
DTEND;VALUE=DATE:20230401
DTSTAMP:20260421T184241
CREATED:20230327T212335Z
LAST-MODIFIED:20230328T165542Z
UID:9009-1680220800-1680307199@basoccer.club
SUMMARY:Discounted Registration Deadline: Oklahoma Mother's Day Classic
DESCRIPTION:Register by end of day today to get 10% off your teams registration fee. \nhttp://basoccer.club/tournaments/oklahoma-mothers-day-classic/registration/
URL:https://basoccer.club/eventt/discounted-registration-deadline-oklahoma-mothers-day-classic-23/
LOCATION:OK
CATEGORIES:upcoming tournaments
ORGANIZER;CN="Tournament":MAILTO:tournament@basoccer.club
END:VEVENT
BEGIN:VEVENT
DTSTART;TZID=America/Chicago:20230327T170000
DTEND;TZID=America/Chicago:20230327T200000
DTSTAMP:20260421T184241
CREATED:20230114T014929Z
LAST-MODIFIED:20230114T014929Z
UID:8434-1679936400-1679947200@basoccer.club
SUMMARY:Goal Keeper Training
DESCRIPTION:For Goal Keeper Training Specifics\, please click here.
URL:https://basoccer.club/eventt/goal-keeper-training-27mar23/
LOCATION:Indian Springs Soccer Complex\, 13600 South 145th East Avenue\, Broken Arrow\, OK\, 74011\, United States
CATEGORIES:Training - players
ORGANIZER;CN="Coach":MAILTO:coach@basoccer.club
END:VEVENT
BEGIN:VEVENT
DTSTART;TZID=America/Chicago:20230325T180000
DTEND;TZID=America/Chicago:20230325T203000
DTSTAMP:20260421T184241
CREATED:20230126T185730Z
LAST-MODIFIED:20230324T202508Z
UID:8583-1679767200-1679776200@basoccer.club
SUMMARY:CANCELLED - Complex Closed - Coach\, Manager & Ref - Pick Up Game
DESCRIPTION:Follow the link below for details
URL:https://basoccer.club/eventt/coach-manager-ref-pick-up-game-32523/
LOCATION:Indian Springs Soccer Complex\, 13600 South 145th East Avenue\, Broken Arrow\, OK\, 74011\, United States
CATEGORIES:Club Event
ATTACH;FMTTYPE=image/png:https://basoccer.club/wp-content/uploads/2022/03/Pick-up-games_2022.png
ORGANIZER;CN="Coach":MAILTO:coach@basoccer.club
END:VEVENT
BEGIN:VEVENT
DTSTART;TZID=America/Chicago:20230320T170000
DTEND;TZID=America/Chicago:20230320T200000
DTSTAMP:20260421T184241
CREATED:20230114T014826Z
LAST-MODIFIED:20230114T014826Z
UID:8432-1679331600-1679342400@basoccer.club
SUMMARY:Goal Keeper Training
DESCRIPTION:For Goal Keeper Training Specifics\, please click here.
URL:https://basoccer.club/eventt/goal-keeper-training-20mar23/
LOCATION:Indian Springs Soccer Complex\, 13600 South 145th East Avenue\, Broken Arrow\, OK\, 74011\, United States
CATEGORIES:Training - players
ORGANIZER;CN="Coach":MAILTO:coach@basoccer.club
END:VEVENT
BEGIN:VEVENT
DTSTART;TZID=America/Chicago:20230313T170000
DTEND;TZID=America/Chicago:20230313T200000
DTSTAMP:20260421T184241
CREATED:20230114T014753Z
LAST-MODIFIED:20230114T014753Z
UID:8430-1678726800-1678737600@basoccer.club
SUMMARY:Goal Keeper Training
DESCRIPTION:For Goal Keeper Training Specifics\, please click here.
URL:https://basoccer.club/eventt/goal-keeper-training-13mar23/
LOCATION:Indian Springs Soccer Complex\, 13600 South 145th East Avenue\, Broken Arrow\, OK\, 74011\, United States
CATEGORIES:Training - players
ORGANIZER;CN="Coach":MAILTO:coach@basoccer.club
END:VEVENT
BEGIN:VEVENT
DTSTART;TZID=America/Chicago:20230312T133000
DTEND;TZID=America/Chicago:20230312T180000
DTSTAMP:20260421T184241
CREATED:20230309T220306Z
LAST-MODIFIED:20230309T220452Z
UID:8953-1678627800-1678644000@basoccer.club
SUMMARY:Coach Training by ODP staff
DESCRIPTION:http://basoccer.club/odp-coach-training_s23/
URL:https://basoccer.club/eventt/coach-training-by-odp-staff/
LOCATION:Indian Springs Soccer Complex\, 13600 South 145th East Avenue\, Broken Arrow\, OK\, 74011\, United States
ORGANIZER;CN="Coach":MAILTO:coach@basoccer.club
END:VEVENT
END:VCALENDAR