BEGIN:VCALENDAR
VERSION:2.0
PRODID:-//Broken Arrow Soccer Club - ECPv6.15.20//NONSGML v1.0//EN
CALSCALE:GREGORIAN
METHOD:PUBLISH
X-WR-CALNAME:Broken Arrow Soccer Club
X-ORIGINAL-URL:https://basoccer.club
X-WR-CALDESC:Events for Broken Arrow Soccer Club
REFRESH-INTERVAL;VALUE=DURATION:PT1H
X-Robots-Tag:noindex
X-PUBLISHED-TTL:PT1H
BEGIN:VTIMEZONE
TZID:America/Chicago
BEGIN:DAYLIGHT
TZOFFSETFROM:-0600
TZOFFSETTO:-0500
TZNAME:CDT
DTSTART:20220313T080000
END:DAYLIGHT
BEGIN:STANDARD
TZOFFSETFROM:-0500
TZOFFSETTO:-0600
TZNAME:CST
DTSTART:20221106T070000
END:STANDARD
BEGIN:DAYLIGHT
TZOFFSETFROM:-0600
TZOFFSETTO:-0500
TZNAME:CDT
DTSTART:20230312T080000
END:DAYLIGHT
BEGIN:STANDARD
TZOFFSETFROM:-0500
TZOFFSETTO:-0600
TZNAME:CST
DTSTART:20231105T070000
END:STANDARD
BEGIN:DAYLIGHT
TZOFFSETFROM:-0600
TZOFFSETTO:-0500
TZNAME:CDT
DTSTART:20240310T080000
END:DAYLIGHT
BEGIN:STANDARD
TZOFFSETFROM:-0500
TZOFFSETTO:-0600
TZNAME:CST
DTSTART:20241103T070000
END:STANDARD
END:VTIMEZONE
BEGIN:VEVENT
DTSTART;TZID=America/Chicago:20230906T173000
DTEND;TZID=America/Chicago:20230906T193000
DTSTAMP:20260421T210544
CREATED:20230818T221601Z
LAST-MODIFIED:20230818T222041Z
UID:9922-1694021400-1694028600@basoccer.club
SUMMARY:9v9 Grassroots Field Session @ ISSC
DESCRIPTION:Follow the link below for details and to register.
URL:https://basoccer.club/eventt/9v9-grassroots-field-session-issc-9623/
LOCATION:Indian Springs Soccer Complex\, 13600 South 145th East Avenue\, Broken Arrow\, OK\, 74011\, United States
CATEGORIES:Training - Coach/Manager
ORGANIZER;CN="Coach":MAILTO:coach@basoccer.club
END:VEVENT
BEGIN:VEVENT
DTSTART;TZID=America/Chicago:20230905T193000
DTEND;TZID=America/Chicago:20230905T213000
DTSTAMP:20260421T210544
CREATED:20230818T220823Z
LAST-MODIFIED:20230818T221118Z
UID:9916-1693942200-1693949400@basoccer.club
SUMMARY:11v11 Grassroots Virtual Class
DESCRIPTION:Follow the link below for details and to register.
URL:https://basoccer.club/eventt/11v11-grassroots-virtual-class-9523/
CATEGORIES:Training - Coach/Manager
ORGANIZER;CN="Coach":MAILTO:coach@basoccer.club
END:VEVENT
BEGIN:VEVENT
DTSTART;TZID=America/Chicago:20230905T173000
DTEND;TZID=America/Chicago:20230905T193000
DTSTAMP:20260421T210544
CREATED:20230818T220745Z
LAST-MODIFIED:20230818T220745Z
UID:9914-1693935000-1693942200@basoccer.club
SUMMARY:9v9 Grassroots Virtual Class
DESCRIPTION:Follow the link below for details and to register.
URL:https://basoccer.club/eventt/9v9-grassroots-virtual-class-9523/
CATEGORIES:Training - Coach/Manager
ORGANIZER;CN="Coach":MAILTO:coach@basoccer.club
END:VEVENT
BEGIN:VEVENT
DTSTART;VALUE=DATE:20230904
DTEND;VALUE=DATE:20230905
DTSTAMP:20260421T210544
CREATED:20230117T173513Z
LAST-MODIFIED:20230117T173513Z
UID:8480-1693785600-1693871999@basoccer.club
SUMMARY:Office Closed - Labor Day Holiday
DESCRIPTION:
URL:https://basoccer.club/eventt/office-closed-labor-day-holiday-23/
LOCATION:Indian Springs Soccer Complex\, 13600 South 145th East Avenue\, Broken Arrow\, OK\, 74011\, United States
CATEGORIES:Office Closed
ORGANIZER;CN="Info":MAILTO:info@basoccer.club
END:VEVENT
BEGIN:VEVENT
DTSTART;VALUE=DATE:20230902
DTEND;VALUE=DATE:20230903
DTSTAMP:20260421T210544
CREATED:20221206T173218Z
LAST-MODIFIED:20230622T172158Z
UID:8267-1693612800-1693699199@basoccer.club
SUMMARY:Labor Day Kick-Off Classic Friendlies
DESCRIPTION:Click the link below for tournament info. \nSchedule
URL:https://basoccer.club/eventt/labor-day-kick-off-classic-23/
LOCATION:Indian Springs Soccer Complex\, 13600 South 145th East Avenue\, Broken Arrow\, OK\, 74011\, United States
CATEGORIES:upcoming tournaments
ORGANIZER;CN="Tournament":MAILTO:tournament@basoccer.club
END:VEVENT
BEGIN:VEVENT
DTSTART;TZID=America/Chicago:20230828T170000
DTEND;TZID=America/Chicago:20230828T200000
DTSTAMP:20260421T210544
CREATED:20230724T145129Z
LAST-MODIFIED:20230724T145938Z
UID:9698-1693242000-1693252800@basoccer.club
SUMMARY:Goal Keeper Training
DESCRIPTION:For Goal Keeper Training Specifics\, please click here.
URL:https://basoccer.club/eventt/goal-keeper-training-82823/
LOCATION:Indian Springs Soccer Complex\, 13600 South 145th East Avenue\, Broken Arrow\, OK\, 74011\, United States
CATEGORIES:Training - players
ORGANIZER;CN="Coach":MAILTO:coach@basoccer.club
END:VEVENT
BEGIN:VEVENT
DTSTART;TZID=America/Chicago:20230828T150000
DTEND;TZID=America/Chicago:20230828T150000
DTSTAMP:20260421T210544
CREATED:20230113T173822Z
LAST-MODIFIED:20230113T174258Z
UID:8413-1693234800-1693234800@basoccer.club
SUMMARY:Nominations for Executive Board positions Due by Close of Business: 3rd VP & Secretary
DESCRIPTION:Click the link below for more information.
URL:https://basoccer.club/eventt/nominations-for-executive-board-positions-sept23/
CATEGORIES:Club Event
ORGANIZER;CN="Info":MAILTO:info@basoccer.club
END:VEVENT
BEGIN:VEVENT
DTSTART;VALUE=DATE:20230826
DTEND;VALUE=DATE:20230827
DTSTAMP:20260421T210544
CREATED:20230117T205341Z
LAST-MODIFIED:20230117T205444Z
UID:8531-1693008000-1693094399@basoccer.club
SUMMARY:OPL Season Start
DESCRIPTION:
URL:https://basoccer.club/eventt/opl-season-start-f23/
CATEGORIES:BA Express
ORGANIZER;CN="BA Express":MAILTO:competitiveheadcoach@basoccer.club
END:VEVENT
BEGIN:VEVENT
DTSTART;VALUE=DATE:20230825
DTEND;VALUE=DATE:20230829
DTSTAMP:20260421T210544
CREATED:20230626T171008Z
LAST-MODIFIED:20230626T171109Z
UID:9484-1692921600-1693267199@basoccer.club
SUMMARY:BASC Shop Days @ Dick's Sporting Goods
DESCRIPTION:Click the link below for more information and to get your 20% discount coupon.
URL:https://basoccer.club/eventt/basc-shop-days-dicks-sporting-goods-82523/
LOCATION:Dick’s Sporting Goods\, 1620 East Hillside Drive\, Broken Arrow\, OK\, 74012\, United States
CATEGORIES:Club Event
ORGANIZER;CN="General":MAILTO:jessica@basoccer.club
END:VEVENT
BEGIN:VEVENT
DTSTART;TZID=America/Chicago:20230821T170000
DTEND;TZID=America/Chicago:20230821T200000
DTSTAMP:20260421T210544
CREATED:20230724T144951Z
LAST-MODIFIED:20230724T145904Z
UID:9696-1692637200-1692648000@basoccer.club
SUMMARY:Goal Keeper Training
DESCRIPTION:For Goal Keeper Training Specifics\, please click here.
URL:https://basoccer.club/eventt/goal-keeper-training-82123/
LOCATION:Indian Springs Soccer Complex\, 13600 South 145th East Avenue\, Broken Arrow\, OK\, 74011\, United States
CATEGORIES:Training - players
ORGANIZER;CN="Coach":MAILTO:coach@basoccer.club
END:VEVENT
BEGIN:VEVENT
DTSTART;VALUE=DATE:20230820
DTEND;VALUE=DATE:20230821
DTSTAMP:20260421T210544
CREATED:20230808T170753Z
LAST-MODIFIED:20230818T200333Z
UID:9876-1692489600-1692575999@basoccer.club
SUMMARY:Referee Class Registration Deadline @ 7pm
DESCRIPTION:For anyone who wants to become a soccer referee. Follow the link below to register online by 7pm.
URL:https://basoccer.club/eventt/referee-class-registration-deadline-f23/
LOCATION:Indian Springs Soccer Complex\, 13600 South 145th East Avenue\, Broken Arrow\, OK\, 74011\, United States
CATEGORIES:Referee
ORGANIZER;CN="Referee":MAILTO:areareferee@basoccer.club
END:VEVENT
BEGIN:VEVENT
DTSTART;VALUE=DATE:20230820
DTEND;VALUE=DATE:20230821
DTSTAMP:20260421T210544
CREATED:20230724T163108Z
LAST-MODIFIED:20230724T163132Z
UID:9733-1692489600-1692575999@basoccer.club
SUMMARY:EDL Registration Deadline for NON BASC/BA Express Teams
DESCRIPTION:Get details and register here.
URL:https://basoccer.club/eventt/edl-registration-deadline-for-non-basc-ba-express-teams/
ORGANIZER;CN="General":MAILTO:jessica@basoccer.club
END:VEVENT
BEGIN:VEVENT
DTSTART;VALUE=DATE:20230814
DTEND;VALUE=DATE:20230815
DTSTAMP:20260421T210544
CREATED:20230117T205233Z
LAST-MODIFIED:20230622T172111Z
UID:8529-1691971200-1692057599@basoccer.club
SUMMARY:Registration Deadline: Labor Day Kickoff Classic Friendlies
DESCRIPTION:Click the link below for more information and to register.
URL:https://basoccer.club/eventt/registration-deadline-labor-day-classic-23/
CATEGORIES:upcoming tournaments
ORGANIZER;CN="Tournament":MAILTO:tournament@basoccer.club
END:VEVENT
BEGIN:VEVENT
DTSTART;TZID=America/Chicago:20230812T080000
DTEND;TZID=America/Chicago:20230812T113000
DTSTAMP:20260421T210544
CREATED:20230629T154854Z
LAST-MODIFIED:20230629T154855Z
UID:9525-1691827200-1691839800@basoccer.club
SUMMARY:New Coach In-House Training @ ISSC
DESCRIPTION:Follow the link below for more information and to register.
URL:https://basoccer.club/eventt/new-coach-in-house-training-f23/
CATEGORIES:Training - Coach/Manager
ORGANIZER;CN="Coach":MAILTO:coach@basoccer.club
END:VEVENT
BEGIN:VEVENT
DTSTART;TZID=America/Chicago:20230811T183000
DTEND;TZID=America/Chicago:20230811T203000
DTSTAMP:20260421T210544
CREATED:20230629T165311Z
LAST-MODIFIED:20230807T155606Z
UID:9530-1691778600-1691785800@basoccer.club
SUMMARY:Laws of the Game Meeting - Mandatory for ALL Coaches
DESCRIPTION:This meeting is mandatory for all coaches and will be hosted by the BASC Interim Area Referee\, Randy Hubbard. \nThis meeting will be held in the NP Meeting Room @ Nienhuis Community Center: 3201 North 9th Street\, Broken Arrow \nFor questions\, contact Randy at: areareferee@basoccer.club \n 
URL:https://basoccer.club/eventt/laws-of-the-game-coach-meeting-f23/
LOCATION:Nienhuis Community Center\, 3201 North 9th Street\, Broken Arrow\, OK\, 74012\, United States
CATEGORIES:Club Event,Referee,Training - Coach/Manager
ORGANIZER;CN="Referee":MAILTO:areareferee@basoccer.club
END:VEVENT
BEGIN:VEVENT
DTSTART;VALUE=DATE:20230811
DTEND;VALUE=DATE:20230815
DTSTAMP:20260421T210544
CREATED:20230626T170658Z
LAST-MODIFIED:20230626T170658Z
UID:9482-1691712000-1692057599@basoccer.club
SUMMARY:BASC Shop Days @ Dick's Sporting Goods
DESCRIPTION:Click the link below for more information and to get your 20% discount coupon.
URL:https://basoccer.club/eventt/basc-shop-days-dicks-sporting-goods-81123/
LOCATION:Dick’s Sporting Goods\, 1620 East Hillside Drive\, Broken Arrow\, OK\, 74012\, United States
CATEGORIES:Club Event
ORGANIZER;CN="General":MAILTO:jessica@basoccer.club
END:VEVENT
BEGIN:VEVENT
DTSTART;TZID=America/Chicago:20230805T080000
DTEND;TZID=America/Chicago:20230805T120000
DTSTAMP:20260421T210544
CREATED:20230717T181604Z
LAST-MODIFIED:20230717T182412Z
UID:9574-1691222400-1691236800@basoccer.club
SUMMARY:Field Day
DESCRIPTION:Get more information at the link below.
URL:https://basoccer.club/eventt/field-day-f23/
LOCATION:Indian Springs Soccer Complex\, 13600 South 145th East Avenue\, Broken Arrow\, OK\, 74011\, United States
CATEGORIES:Club Event
ORGANIZER;CN="Complex Manager":MAILTO:complexmanager@basoccer.club
END:VEVENT
BEGIN:VEVENT
DTSTART;TZID=America/Chicago:20230804T183000
DTEND;TZID=America/Chicago:20230804T203000
DTSTAMP:20260421T210544
CREATED:20230629T164500Z
LAST-MODIFIED:20230629T164735Z
UID:9527-1691173800-1691181000@basoccer.club
SUMMARY:Coach Meeting - Mandatory for ALL Coaches
DESCRIPTION:Click website link below for details.
URL:https://basoccer.club/eventt/coach-meeting-f23/
LOCATION:Nienhuis Community Center\, 3201 North 9th Street\, Broken Arrow\, OK\, 74012\, United States
CATEGORIES:Club Event,Training - Coach/Manager
ORGANIZER;CN="Coach":MAILTO:coach@basoccer.club
END:VEVENT
BEGIN:VEVENT
DTSTART;VALUE=DATE:20230804
DTEND;VALUE=DATE:20230808
DTSTAMP:20260421T210544
CREATED:20230626T171225Z
LAST-MODIFIED:20230626T171235Z
UID:9486-1691107200-1691452799@basoccer.club
SUMMARY:TAX FREE WEEKEND - BASC Shop Days @ Dick's Sporting Goods
DESCRIPTION:Click the link below for more information and to get your 20% discount coupon.
URL:https://basoccer.club/eventt/basc-shop-days-dicks-sporting-goods-8423/
LOCATION:Dick’s Sporting Goods\, 1620 East Hillside Drive\, Broken Arrow\, OK\, 74012\, United States
CATEGORIES:Club Event
ORGANIZER;CN="General":MAILTO:jessica@basoccer.club
END:VEVENT
BEGIN:VEVENT
DTSTART;TZID=America/Chicago:20230803T170000
DTEND;TZID=America/Chicago:20230803T170000
DTSTAMP:20260421T210544
CREATED:20230720T150142Z
LAST-MODIFIED:20230720T150314Z
UID:9599-1691082000-1691082000@basoccer.club
SUMMARY:Practice Field Requests Due by 5pm
DESCRIPTION:Practice Field Locations \nRequest Your Practice Field
URL:https://basoccer.club/eventt/practice-field-requests-due-by-5pm-f23/
CATEGORIES:General
ORGANIZER;CN="Practice Fields":MAILTO:practicefield@basoccer.club
END:VEVENT
BEGIN:VEVENT
DTSTART;VALUE=DATE:20230716
DTEND;VALUE=DATE:20230717
DTSTAMP:20260421T210544
CREATED:20230117T204901Z
LAST-MODIFIED:20230117T204901Z
UID:8525-1689465600-1689551999@basoccer.club
SUMMARY:Late Registration Begins. Fee raises to $115
DESCRIPTION:Follow the link below to register your Soccer Player!
URL:https://basoccer.club/eventt/late-registration-begins-fee-raises-to-115-f23/
CATEGORIES:Registration
ORGANIZER;CN="Info":MAILTO:info@basoccer.club
END:VEVENT
BEGIN:VEVENT
DTSTART;VALUE=DATE:20230715
DTEND;VALUE=DATE:20230716
DTSTAMP:20260421T210544
CREATED:20230117T204736Z
LAST-MODIFIED:20230117T204736Z
UID:8523-1689379200-1689465599@basoccer.club
SUMMARY:BASC Fall 2023 Registration Closes
DESCRIPTION:Follow the link below to register your Soccer Player!
URL:https://basoccer.club/eventt/basc-fall-2023-registration-closes/
CATEGORIES:Registration
ORGANIZER;CN="Info":MAILTO:info@basoccer.club
END:VEVENT
BEGIN:VEVENT
DTSTART;VALUE=DATE:20230714
DTEND;VALUE=DATE:20230715
DTSTAMP:20260421T210544
CREATED:20230117T205004Z
LAST-MODIFIED:20230117T205126Z
UID:8527-1689292800-1689379199@basoccer.club
SUMMARY:Rec Select Rosters Due
DESCRIPTION:Get your Rec Select Roster at the link below. \nEmail your fully filled out Rec Select Roster to the Registrar at: regstration@basoccer.club
URL:https://basoccer.club/eventt/rec-select-rosters-due-f23/
CATEGORIES:Registration
ORGANIZER;CN="Info":MAILTO:info@basoccer.club
END:VEVENT
BEGIN:VEVENT
DTSTART;VALUE=DATE:20230707
DTEND;VALUE=DATE:20230708
DTSTAMP:20260421T210544
CREATED:20230117T204558Z
LAST-MODIFIED:20230117T204558Z
UID:8521-1688688000-1688774399@basoccer.club
SUMMARY:DEADLINE: Financial Aid Applications
DESCRIPTION:Follow the link below to learn more and apply.
URL:https://basoccer.club/eventt/deadline-financial-aid-applications-f23/
CATEGORIES:General,Registration
ORGANIZER;CN="General":MAILTO:jessica@basoccer.club
END:VEVENT
BEGIN:VEVENT
DTSTART;VALUE=DATE:20230704
DTEND;VALUE=DATE:20230705
DTSTAMP:20260421T210544
CREATED:20230117T202237Z
LAST-MODIFIED:20230117T202237Z
UID:8515-1688428800-1688515199@basoccer.club
SUMMARY:Office Closed - Independence Day Holiday
DESCRIPTION:
URL:https://basoccer.club/eventt/office-closed-independence-day-holiday-23/
LOCATION:Indian Springs Soccer Complex\, 13600 South 145th East Avenue\, Broken Arrow\, OK\, 74011\, United States
CATEGORIES:Office Closed
ORGANIZER;CN="Info":MAILTO:info@basoccer.club
END:VEVENT
BEGIN:VEVENT
DTSTART;VALUE=DATE:20230701
DTEND;VALUE=DATE:20230702
DTSTAMP:20260421T210544
CREATED:20230630T221238Z
LAST-MODIFIED:20230630T221238Z
UID:9534-1688169600-1688255999@basoccer.club
SUMMARY:Coach & Manager Registration OPENS for the Fall Season
DESCRIPTION:Use the link below to register as a Coach and/or Manager.
URL:https://basoccer.club/eventt/coach-manager-registration-opens-for-the-fall-season/
ORGANIZER;CN="Info":MAILTO:info@basoccer.club
END:VEVENT
BEGIN:VEVENT
DTSTART;VALUE=DATE:20230630
DTEND;VALUE=DATE:20230701
DTSTAMP:20260421T210544
CREATED:20230117T181452Z
LAST-MODIFIED:20230117T191004Z
UID:8492-1688083200-1688169599@basoccer.club
SUMMARY:BASC Office Summer Hours in Effect - Closed Friday's in June
DESCRIPTION:Follow the link below for more information.
URL:https://basoccer.club/eventt/basc-office-summer-hours-in-effect-closed-fridays-in-june-3023/
LOCATION:Indian Springs Soccer Complex\, 13600 South 145th East Avenue\, Broken Arrow\, OK\, 74011\, United States
CATEGORIES:General
ORGANIZER;CN="Info":MAILTO:info@basoccer.club
END:VEVENT
BEGIN:VEVENT
DTSTART;VALUE=DATE:20230623
DTEND;VALUE=DATE:20230624
DTSTAMP:20260421T210544
CREATED:20230117T181416Z
LAST-MODIFIED:20230117T181416Z
UID:8490-1687478400-1687564799@basoccer.club
SUMMARY:BASC Office Summer Hours in Effect - Closed Friday's in June
DESCRIPTION:Follow the link below for more information.
URL:https://basoccer.club/eventt/basc-office-summer-hours-in-effect-closed-fridays-in-june-2323/
LOCATION:Indian Springs Soccer Complex\, 13600 South 145th East Avenue\, Broken Arrow\, OK\, 74011\, United States
CATEGORIES:General
ORGANIZER;CN="Info":MAILTO:info@basoccer.club
END:VEVENT
BEGIN:VEVENT
DTSTART;TZID=America/Chicago:20230622T190000
DTEND;TZID=America/Chicago:20230622T200000
DTSTAMP:20260421T210544
CREATED:20230117T191356Z
LAST-MODIFIED:20230501T184641Z
UID:8494-1687460400-1687464000@basoccer.club
SUMMARY:BASC Spring Awards Ceremony
DESCRIPTION:The Spring 2023 Awards ceremony is for League winners in the U9 and older age groups. \nWinning coaches will be notified in late May / early June with details.
URL:https://basoccer.club/eventt/basc-spring-awards-ceremony-s23/
LOCATION:Indian Springs Soccer Complex\, 13600 South 145th East Avenue\, Broken Arrow\, OK\, 74011\, United States
CATEGORIES:Club Event
ORGANIZER;CN="General":MAILTO:jessica@basoccer.club
END:VEVENT
BEGIN:VEVENT
DTSTART;VALUE=DATE:20230616
DTEND;VALUE=DATE:20230617
DTSTAMP:20260421T210544
CREATED:20230117T181346Z
LAST-MODIFIED:20230117T181346Z
UID:8488-1686873600-1686959999@basoccer.club
SUMMARY:BASC Office Summer Hours in Effect - Closed Friday's in June
DESCRIPTION:Follow the link below for more information.
URL:https://basoccer.club/eventt/basc-office-summer-hours-in-effect-closed-fridays-in-june-1623/
LOCATION:Indian Springs Soccer Complex\, 13600 South 145th East Avenue\, Broken Arrow\, OK\, 74011\, United States
CATEGORIES:General
ORGANIZER;CN="Info":MAILTO:info@basoccer.club
END:VEVENT
END:VCALENDAR