BEGIN:VCALENDAR
VERSION:2.0
PRODID:-//Broken Arrow Soccer Club - ECPv6.15.20//NONSGML v1.0//EN
CALSCALE:GREGORIAN
METHOD:PUBLISH
X-WR-CALNAME:Broken Arrow Soccer Club
X-ORIGINAL-URL:https://basoccer.club
X-WR-CALDESC:Events for Broken Arrow Soccer Club
REFRESH-INTERVAL;VALUE=DURATION:PT1H
X-Robots-Tag:noindex
X-PUBLISHED-TTL:PT1H
BEGIN:VTIMEZONE
TZID:America/Chicago
BEGIN:DAYLIGHT
TZOFFSETFROM:-0600
TZOFFSETTO:-0500
TZNAME:CDT
DTSTART:20220313T080000
END:DAYLIGHT
BEGIN:STANDARD
TZOFFSETFROM:-0500
TZOFFSETTO:-0600
TZNAME:CST
DTSTART:20221106T070000
END:STANDARD
BEGIN:DAYLIGHT
TZOFFSETFROM:-0600
TZOFFSETTO:-0500
TZNAME:CDT
DTSTART:20230312T080000
END:DAYLIGHT
BEGIN:STANDARD
TZOFFSETFROM:-0500
TZOFFSETTO:-0600
TZNAME:CST
DTSTART:20231105T070000
END:STANDARD
BEGIN:DAYLIGHT
TZOFFSETFROM:-0600
TZOFFSETTO:-0500
TZNAME:CDT
DTSTART:20240310T080000
END:DAYLIGHT
BEGIN:STANDARD
TZOFFSETFROM:-0500
TZOFFSETTO:-0600
TZNAME:CST
DTSTART:20241103T070000
END:STANDARD
BEGIN:DAYLIGHT
TZOFFSETFROM:-0600
TZOFFSETTO:-0500
TZNAME:CDT
DTSTART:20250309T080000
END:DAYLIGHT
BEGIN:STANDARD
TZOFFSETFROM:-0500
TZOFFSETTO:-0600
TZNAME:CST
DTSTART:20251102T070000
END:STANDARD
END:VTIMEZONE
BEGIN:VEVENT
DTSTART;TZID=America/Chicago:20240130T180000
DTEND;TZID=America/Chicago:20240130T200000
DTSTAMP:20260421T115549
CREATED:20240103T214706Z
LAST-MODIFIED:20240122T185129Z
UID:10455-1706637600-1706644800@basoccer.club
SUMMARY:On Field Referee Class @ ISSC -- UPDATED DATE
DESCRIPTION:For anyone who wants to become a soccer referee. Follow the link below to register online.
URL:https://basoccer.club/eventt/on-field-referee-class-123/
LOCATION:Indian Springs Soccer Complex\, 13600 South 145th East Avenue\, Broken Arrow\, OK\, 74011\, United States
CATEGORIES:Referee
ORGANIZER;CN="Referee":MAILTO:areareferee@basoccer.club
END:VEVENT
BEGIN:VEVENT
DTSTART;VALUE=DATE:20240127
DTEND;VALUE=DATE:20240128
DTSTAMP:20260421T115549
CREATED:20240103T214430Z
LAST-MODIFIED:20240122T191444Z
UID:10451-1706313600-1706399999@basoccer.club
SUMMARY:1/30 Referee Class Registration Deadline @ 10pm - UPDATED DATE
DESCRIPTION:For anyone who wants to become a soccer referee. Follow the link below to register online by 8pm.
URL:https://basoccer.club/eventt/1-23-referee-class-registration-deadline-8pm/
LOCATION:Indian Springs Soccer Complex\, 13600 South 145th East Avenue\, Broken Arrow\, OK\, 74011\, United States
CATEGORIES:Referee
ORGANIZER;CN="Referee":MAILTO:areareferee@basoccer.club
END:VEVENT
BEGIN:VEVENT
DTSTART;VALUE=DATE:20240114
DTEND;VALUE=DATE:20240115
DTSTAMP:20260421T115549
CREATED:20231207T175946Z
LAST-MODIFIED:20231207T175946Z
UID:10355-1705190400-1705276799@basoccer.club
SUMMARY:Late Registration Begins. Fee raises to $115
DESCRIPTION:Follow the link below to register your Soccer Player!
URL:https://basoccer.club/eventt/late-registration-begins-s24/
LOCATION:OK
CATEGORIES:Registration
ORGANIZER;CN="Registrar":MAILTO:registration@basoccer.club
END:VEVENT
BEGIN:VEVENT
DTSTART;VALUE=DATE:20240113
DTEND;VALUE=DATE:20240114
DTSTAMP:20260421T115549
CREATED:20231207T175759Z
LAST-MODIFIED:20231207T175815Z
UID:10352-1705104000-1705190399@basoccer.club
SUMMARY:BASC Spring 2024 Registration Closes
DESCRIPTION:Follow the link below to register your Soccer Player!
URL:https://basoccer.club/eventt/basc-spring-registration-closes-s24/
LOCATION:OK
CATEGORIES:Registration
ORGANIZER;CN="Registrar":MAILTO:registration@basoccer.club
END:VEVENT
BEGIN:VEVENT
DTSTART;VALUE=DATE:20240112
DTEND;VALUE=DATE:20240113
DTSTAMP:20260421T115549
CREATED:20231207T175326Z
LAST-MODIFIED:20231207T175400Z
UID:10350-1705017600-1705103999@basoccer.club
SUMMARY:Rec Select Rosters Due
DESCRIPTION:Get your Rec Select Roster at the link below. \nEmail your fully filled out Rec Select Roster to the Registrar at: registration@basoccer.club
URL:https://basoccer.club/eventt/rec-select-rosters-due-s24/
LOCATION:OK
CATEGORIES:Registration
ORGANIZER;CN="Registrar":MAILTO:registration@basoccer.club
END:VEVENT
BEGIN:VEVENT
DTSTART;VALUE=DATE:20240105
DTEND;VALUE=DATE:20240106
DTSTAMP:20260421T115549
CREATED:20231016T215505Z
LAST-MODIFIED:20231207T174739Z
UID:10222-1704412800-1704499199@basoccer.club
SUMMARY:DEADLINE: Financial Aid Applications for spring 2024 Season
DESCRIPTION:Follow the link below to learn more and apply.
URL:https://basoccer.club/eventt/deadline-financial-aid-applications-s24/
LOCATION:OK
CATEGORIES:General,Registration
ORGANIZER;CN="General":MAILTO:jessica@basoccer.club
END:VEVENT
BEGIN:VEVENT
DTSTART;VALUE=DATE:20240101
DTEND;VALUE=DATE:20240102
DTSTAMP:20260421T115549
CREATED:20230117T210513Z
LAST-MODIFIED:20230117T210547Z
UID:8547-1704067200-1704153599@basoccer.club
SUMMARY:Office Closed - New Year Holiday
DESCRIPTION:
URL:https://basoccer.club/eventt/office-closed-new-year-holiday-24/
LOCATION:Indian Springs Soccer Complex\, 13600 South 145th East Avenue\, Broken Arrow\, OK\, 74011\, United States
CATEGORIES:Office Closed
ORGANIZER;CN="Info":MAILTO:info@basoccer.club
END:VEVENT
BEGIN:VEVENT
DTSTART;VALUE=DATE:20231229
DTEND;VALUE=DATE:20231230
DTSTAMP:20260421T115549
CREATED:20230117T194235Z
LAST-MODIFIED:20230117T194235Z
UID:8509-1703808000-1703894399@basoccer.club
SUMMARY:BASC Office Winter Hours in Effect - Closed Friday's in December
DESCRIPTION:Follow the link below for more information.
URL:https://basoccer.club/eventt/basc-office-winter-hours-in-effect-closed-fridays-in-december-29dec23/
LOCATION:Indian Springs Soccer Complex\, 13600 South 145th East Avenue\, Broken Arrow\, OK\, 74011\, United States
CATEGORIES:General
ORGANIZER;CN="Info":MAILTO:info@basoccer.club
END:VEVENT
BEGIN:VEVENT
DTSTART;VALUE=DATE:20231226
DTEND;VALUE=DATE:20231227
DTSTAMP:20260421T115549
CREATED:20230117T210223Z
LAST-MODIFIED:20230117T210421Z
UID:8543-1703548800-1703635199@basoccer.club
SUMMARY:Office Closed - Christmas Day Holiday
DESCRIPTION:
URL:https://basoccer.club/eventt/office-closed-christmas-day-holiday-23/
LOCATION:Indian Springs Soccer Complex\, 13600 South 145th East Avenue\, Broken Arrow\, OK\, 74011\, United States
CATEGORIES:Office Closed
ORGANIZER;CN="Info":MAILTO:info@basoccer.club
END:VEVENT
BEGIN:VEVENT
DTSTART;VALUE=DATE:20231225
DTEND;VALUE=DATE:20231226
DTSTAMP:20260421T115549
CREATED:20230117T210319Z
LAST-MODIFIED:20230117T210355Z
UID:8545-1703462400-1703548799@basoccer.club
SUMMARY:Office Closed - Christmas Eve Holiday
DESCRIPTION:
URL:https://basoccer.club/eventt/office-closed-christmas-eve-holiday-23/
LOCATION:Indian Springs Soccer Complex\, 13600 South 145th East Avenue\, Broken Arrow\, OK\, 74011\, United States
CATEGORIES:Office Closed
ORGANIZER;CN="Info":MAILTO:info@basoccer.club
END:VEVENT
BEGIN:VEVENT
DTSTART;VALUE=DATE:20231222
DTEND;VALUE=DATE:20231223
DTSTAMP:20260421T115549
CREATED:20230117T194106Z
LAST-MODIFIED:20230117T194106Z
UID:8507-1703203200-1703289599@basoccer.club
SUMMARY:BASC Office Winter Hours in Effect - Closed Friday's in December
DESCRIPTION:Follow the link below for more information.
URL:https://basoccer.club/eventt/basc-office-winter-hours-in-effect-closed-fridays-in-december-22dec23/
LOCATION:Indian Springs Soccer Complex\, 13600 South 145th East Avenue\, Broken Arrow\, OK\, 74011\, United States
CATEGORIES:General
ORGANIZER;CN="Info":MAILTO:info@basoccer.club
END:VEVENT
BEGIN:VEVENT
DTSTART;VALUE=DATE:20231220
DTEND;VALUE=DATE:20240121
DTSTAMP:20260421T115549
CREATED:20231207T175846Z
LAST-MODIFIED:20231220T211959Z
UID:10108-1703030400-1705795199@basoccer.club
SUMMARY:Janitorial Services Job Opening
DESCRIPTION:Accepting Applications through January 20th \nGet specifications and apply here.
URL:https://basoccer.club/eventt/janitorial-services/
LOCATION:OK
CATEGORIES:General
ORGANIZER;CN="Info":MAILTO:info@basoccer.club
END:VEVENT
BEGIN:VEVENT
DTSTART;VALUE=DATE:20231215
DTEND;VALUE=DATE:20231216
DTSTAMP:20260421T115549
CREATED:20230117T194025Z
LAST-MODIFIED:20230117T194025Z
UID:8505-1702598400-1702684799@basoccer.club
SUMMARY:BASC Office Winter Hours in Effect - Closed Friday's in December
DESCRIPTION:Follow the link below for more information.
URL:https://basoccer.club/eventt/basc-office-winter-hours-in-effect-closed-fridays-in-december-15dec23/
LOCATION:Indian Springs Soccer Complex\, 13600 South 145th East Avenue\, Broken Arrow\, OK\, 74011\, United States
CATEGORIES:General
ORGANIZER;CN="Info":MAILTO:info@basoccer.club
END:VEVENT
BEGIN:VEVENT
DTSTART;TZID=America/Chicago:20231214T190000
DTEND;TZID=America/Chicago:20231214T200000
DTSTAMP:20260421T115549
CREATED:20230117T193157Z
LAST-MODIFIED:20230117T193157Z
UID:8497-1702580400-1702584000@basoccer.club
SUMMARY:BASC Fall Awards Ceremony
DESCRIPTION:The Fall 2023 Awards ceremony for U9 – U19 League winners. Click below for details. \nWinning coaches will be notified in late November / early December with details.
URL:https://basoccer.club/eventt/basc-fall-awards-ceremony-f23/
LOCATION:Ridge Christian Church\, 4010 W New Orleans St\,\, Broken Arrow\, OK\, 74011\, United States
CATEGORIES:Club Event
ORGANIZER;CN="General":MAILTO:jessica@basoccer.club
END:VEVENT
BEGIN:VEVENT
DTSTART;VALUE=DATE:20231208
DTEND;VALUE=DATE:20231209
DTSTAMP:20260421T115549
CREATED:20230117T193932Z
LAST-MODIFIED:20230117T193932Z
UID:8503-1701993600-1702079999@basoccer.club
SUMMARY:BASC Office Winter Hours in Effect - Closed Friday's in December
DESCRIPTION:Follow the link below for more information.
URL:https://basoccer.club/eventt/basc-office-winter-hours-in-effect-closed-fridays-in-december-8dec23/
LOCATION:Indian Springs Soccer Complex\, 13600 South 145th East Avenue\, Broken Arrow\, OK\, 74011\, United States
CATEGORIES:General
ORGANIZER;CN="Info":MAILTO:info@basoccer.club
END:VEVENT
BEGIN:VEVENT
DTSTART;TZID=America/Chicago:20231205T180000
DTEND;TZID=America/Chicago:20231205T200000
DTSTAMP:20260421T115549
CREATED:20230808T160801Z
LAST-MODIFIED:20231128T235739Z
UID:9874-1701799200-1701806400@basoccer.club
SUMMARY:On Field Referee Class @ ISSC
DESCRIPTION:For anyone who wants to become a soccer referee. Follow the link below to register online.
URL:https://basoccer.club/eventt/referee-class-s24-1/
LOCATION:Indian Springs Soccer Complex\, 13600 South 145th East Avenue\, Broken Arrow\, OK\, 74011\, United States
CATEGORIES:Referee
ORGANIZER;CN="Referee":MAILTO:areareferee@basoccer.club
END:VEVENT
BEGIN:VEVENT
DTSTART;VALUE=DATE:20231203
DTEND;VALUE=DATE:20231204
DTSTAMP:20260421T115549
CREATED:20231128T235523Z
LAST-MODIFIED:20231128T235523Z
UID:10327-1701561600-1701647999@basoccer.club
SUMMARY:Referee Class Registration Deadline @ 8pm
DESCRIPTION:For anyone who wants to become a soccer referee. Follow the link below to register online by 8pm.
URL:https://basoccer.club/eventt/referee-class-registration-deadline-1223/
LOCATION:Indian Springs Soccer Complex\, 13600 South 145th East Avenue\, Broken Arrow\, OK\, 74011\, United States
CATEGORIES:Referee
ORGANIZER;CN="Referee":MAILTO:areareferee@basoccer.club
END:VEVENT
BEGIN:VEVENT
DTSTART;VALUE=DATE:20231201
DTEND;VALUE=DATE:20231202
DTSTAMP:20260421T115549
CREATED:20230117T193542Z
LAST-MODIFIED:20230117T193542Z
UID:8501-1701388800-1701475199@basoccer.club
SUMMARY:BASC Office Winter Hours in Effect - Closed Friday's in December
DESCRIPTION:Follow the link below for more information.
URL:https://basoccer.club/eventt/basc-office-winter-hours-in-effect-closed-fridays-in-december-1dec23/
LOCATION:Indian Springs Soccer Complex\, 13600 South 145th East Avenue\, Broken Arrow\, OK\, 74011\, United States
CATEGORIES:General
ORGANIZER;CN="Info":MAILTO:info@basoccer.club
END:VEVENT
BEGIN:VEVENT
DTSTART;VALUE=DATE:20231123
DTEND;VALUE=DATE:20231125
DTSTAMP:20260421T115549
CREATED:20230117T210048Z
LAST-MODIFIED:20230117T210145Z
UID:8541-1700697600-1700870399@basoccer.club
SUMMARY:Office Closed - Thanksgiving Holiday
DESCRIPTION:
URL:https://basoccer.club/eventt/office-closed-thanksgiving-holiday-23/
LOCATION:Indian Springs Soccer Complex\, 13600 South 145th East Avenue\, Broken Arrow\, OK\, 74011\, United States
CATEGORIES:Office Closed
ORGANIZER;CN="Info":MAILTO:info@basoccer.club
END:VEVENT
BEGIN:VEVENT
DTSTART;TZID=America/Chicago:20231109T180000
DTEND;TZID=America/Chicago:20231111T200000
DTSTAMP:20260421T115549
CREATED:20221206T173819Z
LAST-MODIFIED:20231107T125925Z
UID:8273-1699552800-1699732800@basoccer.club
SUMMARY:BASC Fall Classic
DESCRIPTION:Follow the link below for more information and to register. \nSchedule
URL:https://basoccer.club/eventt/basc-fall-classic-23/
LOCATION:OK
CATEGORIES:upcoming tournaments
ORGANIZER;CN="Tournament":MAILTO:tournament@basoccer.club
END:VEVENT
BEGIN:VEVENT
DTSTART;TZID=America/Chicago:20231106T170000
DTEND;TZID=America/Chicago:20231106T200000
DTSTAMP:20260421T115549
CREATED:20231030T173003Z
LAST-MODIFIED:20231030T173003Z
UID:10245-1699290000-1699300800@basoccer.club
SUMMARY:Goal Keeper Training
DESCRIPTION:For Goal Keeper Training Specifics\, please click here.
URL:https://basoccer.club/eventt/goal-keeper-training-11623/
LOCATION:Indian Springs Soccer Complex\, 13600 South 145th East Avenue\, Broken Arrow\, OK\, 74011\, United States
CATEGORIES:Training - players
ORGANIZER;CN="Coach":MAILTO:coach@basoccer.club
END:VEVENT
BEGIN:VEVENT
DTSTART;TZID=America/Chicago:20231105T180000
DTEND;TZID=America/Chicago:20231105T203000
DTSTAMP:20260421T115549
CREATED:20230726T160144Z
LAST-MODIFIED:20230726T161010Z
UID:9748-1699207200-1699216200@basoccer.club
SUMMARY:Coach\, Manager & Ref - Pick Up Game
DESCRIPTION:Follow the link below for details
URL:https://basoccer.club/eventt/coach-manager-ref-pick-up-game-11523/
LOCATION:Indian Springs Soccer Complex\, 13600 South 145th East Avenue\, Broken Arrow\, OK\, 74011\, United States
CATEGORIES:Club Event
ATTACH;FMTTYPE=image/png:https://basoccer.club/wp-content/uploads/2022/03/Pick-up-games_2022.png
ORGANIZER;CN="Coach":MAILTO:coach@basoccer.club
END:VEVENT
BEGIN:VEVENT
DTSTART;TZID=America/Chicago:20231102T193000
DTEND;TZID=America/Chicago:20231102T203000
DTSTAMP:20260421T115549
CREATED:20230104T165616Z
LAST-MODIFIED:20230104T165616Z
UID:8327-1698953400-1698957000@basoccer.club
SUMMARY:General Membership Meeting
DESCRIPTION:Follow the link below for more information.
URL:https://basoccer.club/eventt/general-membership-meeting-nov23/
LOCATION:Central Park Community Center\, 1500 South Main Street\, Broken Arrow\, OK\, 74012\, United States
CATEGORIES:Club Event
ORGANIZER;CN="Info":MAILTO:info@basoccer.club
END:VEVENT
BEGIN:VEVENT
DTSTART;TZID=America/Chicago:20231030T170000
DTEND;TZID=America/Chicago:20231030T200000
DTSTAMP:20260421T115549
CREATED:20230724T145626Z
LAST-MODIFIED:20231030T173036Z
UID:9714-1698685200-1698696000@basoccer.club
SUMMARY:CANCELLED - Goal Keeper Training
DESCRIPTION:For Goal Keeper Training Specifics\, please click here.
URL:https://basoccer.club/eventt/goal-keeper-training-103023/
LOCATION:Indian Springs Soccer Complex\, 13600 South 145th East Avenue\, Broken Arrow\, OK\, 74011\, United States
CATEGORIES:Training - players
ORGANIZER;CN="Coach":MAILTO:coach@basoccer.club
END:VEVENT
BEGIN:VEVENT
DTSTART;VALUE=DATE:20231026
DTEND;VALUE=DATE:20231030
DTSTAMP:20260421T115549
CREATED:20221206T180952Z
LAST-MODIFIED:20221206T180952Z
UID:8282-1698278400-1698623999@basoccer.club
SUMMARY:Competitive Tournament @ ISSC - No League Games
DESCRIPTION:
URL:https://basoccer.club/eventt/competitive-tournament-f23/
LOCATION:Indian Springs Soccer Complex\, 13600 South 145th East Avenue\, Broken Arrow\, OK\, 74011\, United States
CATEGORIES:upcoming tournaments
ORGANIZER;CN="Info":MAILTO:info@basoccer.club
END:VEVENT
BEGIN:VEVENT
DTSTART;TZID=America/Chicago:20231023T170000
DTEND;TZID=America/Chicago:20231023T200000
DTSTAMP:20260421T115549
CREATED:20230724T145606Z
LAST-MODIFIED:20230724T145606Z
UID:9712-1698080400-1698091200@basoccer.club
SUMMARY:Goal Keeper Training
DESCRIPTION:For Goal Keeper Training Specifics\, please click here.
URL:https://basoccer.club/eventt/goal-keeper-training-102323/
LOCATION:Indian Springs Soccer Complex\, 13600 South 145th East Avenue\, Broken Arrow\, OK\, 74011\, United States
CATEGORIES:Training - players
ORGANIZER;CN="Coach":MAILTO:coach@basoccer.club
END:VEVENT
BEGIN:VEVENT
DTSTART;VALUE=DATE:20231023
DTEND;VALUE=DATE:20231024
DTSTAMP:20260421T115549
CREATED:20230113T173120Z
LAST-MODIFIED:20230113T173120Z
UID:8407-1698019200-1698105599@basoccer.club
SUMMARY:Nominations for Executive Board positions Due by Close of Business: Treasurer\, Registrar\, Games Commissioner\, & Head Coach
DESCRIPTION:Click the link below for more information.
URL:https://basoccer.club/eventt/nominations-for-executive-board-positions-due-by-close-of-business-nov23/
LOCATION:OK
CATEGORIES:Club Event
ORGANIZER;CN="Info":MAILTO:info@basoccer.club
END:VEVENT
BEGIN:VEVENT
DTSTART;TZID=America/Chicago:20231021T180000
DTEND;TZID=America/Chicago:20231021T210000
DTSTAMP:20260421T115549
CREATED:20230915T200124Z
LAST-MODIFIED:20230915T200148Z
UID:10018-1697911200-1697922000@basoccer.club
SUMMARY:BASC Night @ TU men's soccer
DESCRIPTION:Join BASC tonight and watch TU take on the SMU Mustangs in men’s soccer! \nGet tickets here.
URL:https://basoccer.club/eventt/basc-night-tu-mens-soccer-102123/
LOCATION:Hurricane Soccer and Track Stadium\, 512 South Delaware Ave\, Tulsa\, OK\, 740104\, United States
ORGANIZER;CN="General":MAILTO:jessica@basoccer.club
END:VEVENT
BEGIN:VEVENT
DTSTART;VALUE=DATE:20231020
DTEND;VALUE=DATE:20231021
DTSTAMP:20260421T115549
CREATED:20230117T205903Z
LAST-MODIFIED:20230922T212022Z
UID:8539-1697760000-1697846399@basoccer.club
SUMMARY:Registration Deadline: BASC Fall Classic
DESCRIPTION:Click the link below for more information and to register.
URL:https://basoccer.club/eventt/registration-deadline-basc-fall-classic-23/
LOCATION:Indian Springs Soccer Complex\, 13600 South 145th East Avenue\, Broken Arrow\, OK\, 74011\, United States
CATEGORIES:upcoming tournaments
ORGANIZER;CN="Tournament":MAILTO:tournament@basoccer.club
END:VEVENT
BEGIN:VEVENT
DTSTART;TZID=America/Chicago:20231016T170000
DTEND;TZID=America/Chicago:20231016T200000
DTSTAMP:20260421T115549
CREATED:20230724T145540Z
LAST-MODIFIED:20230724T145540Z
UID:9710-1697475600-1697486400@basoccer.club
SUMMARY:Goal Keeper Training
DESCRIPTION:For Goal Keeper Training Specifics\, please click here.
URL:https://basoccer.club/eventt/goal-keeper-training-101623/
LOCATION:Indian Springs Soccer Complex\, 13600 South 145th East Avenue\, Broken Arrow\, OK\, 74011\, United States
CATEGORIES:Training - players
ORGANIZER;CN="Coach":MAILTO:coach@basoccer.club
END:VEVENT
END:VCALENDAR