BEGIN:VCALENDAR
VERSION:2.0
PRODID:-//Broken Arrow Soccer Club - ECPv6.15.20//NONSGML v1.0//EN
CALSCALE:GREGORIAN
METHOD:PUBLISH
X-WR-CALNAME:Broken Arrow Soccer Club
X-ORIGINAL-URL:https://basoccer.club
X-WR-CALDESC:Events for Broken Arrow Soccer Club
REFRESH-INTERVAL;VALUE=DURATION:PT1H
X-Robots-Tag:noindex
X-PUBLISHED-TTL:PT1H
BEGIN:VTIMEZONE
TZID:America/Chicago
BEGIN:DAYLIGHT
TZOFFSETFROM:-0600
TZOFFSETTO:-0500
TZNAME:CDT
DTSTART:20220313T080000
END:DAYLIGHT
BEGIN:STANDARD
TZOFFSETFROM:-0500
TZOFFSETTO:-0600
TZNAME:CST
DTSTART:20221106T070000
END:STANDARD
BEGIN:DAYLIGHT
TZOFFSETFROM:-0600
TZOFFSETTO:-0500
TZNAME:CDT
DTSTART:20230312T080000
END:DAYLIGHT
BEGIN:STANDARD
TZOFFSETFROM:-0500
TZOFFSETTO:-0600
TZNAME:CST
DTSTART:20231105T070000
END:STANDARD
BEGIN:DAYLIGHT
TZOFFSETFROM:-0600
TZOFFSETTO:-0500
TZNAME:CDT
DTSTART:20240310T080000
END:DAYLIGHT
BEGIN:STANDARD
TZOFFSETFROM:-0500
TZOFFSETTO:-0600
TZNAME:CST
DTSTART:20241103T070000
END:STANDARD
BEGIN:DAYLIGHT
TZOFFSETFROM:-0600
TZOFFSETTO:-0500
TZNAME:CDT
DTSTART:20250309T080000
END:DAYLIGHT
BEGIN:STANDARD
TZOFFSETFROM:-0500
TZOFFSETTO:-0600
TZNAME:CST
DTSTART:20251102T070000
END:STANDARD
END:VTIMEZONE
BEGIN:VEVENT
DTSTART;VALUE=DATE:20240324
DTEND;VALUE=DATE:20240325
DTSTAMP:20260421T002250
CREATED:20240307T155218Z
LAST-MODIFIED:20240307T155218Z
UID:10743-1711238400-1711324799@basoccer.club
SUMMARY:3/27 Referee Class Registration Deadline @ 10pm
DESCRIPTION:For anyone who wants to become a soccer referee. Follow the link below to register online by 10pm.
URL:https://basoccer.club/eventt/3-27-referee-class-registration-deadline-10pm/
LOCATION:Indian Springs Soccer Complex\, 13600 South 145th East Avenue\, Broken Arrow\, OK\, 74011\, United States
CATEGORIES:Referee
ORGANIZER;CN="Referee":MAILTO:areareferee@basoccer.club
END:VEVENT
BEGIN:VEVENT
DTSTART;TZID=America/Chicago:20240311T170000
DTEND;TZID=America/Chicago:20240311T200000
DTSTAMP:20260421T002250
CREATED:20240112T220738Z
LAST-MODIFIED:20240112T220738Z
UID:10503-1710176400-1710187200@basoccer.club
SUMMARY:Goal Keeper Training
DESCRIPTION:For Goal Keeper Training Specifics\, please click here.
URL:https://basoccer.club/eventt/goal-keeper-training-31124/
LOCATION:Indian Springs Soccer Complex\, 13600 South 145th East Avenue\, Broken Arrow\, OK\, 74011\, United States
CATEGORIES:Training - players
ORGANIZER;CN="Coach":MAILTO:coach@basoccer.club
END:VEVENT
BEGIN:VEVENT
DTSTART;VALUE=DATE:20240309
DTEND;VALUE=DATE:20240310
DTSTAMP:20260421T002250
CREATED:20240305T163040Z
LAST-MODIFIED:20240305T163040Z
UID:10729-1709942400-1710028799@basoccer.club
SUMMARY:TOPSoccer Starts
DESCRIPTION:Click the link below to get more information.
URL:https://basoccer.club/eventt/topsoccer-starts/
CATEGORIES:Club Event,General
ORGANIZER;CN="Registrar":MAILTO:registration@basoccer.club
END:VEVENT
BEGIN:VEVENT
DTSTART;VALUE=DATE:20240309
DTEND;VALUE=DATE:20240310
DTSTAMP:20260421T002250
CREATED:20231207T183101Z
LAST-MODIFIED:20231207T183120Z
UID:10362-1709942400-1710028799@basoccer.club
SUMMARY:KICKSTART Starts
DESCRIPTION:Click the link below to get more information and for your KICKSTART Directors contact information.
URL:https://basoccer.club/eventt/kickstart-starts-s24/
CATEGORIES:Club Event,General
ORGANIZER;CN="General":MAILTO:jessica@basoccer.club
END:VEVENT
BEGIN:VEVENT
DTSTART;VALUE=DATE:20240309
DTEND;VALUE=DATE:20240310
DTSTAMP:20260421T002250
CREATED:20231207T180203Z
LAST-MODIFIED:20231207T180203Z
UID:10359-1709942400-1710028799@basoccer.club
SUMMARY:Closed League Season Starts
DESCRIPTION:Click the link below to find your teams league schedule.
URL:https://basoccer.club/eventt/closed-league-season-starts-s24/
CATEGORIES:Club Event,General
ORGANIZER;CN="General":MAILTO:jessica@basoccer.club
END:VEVENT
BEGIN:VEVENT
DTSTART;VALUE=DATE:20240309
DTEND;VALUE=DATE:20240310
DTSTAMP:20260421T002250
CREATED:20231207T175050Z
LAST-MODIFIED:20231207T175050Z
UID:10348-1709942400-1710028799@basoccer.club
SUMMARY:Rec Open / Rec Select League Season Starts
DESCRIPTION:Click the link below to find your teams league schedule.
URL:https://basoccer.club/eventt/rec-open-rec-select-league-season-starts-s24/
CATEGORIES:Club Event,General
ORGANIZER;CN="General":MAILTO:jessica@basoccer.club
END:VEVENT
BEGIN:VEVENT
DTSTART;TZID=America/Chicago:20240307T193000
DTEND;TZID=America/Chicago:20240307T203000
DTSTAMP:20260421T002250
CREATED:20230104T165718Z
LAST-MODIFIED:20230104T165718Z
UID:8329-1709839800-1709843400@basoccer.club
SUMMARY:General Membership Meeting
DESCRIPTION:Follow the link below for more information.
URL:https://basoccer.club/eventt/general-membership-meeting-mar24/
LOCATION:Central Park Community Center\, 1500 South Main Street\, Broken Arrow\, OK\, 74012\, United States
CATEGORIES:Club Event
ORGANIZER;CN="Info":MAILTO:info@basoccer.club
END:VEVENT
BEGIN:VEVENT
DTSTART;TZID=America/Chicago:20240304T170000
DTEND;TZID=America/Chicago:20240304T200000
DTSTAMP:20260421T002250
CREATED:20240112T220704Z
LAST-MODIFIED:20240112T220704Z
UID:10501-1709571600-1709582400@basoccer.club
SUMMARY:Goal Keeper Training
DESCRIPTION:For Goal Keeper Training Specifics\, please click here.
URL:https://basoccer.club/eventt/goal-keeper-training-3424/
LOCATION:Indian Springs Soccer Complex\, 13600 South 145th East Avenue\, Broken Arrow\, OK\, 74011\, United States
CATEGORIES:Training - players
ORGANIZER;CN="Coach":MAILTO:coach@basoccer.club
END:VEVENT
BEGIN:VEVENT
DTSTART;VALUE=DATE:20240302
DTEND;VALUE=DATE:20240303
DTSTAMP:20260421T002250
CREATED:20231207T180107Z
LAST-MODIFIED:20240105T210807Z
UID:10357-1709337600-1709423999@basoccer.club
SUMMARY:OPL Season Start
DESCRIPTION:
URL:https://basoccer.club/eventt/opl-season-start-s24/
CATEGORIES:BA Express
ORGANIZER;CN="BA Express":MAILTO:competitiveheadcoach@basoccer.club
END:VEVENT
BEGIN:VEVENT
DTSTART;VALUE=DATE:20240301
DTEND;VALUE=DATE:20240304
DTSTAMP:20260421T002250
CREATED:20240222T170830Z
LAST-MODIFIED:20240222T171515Z
UID:10696-1709251200-1709510399@basoccer.club
SUMMARY:BASC Shop Days @ Dick's Sporting Goods
DESCRIPTION:Click the link below for more information and to get your 20% discount coupon.
URL:https://basoccer.club/eventt/basc-shop-days-dicks-sporting-goods-3124/
LOCATION:Dick’s Sporting Goods\, 1620 East Hillside Drive\, Broken Arrow\, OK\, 74012\, United States
CATEGORIES:Club Event
ORGANIZER;CN="General":MAILTO:jessica@basoccer.club
END:VEVENT
BEGIN:VEVENT
DTSTART;TZID=America/Chicago:20240229T193000
DTEND;TZID=America/Chicago:20240229T203000
DTSTAMP:20260421T002250
CREATED:20240206T222242Z
LAST-MODIFIED:20240222T170716Z
UID:10676-1709235000-1709238600@basoccer.club
SUMMARY:Special General Membership Meeting
DESCRIPTION:Follow the link below for more information.
URL:https://basoccer.club/eventt/special-general-membership-meeting-22924/
LOCATION:Indian Springs Soccer Complex\, 13600 South 145th East Avenue\, Broken Arrow\, OK\, 74011\, United States
CATEGORIES:Club Event
ORGANIZER;CN="Info":MAILTO:info@basoccer.club
END:VEVENT
BEGIN:VEVENT
DTSTART;TZID=America/Chicago:20240226T170000
DTEND;TZID=America/Chicago:20240226T200000
DTSTAMP:20260421T002250
CREATED:20240112T220458Z
LAST-MODIFIED:20240112T220458Z
UID:10499-1708966800-1708977600@basoccer.club
SUMMARY:Goal Keeper Training
DESCRIPTION:For Goal Keeper Training Specifics\, please click here.
URL:https://basoccer.club/eventt/goal-keeper-training-22624/
LOCATION:Indian Springs Soccer Complex\, 13600 South 145th East Avenue\, Broken Arrow\, OK\, 74011\, United States
CATEGORIES:Training - players
ORGANIZER;CN="Coach":MAILTO:coach@basoccer.club
END:VEVENT
BEGIN:VEVENT
DTSTART;VALUE=DATE:20240216
DTEND;VALUE=DATE:20240219
DTSTAMP:20260421T002250
CREATED:20231213T161222Z
LAST-MODIFIED:20240102T205209Z
UID:10370-1708041600-1708300799@basoccer.club
SUMMARY:BASC Shop Days @ Dick's Sporting Goods
DESCRIPTION:Click the link below for more information and to get your 20% discount coupon.
URL:https://basoccer.club/eventt/basc-shop-days-dicks-sporting-goods-s24-2/
LOCATION:Dick’s Sporting Goods\, 1620 East Hillside Drive\, Broken Arrow\, OK\, 74012\, United States
CATEGORIES:Club Event
ORGANIZER;CN="General":MAILTO:jessica@basoccer.club
END:VEVENT
BEGIN:VEVENT
DTSTART;TZID=America/Chicago:20240215T180000
DTEND;TZID=America/Chicago:20240215T200000
DTSTAMP:20260421T002250
CREATED:20240103T214730Z
LAST-MODIFIED:20240103T214730Z
UID:10457-1708020000-1708027200@basoccer.club
SUMMARY:On Field Referee Class @ ISSC
DESCRIPTION:For anyone who wants to become a soccer referee. Follow the link below to register online.
URL:https://basoccer.club/eventt/on-field-referee-class-215/
LOCATION:Indian Springs Soccer Complex\, 13600 South 145th East Avenue\, Broken Arrow\, OK\, 74011\, United States
CATEGORIES:Referee
ORGANIZER;CN="Referee":MAILTO:areareferee@basoccer.club
END:VEVENT
BEGIN:VEVENT
DTSTART;VALUE=DATE:20240212
DTEND;VALUE=DATE:20240213
DTSTAMP:20260421T002250
CREATED:20240105T192445Z
LAST-MODIFIED:20240105T192628Z
UID:10464-1707696000-1707782399@basoccer.club
SUMMARY:EDL Registration Deadline for NON BASC/BA Express Teams
DESCRIPTION:Get details and register here.
URL:https://basoccer.club/eventt/edl-registration-deadline-for-non-basc-ba-express-teams-s24/
ORGANIZER;CN="General":MAILTO:jessica@basoccer.club
END:VEVENT
BEGIN:VEVENT
DTSTART;VALUE=DATE:20240212
DTEND;VALUE=DATE:20240213
DTSTAMP:20260421T002250
CREATED:20240103T214541Z
LAST-MODIFIED:20240103T231150Z
UID:10453-1707696000-1707782399@basoccer.club
SUMMARY:2/15 Referee Class Registration Deadline @ 8pm
DESCRIPTION:For anyone who wants to become a soccer referee. Follow the link below to register online by 8pm.
URL:https://basoccer.club/eventt/referee-class-registration-deadline-8pm-215/
LOCATION:Indian Springs Soccer Complex\, 13600 South 145th East Avenue\, Broken Arrow\, OK\, 74011\, United States
CATEGORIES:Referee
ORGANIZER;CN="Referee":MAILTO:areareferee@basoccer.club
END:VEVENT
BEGIN:VEVENT
DTSTART;TZID=America/Chicago:20240210T080000
DTEND;TZID=America/Chicago:20240210T113000
DTSTAMP:20260421T002250
CREATED:20240130T163755Z
LAST-MODIFIED:20240130T164115Z
UID:10600-1707552000-1707564600@basoccer.club
SUMMARY:New Coach In-House Training @ ISSC
DESCRIPTION:Follow the link below for more information and to register.
URL:https://basoccer.club/eventt/new-coach-in-house-training-issc-s24/
LOCATION:Indian Springs Soccer Complex\, 13600 South 145th East Avenue\, Broken Arrow\, OK\, 74011\, United States
CATEGORIES:Training - Coach/Manager
ORGANIZER;CN="Coach":MAILTO:coach@basoccer.club
END:VEVENT
BEGIN:VEVENT
DTSTART;VALUE=DATE:20240207
DTEND;VALUE=DATE:20240208
DTSTAMP:20260421T002250
CREATED:20240119T223348Z
LAST-MODIFIED:20240119T223348Z
UID:10547-1707264000-1707350399@basoccer.club
SUMMARY:Blackout Dates Due for ALL BASC teams
DESCRIPTION:Blackout dates are due by the Team Head Coach. Follow the link below to find step-by-step instructions on how to submit your blackout dates.
URL:https://basoccer.club/eventt/blackout-dates-due-for-all-basc-teams-s24/
CATEGORIES:General
ORGANIZER;CN="General":MAILTO:jessica@basoccer.club
END:VEVENT
BEGIN:VEVENT
DTSTART;TZID=America/Chicago:20240206T180000
DTEND;TZID=America/Chicago:20240206T200000
DTSTAMP:20260421T002250
CREATED:20240130T163527Z
LAST-MODIFIED:20240202T192028Z
UID:10597-1707242400-1707249600@basoccer.club
SUMMARY:Laws of the Game Meeting - Mandatory for ALL Coaches
DESCRIPTION:This meeting is mandatory for all coaches and will be hosted by the BASC Area Referee\, Randy Hubbard. \nThis meeting will be held in the CP Meeting Room @ Central Park Community Center: 1500 South Main Street\, Broken Arrow \nFor questions\, contact Randy at: areareferee@basoccer.club \n 
URL:https://basoccer.club/eventt/laws-of-the-game-meeting-mandatory-for-all-coaches-s24/
LOCATION:Central Park Community Center\, 1500 South Main Street\, Broken Arrow\, OK\, 74012\, United States
CATEGORIES:Club Event,Referee,Training - Coach/Manager
ORGANIZER;CN="Referee":MAILTO:areareferee@basoccer.club
END:VEVENT
BEGIN:VEVENT
DTSTART;TZID=America/Chicago:20240203T080000
DTEND;TZID=America/Chicago:20240203T120000
DTSTAMP:20260421T002250
CREATED:20240119T220426Z
LAST-MODIFIED:20240119T222841Z
UID:10366-1706947200-1706961600@basoccer.club
SUMMARY:Field Day
DESCRIPTION:Get more information at the link below.
URL:https://basoccer.club/eventt/field-day-s24/
LOCATION:Indian Springs Soccer Complex\, 13600 South 145th East Avenue\, Broken Arrow\, OK\, 74011\, United States
CATEGORIES:Club Event
ORGANIZER;CN="Complex Manager":MAILTO:complexmanager@basoccer.club
END:VEVENT
BEGIN:VEVENT
DTSTART;TZID=America/Chicago:20240202T183000
DTEND;TZID=America/Chicago:20240202T203000
DTSTAMP:20260421T002250
CREATED:20240105T211409Z
LAST-MODIFIED:20240129T183942Z
UID:10364-1706898600-1706905800@basoccer.club
SUMMARY:Coach Meeting - Mandatory for ALL Coaches
DESCRIPTION:Click website link below for details.
URL:https://basoccer.club/eventt/coach-meeting-mandatory-for-all-coaches-s24/
LOCATION:Central Park Community Center\, 1500 South Main Street\, Broken Arrow\, OK\, 74012\, United States
CATEGORIES:Club Event,Training - Coach/Manager
ORGANIZER;CN="Coach":MAILTO:coach@basoccer.club
END:VEVENT
BEGIN:VEVENT
DTSTART;TZID=America/Chicago:20240201T170000
DTEND;TZID=America/Chicago:20240201T170000
DTSTAMP:20260421T002250
CREATED:20240119T222931Z
LAST-MODIFIED:20240119T222931Z
UID:10372-1706806800-1706806800@basoccer.club
SUMMARY:Practice Field Requests Due by 5pm
DESCRIPTION:Practice Field Locations \nRequest Your Practice Field
URL:https://basoccer.club/eventt/practice-field-requests-due-s24/
CATEGORIES:General
ORGANIZER;CN="Practice Fields":MAILTO:practicefield@basoccer.club
END:VEVENT
BEGIN:VEVENT
DTSTART;TZID=America/Chicago:20240130T180000
DTEND;TZID=America/Chicago:20240130T200000
DTSTAMP:20260421T002250
CREATED:20240103T214706Z
LAST-MODIFIED:20240122T185129Z
UID:10455-1706637600-1706644800@basoccer.club
SUMMARY:On Field Referee Class @ ISSC -- UPDATED DATE
DESCRIPTION:For anyone who wants to become a soccer referee. Follow the link below to register online.
URL:https://basoccer.club/eventt/on-field-referee-class-123/
LOCATION:Indian Springs Soccer Complex\, 13600 South 145th East Avenue\, Broken Arrow\, OK\, 74011\, United States
CATEGORIES:Referee
ORGANIZER;CN="Referee":MAILTO:areareferee@basoccer.club
END:VEVENT
BEGIN:VEVENT
DTSTART;VALUE=DATE:20240127
DTEND;VALUE=DATE:20240128
DTSTAMP:20260421T002250
CREATED:20240103T214430Z
LAST-MODIFIED:20240122T191444Z
UID:10451-1706313600-1706399999@basoccer.club
SUMMARY:1/30 Referee Class Registration Deadline @ 10pm - UPDATED DATE
DESCRIPTION:For anyone who wants to become a soccer referee. Follow the link below to register online by 8pm.
URL:https://basoccer.club/eventt/1-23-referee-class-registration-deadline-8pm/
LOCATION:Indian Springs Soccer Complex\, 13600 South 145th East Avenue\, Broken Arrow\, OK\, 74011\, United States
CATEGORIES:Referee
ORGANIZER;CN="Referee":MAILTO:areareferee@basoccer.club
END:VEVENT
BEGIN:VEVENT
DTSTART;VALUE=DATE:20240114
DTEND;VALUE=DATE:20240115
DTSTAMP:20260421T002250
CREATED:20231207T175946Z
LAST-MODIFIED:20231207T175946Z
UID:10355-1705190400-1705276799@basoccer.club
SUMMARY:Late Registration Begins. Fee raises to $115
DESCRIPTION:Follow the link below to register your Soccer Player!
URL:https://basoccer.club/eventt/late-registration-begins-s24/
CATEGORIES:Registration
ORGANIZER;CN="Registrar":MAILTO:registration@basoccer.club
END:VEVENT
BEGIN:VEVENT
DTSTART;VALUE=DATE:20240113
DTEND;VALUE=DATE:20240114
DTSTAMP:20260421T002250
CREATED:20231207T175759Z
LAST-MODIFIED:20231207T175815Z
UID:10352-1705104000-1705190399@basoccer.club
SUMMARY:BASC Spring 2024 Registration Closes
DESCRIPTION:Follow the link below to register your Soccer Player!
URL:https://basoccer.club/eventt/basc-spring-registration-closes-s24/
CATEGORIES:Registration
ORGANIZER;CN="Registrar":MAILTO:registration@basoccer.club
END:VEVENT
BEGIN:VEVENT
DTSTART;VALUE=DATE:20240112
DTEND;VALUE=DATE:20240113
DTSTAMP:20260421T002250
CREATED:20231207T175326Z
LAST-MODIFIED:20231207T175400Z
UID:10350-1705017600-1705103999@basoccer.club
SUMMARY:Rec Select Rosters Due
DESCRIPTION:Get your Rec Select Roster at the link below. \nEmail your fully filled out Rec Select Roster to the Registrar at: registration@basoccer.club
URL:https://basoccer.club/eventt/rec-select-rosters-due-s24/
CATEGORIES:Registration
ORGANIZER;CN="Registrar":MAILTO:registration@basoccer.club
END:VEVENT
BEGIN:VEVENT
DTSTART;VALUE=DATE:20240105
DTEND;VALUE=DATE:20240106
DTSTAMP:20260421T002250
CREATED:20231016T215505Z
LAST-MODIFIED:20231207T174739Z
UID:10222-1704412800-1704499199@basoccer.club
SUMMARY:DEADLINE: Financial Aid Applications for spring 2024 Season
DESCRIPTION:Follow the link below to learn more and apply.
URL:https://basoccer.club/eventt/deadline-financial-aid-applications-s24/
CATEGORIES:General,Registration
ORGANIZER;CN="General":MAILTO:jessica@basoccer.club
END:VEVENT
BEGIN:VEVENT
DTSTART;VALUE=DATE:20240101
DTEND;VALUE=DATE:20240102
DTSTAMP:20260421T002250
CREATED:20230117T210513Z
LAST-MODIFIED:20230117T210547Z
UID:8547-1704067200-1704153599@basoccer.club
SUMMARY:Office Closed - New Year Holiday
DESCRIPTION:
URL:https://basoccer.club/eventt/office-closed-new-year-holiday-24/
LOCATION:Indian Springs Soccer Complex\, 13600 South 145th East Avenue\, Broken Arrow\, OK\, 74011\, United States
CATEGORIES:Office Closed
ORGANIZER;CN="Info":MAILTO:info@basoccer.club
END:VEVENT
BEGIN:VEVENT
DTSTART;VALUE=DATE:20231229
DTEND;VALUE=DATE:20231230
DTSTAMP:20260421T002250
CREATED:20230117T194235Z
LAST-MODIFIED:20230117T194235Z
UID:8509-1703808000-1703894399@basoccer.club
SUMMARY:BASC Office Winter Hours in Effect - Closed Friday's in December
DESCRIPTION:Follow the link below for more information.
URL:https://basoccer.club/eventt/basc-office-winter-hours-in-effect-closed-fridays-in-december-29dec23/
LOCATION:Indian Springs Soccer Complex\, 13600 South 145th East Avenue\, Broken Arrow\, OK\, 74011\, United States
CATEGORIES:General
ORGANIZER;CN="Info":MAILTO:info@basoccer.club
END:VEVENT
END:VCALENDAR