BEGIN:VCALENDAR
VERSION:2.0
PRODID:-//Broken Arrow Soccer Club - ECPv6.15.20//NONSGML v1.0//EN
CALSCALE:GREGORIAN
METHOD:PUBLISH
X-WR-CALNAME:Broken Arrow Soccer Club
X-ORIGINAL-URL:https://basoccer.club
X-WR-CALDESC:Events for Broken Arrow Soccer Club
REFRESH-INTERVAL;VALUE=DURATION:PT1H
X-Robots-Tag:noindex
X-PUBLISHED-TTL:PT1H
BEGIN:VTIMEZONE
TZID:America/Chicago
BEGIN:DAYLIGHT
TZOFFSETFROM:-0600
TZOFFSETTO:-0500
TZNAME:CDT
DTSTART:20230312T080000
END:DAYLIGHT
BEGIN:STANDARD
TZOFFSETFROM:-0500
TZOFFSETTO:-0600
TZNAME:CST
DTSTART:20231105T070000
END:STANDARD
BEGIN:DAYLIGHT
TZOFFSETFROM:-0600
TZOFFSETTO:-0500
TZNAME:CDT
DTSTART:20240310T080000
END:DAYLIGHT
BEGIN:STANDARD
TZOFFSETFROM:-0500
TZOFFSETTO:-0600
TZNAME:CST
DTSTART:20241103T070000
END:STANDARD
BEGIN:DAYLIGHT
TZOFFSETFROM:-0600
TZOFFSETTO:-0500
TZNAME:CDT
DTSTART:20250309T080000
END:DAYLIGHT
BEGIN:STANDARD
TZOFFSETFROM:-0500
TZOFFSETTO:-0600
TZNAME:CST
DTSTART:20251102T070000
END:STANDARD
END:VTIMEZONE
BEGIN:VEVENT
DTSTART;VALUE=DATE:20240527
DTEND;VALUE=DATE:20240528
DTSTAMP:20260421T005123
CREATED:20230117T203559Z
LAST-MODIFIED:20230117T203559Z
UID:8519-1716768000-1716854399@basoccer.club
SUMMARY:OFFICE CLOSED - Memorial Day Holiday
DESCRIPTION:
URL:https://basoccer.club/eventt/office-closed-memorial-day-holiday-24/
LOCATION:OK
CATEGORIES:Office Closed
ORGANIZER;CN="General":MAILTO:jessica@basoccer.club
END:VEVENT
BEGIN:VEVENT
DTSTART;TZID=America/Chicago:20240520T170000
DTEND;TZID=America/Chicago:20240520T200000
DTSTAMP:20260421T005123
CREATED:20240513T202412Z
LAST-MODIFIED:20240513T202536Z
UID:11011-1716224400-1716235200@basoccer.club
SUMMARY:Goal Keeper Training
DESCRIPTION:For Goal Keeper Training Specifics\, please click here.
URL:https://basoccer.club/eventt/goal-keeper-training-52024/
LOCATION:Indian Springs Soccer Complex\, 13600 South 145th East Avenue\, Broken Arrow\, OK\, 74011\, United States
CATEGORIES:Training - players
ORGANIZER;CN="Coach":MAILTO:coach@basoccer.club
END:VEVENT
BEGIN:VEVENT
DTSTART;VALUE=DATE:20240516
DTEND;VALUE=DATE:20240520
DTSTAMP:20260421T005123
CREATED:20221206T173022Z
LAST-MODIFIED:20231114T225952Z
UID:8263-1715817600-1716163199@basoccer.club
SUMMARY:Tornado Alley Spring Classic
DESCRIPTION:Tournament Starts at 6pm on Thursday\, and runs through Sunday evening. \nSchedule
URL:https://basoccer.club/eventt/tornado-alley-spring-classic-24/
LOCATION:Indian Springs Soccer Complex\, 13600 South 145th East Avenue\, Broken Arrow\, OK\, 74011\, United States
CATEGORIES:upcoming tournaments
ORGANIZER;CN="Tournament":MAILTO:tournament@basoccer.club
END:VEVENT
BEGIN:VEVENT
DTSTART;TZID=America/Chicago:20240513T170000
DTEND;TZID=America/Chicago:20240513T200000
DTSTAMP:20260421T005123
CREATED:20240513T202332Z
LAST-MODIFIED:20240513T202332Z
UID:11009-1715619600-1715630400@basoccer.club
SUMMARY:Goal Keeper Training
DESCRIPTION:For Goal Keeper Training Specifics\, please click here.
URL:https://basoccer.club/eventt/goal-keeper-training-51324/
LOCATION:Indian Springs Soccer Complex\, 13600 South 145th East Avenue\, Broken Arrow\, OK\, 74011\, United States
CATEGORIES:Training - players
ORGANIZER;CN="Coach":MAILTO:coach@basoccer.club
END:VEVENT
BEGIN:VEVENT
DTSTART;TZID=America/Chicago:20240511T170000
DTEND;TZID=America/Chicago:20240511T190000
DTSTAMP:20260421T005123
CREATED:20240411T225608Z
LAST-MODIFIED:20240411T225608Z
UID:10898-1715446800-1715454000@basoccer.club
SUMMARY:Coach/Manager VS Referee Soccer Match
DESCRIPTION:Follow the link below for details
URL:https://basoccer.club/eventt/coach-manager-vs-referee-soccer-match/
LOCATION:Indian Springs Soccer Complex\, 13600 South 145th East Avenue\, Broken Arrow\, OK\, 74011\, United States
CATEGORIES:Club Event
ORGANIZER;CN="Coach":MAILTO:coach@basoccer.club
END:VEVENT
BEGIN:VEVENT
DTSTART;TZID=America/Chicago:20240506T170000
DTEND;TZID=America/Chicago:20240506T200000
DTSTAMP:20260421T005123
CREATED:20240112T221505Z
LAST-MODIFIED:20240506T174858Z
UID:10519-1715014800-1715025600@basoccer.club
SUMMARY:CANCELLED - Goal Keeper Training
DESCRIPTION:For Goal Keeper Training Specifics\, please click here. \nTraining has been cancelled tonight due to field conditions at ISSC.
URL:https://basoccer.club/eventt/goal-keeper-training-5624/
LOCATION:Indian Springs Soccer Complex\, 13600 South 145th East Avenue\, Broken Arrow\, OK\, 74011\, United States
CATEGORIES:Training - players
ORGANIZER;CN="Coach":MAILTO:coach@basoccer.club
END:VEVENT
BEGIN:VEVENT
DTSTART;TZID=America/Chicago:20240504T160000
DTEND;TZID=America/Chicago:20240504T200000
DTSTAMP:20260421T005123
CREATED:20240404T031702Z
LAST-MODIFIED:20240404T031702Z
UID:10839-1714838400-1714852800@basoccer.club
SUMMARY:Chipotle Fundraiser for BASC
DESCRIPTION:
URL:https://basoccer.club/eventt/chipotle-fundraiser-for-basc/
LOCATION:Chipotle\, 5405 S Aspen Ave\, Broken Arrow\, OK\, 74011\, United States
ORGANIZER;CN="General":MAILTO:jessica@basoccer.club
END:VEVENT
BEGIN:VEVENT
DTSTART;TZID=America/Chicago:20240503T170000
DTEND;TZID=America/Chicago:20240503T190000
DTSTAMP:20260421T005123
CREATED:20250411T220113Z
LAST-MODIFIED:20250411T220113Z
UID:12287-1714755600-1714762800@basoccer.club
SUMMARY:Coach/Manager VS Referee Soccer Match
DESCRIPTION:Follow the link below for details
URL:https://basoccer.club/eventt/coach-manager-vs-referee-soccer-match-s25/
LOCATION:Indian Springs Soccer Complex\, 13600 South 145th East Avenue\, Broken Arrow\, OK\, 74011\, United States
CATEGORIES:Club Event
ORGANIZER;CN="Coach":MAILTO:coach@basoccer.club
END:VEVENT
BEGIN:VEVENT
DTSTART;TZID=America/Chicago:20240502T193000
DTEND;TZID=America/Chicago:20240502T203000
DTSTAMP:20260421T005123
CREATED:20230104T171158Z
LAST-MODIFIED:20230104T171158Z
UID:8331-1714678200-1714681800@basoccer.club
SUMMARY:General Membership Meeting
DESCRIPTION:Follow the link below for more information.
URL:https://basoccer.club/eventt/general-membership-meeting-may24/
LOCATION:Central Park Community Center\, 1500 South Main Street\, Broken Arrow\, OK\, 74012\, United States
CATEGORIES:Club Event
ORGANIZER;CN="Info":MAILTO:info@basoccer.club
END:VEVENT
BEGIN:VEVENT
DTSTART;TZID=America/Chicago:20240429T170000
DTEND;TZID=America/Chicago:20240429T200000
DTSTAMP:20260421T005123
CREATED:20240112T221324Z
LAST-MODIFIED:20240425T184034Z
UID:10515-1714410000-1714420800@basoccer.club
SUMMARY:CANCELLED: Goal Keeper Training
DESCRIPTION:For Goal Keeper Training Specifics\, please click here.
URL:https://basoccer.club/eventt/goal-keeper-training-42924/
LOCATION:Indian Springs Soccer Complex\, 13600 South 145th East Avenue\, Broken Arrow\, OK\, 74011\, United States
CATEGORIES:Training - players
ORGANIZER;CN="Coach":MAILTO:coach@basoccer.club
END:VEVENT
BEGIN:VEVENT
DTSTART;VALUE=DATE:20240426
DTEND;VALUE=DATE:20240427
DTSTAMP:20260421T005123
CREATED:20231207T184958Z
LAST-MODIFIED:20231207T190552Z
UID:10377-1714089600-1714175999@basoccer.club
SUMMARY:REGISTRATION DEADLINE: Tornado Alley Spring Classic
DESCRIPTION:Register now for the Tornado Alley Spring Classic
URL:https://basoccer.club/eventt/registration-deadline-oklahoma-mothers-day-classic-24/
LOCATION:Indian Springs Soccer Complex\, 13600 South 145th East Avenue\, Broken Arrow\, OK\, 74011\, United States
CATEGORIES:upcoming tournaments
ORGANIZER;CN="Tournament":MAILTO:tournament@basoccer.club
END:VEVENT
BEGIN:VEVENT
DTSTART;TZID=America/Chicago:20240422T170000
DTEND;TZID=America/Chicago:20240422T200000
DTSTAMP:20260421T005123
CREATED:20240112T221424Z
LAST-MODIFIED:20240112T221424Z
UID:10517-1713805200-1713816000@basoccer.club
SUMMARY:Goal Keeper Training
DESCRIPTION:For Goal Keeper Training Specifics\, please click here.
URL:https://basoccer.club/eventt/goal-keeper-training-42224-2/
LOCATION:Indian Springs Soccer Complex\, 13600 South 145th East Avenue\, Broken Arrow\, OK\, 74011\, United States
CATEGORIES:Training - players
ORGANIZER;CN="Coach":MAILTO:coach@basoccer.club
END:VEVENT
BEGIN:VEVENT
DTSTART;TZID=America/Chicago:20240422T150000
DTEND;TZID=America/Chicago:20240422T150000
DTSTAMP:20260421T005123
CREATED:20230113T172106Z
LAST-MODIFIED:20230113T173255Z
UID:8404-1713798000-1713798000@basoccer.club
SUMMARY:Nominations for Executive Board positions Due by Close of Business: 1st VP\, 2nd VP\, & Area Referee
DESCRIPTION:Click the link below for more information.
URL:https://basoccer.club/eventt/nominations-due-may24/
LOCATION:OK
CATEGORIES:Club Event
ORGANIZER;CN="Info":MAILTO:info@basoccer.club
END:VEVENT
BEGIN:VEVENT
DTSTART;VALUE=DATE:20240418
DTEND;VALUE=DATE:20240422
DTSTAMP:20260421T005123
CREATED:20231207T185642Z
LAST-MODIFIED:20231207T185723Z
UID:10379-1713398400-1713743999@basoccer.club
SUMMARY:Competitive Tournament @ ISSC - No League Games
DESCRIPTION:
URL:https://basoccer.club/eventt/competitive-tournament-issc-no-league-games-s24/
LOCATION:Indian Springs Soccer Complex\, 13600 South 145th East Avenue\, Broken Arrow\, OK\, 74011\, United States
CATEGORIES:upcoming tournaments
ORGANIZER;CN="Info":MAILTO:info@basoccer.club
END:VEVENT
BEGIN:VEVENT
DTSTART;TZID=America/Chicago:20240415T170000
DTEND;TZID=America/Chicago:20240415T200000
DTSTAMP:20260421T005123
CREATED:20240112T221300Z
LAST-MODIFIED:20240112T221300Z
UID:10513-1713200400-1713211200@basoccer.club
SUMMARY:Goal Keeper Training
DESCRIPTION:For Goal Keeper Training Specifics\, please click here.
URL:https://basoccer.club/eventt/goal-keeper-training-42224/
LOCATION:Indian Springs Soccer Complex\, 13600 South 145th East Avenue\, Broken Arrow\, OK\, 74011\, United States
CATEGORIES:Training - players
ORGANIZER;CN="Coach":MAILTO:coach@basoccer.club
END:VEVENT
BEGIN:VEVENT
DTSTART;TZID=America/Chicago:20240415T170000
DTEND;TZID=America/Chicago:20240415T200000
DTSTAMP:20260421T005123
CREATED:20240112T221244Z
LAST-MODIFIED:20240112T221244Z
UID:10511-1713200400-1713211200@basoccer.club
SUMMARY:Goal Keeper Training
DESCRIPTION:For Goal Keeper Training Specifics\, please click here.
URL:https://basoccer.club/eventt/goal-keeper-training-41524/
LOCATION:Indian Springs Soccer Complex\, 13600 South 145th East Avenue\, Broken Arrow\, OK\, 74011\, United States
CATEGORIES:Training - players
ORGANIZER;CN="Coach":MAILTO:coach@basoccer.club
END:VEVENT
BEGIN:VEVENT
DTSTART;VALUE=DATE:20240412
DTEND;VALUE=DATE:20240721
DTSTAMP:20260421T005123
CREATED:20240404T012359Z
LAST-MODIFIED:20240411T192132Z
UID:10549-1712880000-1721519999@basoccer.club
SUMMARY:Fall 2024 Recreational Soccer Registration OPEN
DESCRIPTION:Click here for more information and to register. 
URL:https://basoccer.club/eventt/recreational-soccer-registration-open-f24/
LOCATION:OK
CATEGORIES:Registration
ORGANIZER;CN="Info":MAILTO:info@basoccer.club
END:VEVENT
BEGIN:VEVENT
DTSTART;TZID=America/Chicago:20240408T170000
DTEND;TZID=America/Chicago:20240408T200000
DTSTAMP:20260421T005123
CREATED:20240112T220944Z
LAST-MODIFIED:20240112T221221Z
UID:10509-1712595600-1712606400@basoccer.club
SUMMARY:Goal Keeper Training
DESCRIPTION:For Goal Keeper Training Specifics\, please click here.
URL:https://basoccer.club/eventt/goal-keeper-training-4824/
LOCATION:Indian Springs Soccer Complex\, 13600 South 145th East Avenue\, Broken Arrow\, OK\, 74011\, United States
CATEGORIES:Training - players
ORGANIZER;CN="Coach":MAILTO:coach@basoccer.club
END:VEVENT
BEGIN:VEVENT
DTSTART;VALUE=DATE:20240407
DTEND;VALUE=DATE:20240408
DTSTAMP:20260421T005123
CREATED:20230928T151532Z
LAST-MODIFIED:20230928T151532Z
UID:10130-1712448000-1712534399@basoccer.club
SUMMARY:DEADLINE: College Scholarship Application Deadline
DESCRIPTION:Follow the link below for criteria and to apply.
URL:https://basoccer.club/eventt/deadline-college-scholarship-application-deadline-24/
LOCATION:OK
CATEGORIES:General
ORGANIZER;CN="General":MAILTO:jessica@basoccer.club
END:VEVENT
BEGIN:VEVENT
DTSTART;VALUE=DATE:20240406
DTEND;VALUE=DATE:20240407
DTSTAMP:20260421T005123
CREATED:20231207T184552Z
LAST-MODIFIED:20231207T184552Z
UID:10374-1712361600-1712447999@basoccer.club
SUMMARY:Discounted Registration Deadline: Tornado Alley Spring Classic
DESCRIPTION:Register by end of day today to get 10% off your teams registration fee. \nTornado Alley Spring Classic
URL:https://basoccer.club/eventt/discounted-registration-deadline-tornado-alley-spring-classic/
LOCATION:OK
CATEGORIES:upcoming tournaments
ORGANIZER;CN="Tournament":MAILTO:tournament@basoccer.club
END:VEVENT
BEGIN:VEVENT
DTSTART;TZID=America/Chicago:20240401T170000
DTEND;TZID=America/Chicago:20240401T200000
DTSTAMP:20260421T005123
CREATED:20240112T220918Z
LAST-MODIFIED:20240401T213259Z
UID:10507-1711990800-1712001600@basoccer.club
SUMMARY:Goal Keeper Training - CANCELLED
DESCRIPTION:For Goal Keeper Training Specifics\, please click here.
URL:https://basoccer.club/eventt/goal-keeper-training-4124/
LOCATION:Indian Springs Soccer Complex\, 13600 South 145th East Avenue\, Broken Arrow\, OK\, 74011\, United States
CATEGORIES:Training - players
ORGANIZER;CN="Coach":MAILTO:coach@basoccer.club
END:VEVENT
BEGIN:VEVENT
DTSTART;VALUE=DATE:20240331
DTEND;VALUE=DATE:20240401
DTSTAMP:20260421T005123
CREATED:20230117T162814Z
LAST-MODIFIED:20230117T162814Z
UID:8461-1711843200-1711929599@basoccer.club
SUMMARY:Easter Sunday - No League Games
DESCRIPTION:
URL:https://basoccer.club/eventt/easter-sunday-no-league-games-24/
LOCATION:Indian Springs Soccer Complex\, 13600 South 145th East Avenue\, Broken Arrow\, OK\, 74011\, United States
CATEGORIES:Office Closed
ORGANIZER;CN="Info":MAILTO:info@basoccer.club
END:VEVENT
BEGIN:VEVENT
DTSTART;TZID=America/Chicago:20240327T180000
DTEND;TZID=America/Chicago:20240327T200000
DTSTAMP:20260421T005123
CREATED:20240307T155419Z
LAST-MODIFIED:20240307T155555Z
UID:10745-1711562400-1711569600@basoccer.club
SUMMARY:On Field Referee Class @ ISSC
DESCRIPTION:For anyone who wants to become a soccer referee. Follow the link below to register online.
URL:https://basoccer.club/eventt/on-field-referee-class-issc-32724/
LOCATION:Indian Springs Soccer Complex\, 13600 South 145th East Avenue\, Broken Arrow\, OK\, 74011\, United States
CATEGORIES:Referee
ORGANIZER;CN="Referee":MAILTO:areareferee@basoccer.club
END:VEVENT
BEGIN:VEVENT
DTSTART;TZID=America/Chicago:20240325T170000
DTEND;TZID=America/Chicago:20240325T200000
DTSTAMP:20260421T005123
CREATED:20240112T220809Z
LAST-MODIFIED:20240112T220809Z
UID:10505-1711386000-1711396800@basoccer.club
SUMMARY:Goal Keeper Training
DESCRIPTION:For Goal Keeper Training Specifics\, please click here.
URL:https://basoccer.club/eventt/goal-keeper-training-32524/
LOCATION:Indian Springs Soccer Complex\, 13600 South 145th East Avenue\, Broken Arrow\, OK\, 74011\, United States
CATEGORIES:Training - players
ORGANIZER;CN="Coach":MAILTO:coach@basoccer.club
END:VEVENT
BEGIN:VEVENT
DTSTART;VALUE=DATE:20240324
DTEND;VALUE=DATE:20240325
DTSTAMP:20260421T005123
CREATED:20240307T155218Z
LAST-MODIFIED:20240307T155218Z
UID:10743-1711238400-1711324799@basoccer.club
SUMMARY:3/27 Referee Class Registration Deadline @ 10pm
DESCRIPTION:For anyone who wants to become a soccer referee. Follow the link below to register online by 10pm.
URL:https://basoccer.club/eventt/3-27-referee-class-registration-deadline-10pm/
LOCATION:Indian Springs Soccer Complex\, 13600 South 145th East Avenue\, Broken Arrow\, OK\, 74011\, United States
CATEGORIES:Referee
ORGANIZER;CN="Referee":MAILTO:areareferee@basoccer.club
END:VEVENT
BEGIN:VEVENT
DTSTART;TZID=America/Chicago:20240311T170000
DTEND;TZID=America/Chicago:20240311T200000
DTSTAMP:20260421T005123
CREATED:20240112T220738Z
LAST-MODIFIED:20240112T220738Z
UID:10503-1710176400-1710187200@basoccer.club
SUMMARY:Goal Keeper Training
DESCRIPTION:For Goal Keeper Training Specifics\, please click here.
URL:https://basoccer.club/eventt/goal-keeper-training-31124/
LOCATION:Indian Springs Soccer Complex\, 13600 South 145th East Avenue\, Broken Arrow\, OK\, 74011\, United States
CATEGORIES:Training - players
ORGANIZER;CN="Coach":MAILTO:coach@basoccer.club
END:VEVENT
BEGIN:VEVENT
DTSTART;VALUE=DATE:20240309
DTEND;VALUE=DATE:20240310
DTSTAMP:20260421T005123
CREATED:20240305T163040Z
LAST-MODIFIED:20240305T163040Z
UID:10729-1709942400-1710028799@basoccer.club
SUMMARY:TOPSoccer Starts
DESCRIPTION:Click the link below to get more information.
URL:https://basoccer.club/eventt/topsoccer-starts/
LOCATION:OK
CATEGORIES:Club Event,General
ORGANIZER;CN="Registrar":MAILTO:registration@basoccer.club
END:VEVENT
BEGIN:VEVENT
DTSTART;VALUE=DATE:20240309
DTEND;VALUE=DATE:20240310
DTSTAMP:20260421T005123
CREATED:20231207T183101Z
LAST-MODIFIED:20231207T183120Z
UID:10362-1709942400-1710028799@basoccer.club
SUMMARY:KICKSTART Starts
DESCRIPTION:Click the link below to get more information and for your KICKSTART Directors contact information.
URL:https://basoccer.club/eventt/kickstart-starts-s24/
LOCATION:OK
CATEGORIES:Club Event,General
ORGANIZER;CN="General":MAILTO:jessica@basoccer.club
END:VEVENT
BEGIN:VEVENT
DTSTART;VALUE=DATE:20240309
DTEND;VALUE=DATE:20240310
DTSTAMP:20260421T005123
CREATED:20231207T180203Z
LAST-MODIFIED:20231207T180203Z
UID:10359-1709942400-1710028799@basoccer.club
SUMMARY:Closed League Season Starts
DESCRIPTION:Click the link below to find your teams league schedule.
URL:https://basoccer.club/eventt/closed-league-season-starts-s24/
LOCATION:OK
CATEGORIES:Club Event,General
ORGANIZER;CN="General":MAILTO:jessica@basoccer.club
END:VEVENT
BEGIN:VEVENT
DTSTART;VALUE=DATE:20240309
DTEND;VALUE=DATE:20240310
DTSTAMP:20260421T005123
CREATED:20231207T175050Z
LAST-MODIFIED:20231207T175050Z
UID:10348-1709942400-1710028799@basoccer.club
SUMMARY:Rec Open / Rec Select League Season Starts
DESCRIPTION:Click the link below to find your teams league schedule.
URL:https://basoccer.club/eventt/rec-open-rec-select-league-season-starts-s24/
LOCATION:OK
CATEGORIES:Club Event,General
ORGANIZER;CN="General":MAILTO:jessica@basoccer.club
END:VEVENT
END:VCALENDAR