BEGIN:VCALENDAR
VERSION:2.0
PRODID:-//Broken Arrow Soccer Club - ECPv6.15.20//NONSGML v1.0//EN
CALSCALE:GREGORIAN
METHOD:PUBLISH
X-WR-CALNAME:Broken Arrow Soccer Club
X-ORIGINAL-URL:https://basoccer.club
X-WR-CALDESC:Events for Broken Arrow Soccer Club
REFRESH-INTERVAL;VALUE=DURATION:PT1H
X-Robots-Tag:noindex
X-PUBLISHED-TTL:PT1H
BEGIN:VTIMEZONE
TZID:America/Chicago
BEGIN:DAYLIGHT
TZOFFSETFROM:-0600
TZOFFSETTO:-0500
TZNAME:CDT
DTSTART:20230312T080000
END:DAYLIGHT
BEGIN:STANDARD
TZOFFSETFROM:-0500
TZOFFSETTO:-0600
TZNAME:CST
DTSTART:20231105T070000
END:STANDARD
BEGIN:DAYLIGHT
TZOFFSETFROM:-0600
TZOFFSETTO:-0500
TZNAME:CDT
DTSTART:20240310T080000
END:DAYLIGHT
BEGIN:STANDARD
TZOFFSETFROM:-0500
TZOFFSETTO:-0600
TZNAME:CST
DTSTART:20241103T070000
END:STANDARD
BEGIN:DAYLIGHT
TZOFFSETFROM:-0600
TZOFFSETTO:-0500
TZNAME:CDT
DTSTART:20250309T080000
END:DAYLIGHT
BEGIN:STANDARD
TZOFFSETFROM:-0500
TZOFFSETTO:-0600
TZNAME:CST
DTSTART:20251102T070000
END:STANDARD
BEGIN:DAYLIGHT
TZOFFSETFROM:-0600
TZOFFSETTO:-0500
TZNAME:CDT
DTSTART:20260308T080000
END:DAYLIGHT
BEGIN:STANDARD
TZOFFSETFROM:-0500
TZOFFSETTO:-0600
TZNAME:CST
DTSTART:20261101T070000
END:STANDARD
END:VTIMEZONE
BEGIN:VEVENT
DTSTART;VALUE=DATE:20241024
DTEND;VALUE=DATE:20241028
DTSTAMP:20260420T152641
CREATED:20231207T185754Z
LAST-MODIFIED:20231207T185835Z
UID:10381-1729728000-1730073599@basoccer.club
SUMMARY:Competitive Tournament @ ISSC - No League Games
DESCRIPTION:
URL:https://basoccer.club/eventt/competitive-tournament-issc-no-league-games-f24/
LOCATION:Indian Springs Soccer Complex\, 13600 South 145th East Avenue\, Broken Arrow\, OK\, 74011\, United States
CATEGORIES:upcoming tournaments
ORGANIZER;CN="Info":MAILTO:info@basoccer.club
END:VEVENT
BEGIN:VEVENT
DTSTART;TZID=America/Chicago:20241021T170000
DTEND;TZID=America/Chicago:20241021T200000
DTSTAMP:20260420T152641
CREATED:20240622T170109Z
LAST-MODIFIED:20240622T170109Z
UID:11211-1729530000-1729540800@basoccer.club
SUMMARY:Goal Keeper Training
DESCRIPTION:For Goal Keeper Training Specifics\, please click here.
URL:https://basoccer.club/eventt/goal-keeper-training-102124/
LOCATION:Indian Springs Soccer Complex\, 13600 South 145th East Avenue\, Broken Arrow\, OK\, 74011\, United States
CATEGORIES:Training - players
ORGANIZER;CN="Coach":MAILTO:coach@basoccer.club
END:VEVENT
BEGIN:VEVENT
DTSTART;TZID=America/Chicago:20241019T170000
DTEND;TZID=America/Chicago:20241019T200000
DTSTAMP:20260420T152641
CREATED:20241008T162717Z
LAST-MODIFIED:20241008T163317Z
UID:11624-1729357200-1729368000@basoccer.club
SUMMARY:BASC Night @ FC Tulsa
DESCRIPTION:Join BASC tonight and watch FC Tulsa take on the Hartford Athletics! \nGet tickets here.
URL:https://basoccer.club/eventt/basc-night-fc-tulsa/
LOCATION:ONEOK Field\, 201 N Elgin Ave\, Tulsa\, 74120\, United States
ORGANIZER;CN="Event":MAILTO:jdickerson@basoccer.club
END:VEVENT
BEGIN:VEVENT
DTSTART;VALUE=DATE:20241018
DTEND;VALUE=DATE:20241019
DTSTAMP:20260420T152641
CREATED:20240815T173319Z
LAST-MODIFIED:20240815T173336Z
UID:11419-1729209600-1729295999@basoccer.club
SUMMARY:Registration Deadline: BASC Fall Classic
DESCRIPTION:Click the link below for more information and to register.
URL:https://basoccer.club/eventt/registration-deadline-basc-fall-classic-f24/
LOCATION:Indian Springs Soccer Complex\, 13600 South 145th East Avenue\, Broken Arrow\, OK\, 74011\, United States
CATEGORIES:upcoming tournaments
ORGANIZER;CN="Tournament":MAILTO:tournament@basoccer.club
END:VEVENT
BEGIN:VEVENT
DTSTART;TZID=America/Chicago:20241015T180000
DTEND;TZID=America/Chicago:20241015T200000
DTSTAMP:20260420T152641
CREATED:20240917T210414Z
LAST-MODIFIED:20240917T210414Z
UID:11494-1729015200-1729022400@basoccer.club
SUMMARY:On Field Referee Class @ ISSC
DESCRIPTION:For anyone who wants to become a soccer referee. Follow the link below to register online.
URL:https://basoccer.club/eventt/on-field-referee-class-issc-1015/
LOCATION:Indian Springs Soccer Complex\, 13600 South 145th East Avenue\, Broken Arrow\, OK\, 74011\, United States
CATEGORIES:Referee
ORGANIZER;CN="Referee":MAILTO:areareferee@basoccer.club
END:VEVENT
BEGIN:VEVENT
DTSTART;TZID=America/Chicago:20241014T170000
DTEND;TZID=America/Chicago:20241014T200000
DTSTAMP:20260420T152641
CREATED:20240622T170049Z
LAST-MODIFIED:20240622T170049Z
UID:11209-1728925200-1728936000@basoccer.club
SUMMARY:Goal Keeper Training
DESCRIPTION:For Goal Keeper Training Specifics\, please click here.
URL:https://basoccer.club/eventt/goal-keeper-training-101424/
LOCATION:Indian Springs Soccer Complex\, 13600 South 145th East Avenue\, Broken Arrow\, OK\, 74011\, United States
CATEGORIES:Training - players
ORGANIZER;CN="Coach":MAILTO:coach@basoccer.club
END:VEVENT
BEGIN:VEVENT
DTSTART;VALUE=DATE:20241011
DTEND;VALUE=DATE:20241012
DTSTAMP:20260420T152641
CREATED:20240917T202523Z
LAST-MODIFIED:20240917T202533Z
UID:11491-1728604800-1728691199@basoccer.club
SUMMARY:10/15 Referee Class Registration Deadline @ 10pm
DESCRIPTION:For anyone who wants to become a soccer referee. Follow the link below to register online by 10pm.
URL:https://basoccer.club/eventt/referee-class-registration-deadline-101124/
LOCATION:Indian Springs Soccer Complex\, 13600 South 145th East Avenue\, Broken Arrow\, OK\, 74011\, United States
CATEGORIES:Referee
ORGANIZER;CN="Referee":MAILTO:areareferee@basoccer.club
END:VEVENT
BEGIN:VEVENT
DTSTART;TZID=America/Chicago:20241007T170000
DTEND;TZID=America/Chicago:20241007T200000
DTSTAMP:20260420T152641
CREATED:20240622T170004Z
LAST-MODIFIED:20240622T170004Z
UID:11207-1728320400-1728331200@basoccer.club
SUMMARY:Goal Keeper Training
DESCRIPTION:For Goal Keeper Training Specifics\, please click here.
URL:https://basoccer.club/eventt/goal-keeper-training-10724/
LOCATION:Indian Springs Soccer Complex\, 13600 South 145th East Avenue\, Broken Arrow\, OK\, 74011\, United States
CATEGORIES:Training - players
ORGANIZER;CN="Coach":MAILTO:coach@basoccer.club
END:VEVENT
BEGIN:VEVENT
DTSTART;TZID=America/Chicago:20241005T090000
DTEND;TZID=America/Chicago:20241005T150000
DTSTAMP:20260420T152641
CREATED:20240919T215540Z
LAST-MODIFIED:20240919T215540Z
UID:11509-1728118800-1728140400@basoccer.club
SUMMARY:BASC's 50th Anniversary Celebration
DESCRIPTION:
URL:https://basoccer.club/eventt/bascs-50th-anniversary-celebration/
LOCATION:Indian Springs Soccer Complex\, 13600 South 145th East Avenue\, Broken Arrow\, OK\, 74011\, United States
END:VEVENT
BEGIN:VEVENT
DTSTART;TZID=America/Chicago:20241001T110000
DTEND;TZID=America/Chicago:20241001T120000
DTSTAMP:20260420T152641
CREATED:20240919T215633Z
LAST-MODIFIED:20240919T215633Z
UID:11511-1727780400-1727784000@basoccer.club
SUMMARY:BASC 50th Anniversary Ribbon Cutting
DESCRIPTION:
URL:https://basoccer.club/eventt/basc-50th-anniversary-ribbon-cutting/
LOCATION:Indian Springs Soccer Complex\, 13600 South 145th East Avenue\, Broken Arrow\, OK\, 74011\, United States
END:VEVENT
BEGIN:VEVENT
DTSTART;VALUE=DATE:20241001
DTEND;VALUE=DATE:20250119
DTSTAMP:20260420T152641
CREATED:20240925T163957Z
LAST-MODIFIED:20240925T164008Z
UID:11541-1727740800-1737244799@basoccer.club
SUMMARY:Spring 2025 Recreational Soccer Registration OPEN
DESCRIPTION:Click here for more information and to register. 
URL:https://basoccer.club/eventt/recreational-soccer-registration-open-s25/
LOCATION:OK
CATEGORIES:Registration
ORGANIZER;CN="Registrar":MAILTO:registration@basoccer.club
END:VEVENT
BEGIN:VEVENT
DTSTART;TZID=America/Chicago:20240930T170000
DTEND;TZID=America/Chicago:20240930T200000
DTSTAMP:20260420T152641
CREATED:20240622T164918Z
LAST-MODIFIED:20240622T164918Z
UID:11205-1727715600-1727726400@basoccer.club
SUMMARY:Goal Keeper Training
DESCRIPTION:For Goal Keeper Training Specifics\, please click here.
URL:https://basoccer.club/eventt/goal-keeper-training-93024/
LOCATION:Indian Springs Soccer Complex\, 13600 South 145th East Avenue\, Broken Arrow\, OK\, 74011\, United States
CATEGORIES:Training - players
ORGANIZER;CN="Coach":MAILTO:coach@basoccer.club
END:VEVENT
BEGIN:VEVENT
DTSTART;VALUE=DATE:20240927
DTEND;VALUE=DATE:20240928
DTSTAMP:20260420T152641
CREATED:20240815T173642Z
LAST-MODIFIED:20240815T181201Z
UID:11421-1727395200-1727481599@basoccer.club
SUMMARY:Discounted Registration Deadline: BASC Fall Classic
DESCRIPTION:Register by end of day today to get 10% off your teams registration fee. \nBASC Fall Classic
URL:https://basoccer.club/eventt/discounted-registration-deadline-tornado-alley-spring-classic-f24/
LOCATION:OK
CATEGORIES:upcoming tournaments
ORGANIZER;CN="Tournament":MAILTO:tournament@basoccer.club
END:VEVENT
BEGIN:VEVENT
DTSTART;TZID=America/Chicago:20240923T170000
DTEND;TZID=America/Chicago:20240923T200000
DTSTAMP:20260420T152641
CREATED:20240622T164856Z
LAST-MODIFIED:20240917T220819Z
UID:11203-1727110800-1727121600@basoccer.club
SUMMARY:CANCELLED - Goal Keeper Training
DESCRIPTION:For Goal Keeper Training Specifics\, please click here.
URL:https://basoccer.club/eventt/goal-keeper-training-92324/
LOCATION:Indian Springs Soccer Complex\, 13600 South 145th East Avenue\, Broken Arrow\, OK\, 74011\, United States
CATEGORIES:Training - players
ORGANIZER;CN="Coach":MAILTO:coach@basoccer.club
END:VEVENT
BEGIN:VEVENT
DTSTART;TZID=America/Chicago:20240921T100000
DTEND;TZID=America/Chicago:20240921T223000
DTSTAMP:20260420T152641
CREATED:20240913T211812Z
LAST-MODIFIED:20240913T212020Z
UID:11485-1726912800-1726957800@basoccer.club
SUMMARY:Panda Express Fundraiser
DESCRIPTION:Get details here.
URL:https://basoccer.club/eventt/panda-express-fundraiser/
LOCATION:Panda Express\, 5605 S Aspen Ave\, Broken Arrow\, OK\, 74011\, United States
ORGANIZER;CN="General":MAILTO:jessica@basoccer.club
END:VEVENT
BEGIN:VEVENT
DTSTART;VALUE=DATE:20240920
DTEND;VALUE=DATE:20250101
DTSTAMP:20260420T152641
CREATED:20240925T180500Z
LAST-MODIFIED:20241113T162319Z
UID:11570-1726790400-1735689599@basoccer.club
SUMMARY:Goalkeeper Coach Job - Accepting Applications & Bids
DESCRIPTION:Accepting Applications through December 31\, 2024. \nGet specifications and apply here.
URL:https://basoccer.club/eventt/goalkeeper-coach-job-opening/
LOCATION:OK
CATEGORIES:General
ORGANIZER;CN="Info":MAILTO:info@basoccer.club
END:VEVENT
BEGIN:VEVENT
DTSTART;TZID=America/Chicago:20240916T170000
DTEND;TZID=America/Chicago:20240916T200000
DTSTAMP:20260420T152641
CREATED:20240622T164833Z
LAST-MODIFIED:20240622T164833Z
UID:11201-1726506000-1726516800@basoccer.club
SUMMARY:Goal Keeper Training
DESCRIPTION:For Goal Keeper Training Specifics\, please click here.
URL:https://basoccer.club/eventt/goal-keeper-training-91624/
LOCATION:Indian Springs Soccer Complex\, 13600 South 145th East Avenue\, Broken Arrow\, OK\, 74011\, United States
CATEGORIES:Training - players
ORGANIZER;CN="Coach":MAILTO:coach@basoccer.club
END:VEVENT
BEGIN:VEVENT
DTSTART;TZID=America/Chicago:20240909T170000
DTEND;TZID=America/Chicago:20240909T200000
DTSTAMP:20260420T152641
CREATED:20240622T164806Z
LAST-MODIFIED:20240622T164806Z
UID:11199-1725901200-1725912000@basoccer.club
SUMMARY:Goal Keeper Training
DESCRIPTION:For Goal Keeper Training Specifics\, please click here.
URL:https://basoccer.club/eventt/goal-keeper-training-9924/
LOCATION:Indian Springs Soccer Complex\, 13600 South 145th East Avenue\, Broken Arrow\, OK\, 74011\, United States
CATEGORIES:Training - players
ORGANIZER;CN="Coach":MAILTO:coach@basoccer.club
END:VEVENT
BEGIN:VEVENT
DTSTART;TZID=America/Chicago:20240907T080000
DTEND;TZID=America/Chicago:20240908T170000
DTSTAMP:20260420T152641
CREATED:20240617T121400Z
LAST-MODIFIED:20240617T121400Z
UID:11143-1725696000-1725814800@basoccer.club
SUMMARY:US Soccer National D License - Field Session @ ISSC
DESCRIPTION:Follow the link below for details and to register.
URL:https://basoccer.club/eventt/us-soccer-national-d-license-field-session-issc-97824/
LOCATION:Indian Springs Soccer Complex\, 13600 South 145th East Avenue\, Broken Arrow\, OK\, 74011\, United States
CATEGORIES:Training - Coach/Manager
ORGANIZER;CN="Coach":MAILTO:coach@basoccer.club
END:VEVENT
BEGIN:VEVENT
DTSTART;VALUE=DATE:20240907
DTEND;VALUE=DATE:20240908
DTSTAMP:20260420T152641
CREATED:20240617T213357Z
LAST-MODIFIED:20240617T213357Z
UID:11185-1725667200-1725753599@basoccer.club
SUMMARY:KICKSTART Starts
DESCRIPTION:Click the link below to get more information and for your KICKSTART Directors contact information.
URL:https://basoccer.club/eventt/kickstart-starts-9724/
LOCATION:Indian Springs Soccer Complex\, 13600 South 145th East Avenue\, Broken Arrow\, OK\, 74011\, United States
CATEGORIES:Club Event,General
ORGANIZER;CN="Registrar":MAILTO:registration@basoccer.club
END:VEVENT
BEGIN:VEVENT
DTSTART;VALUE=DATE:20240907
DTEND;VALUE=DATE:20240908
DTSTAMP:20260420T152641
CREATED:20240617T213242Z
LAST-MODIFIED:20240617T213256Z
UID:11183-1725667200-1725753599@basoccer.club
SUMMARY:TOPSoccer Starts
DESCRIPTION:Click the link below to get more information.
URL:https://basoccer.club/eventt/topsoccer-starts-9724/
LOCATION:Indian Springs Soccer Complex\, 13600 South 145th East Avenue\, Broken Arrow\, OK\, 74011\, United States
CATEGORIES:Club Event,General
ORGANIZER;CN="Registrar":MAILTO:registration@basoccer.club
END:VEVENT
BEGIN:VEVENT
DTSTART;VALUE=DATE:20240907
DTEND;VALUE=DATE:20240908
DTSTAMP:20260420T152641
CREATED:20240617T213157Z
LAST-MODIFIED:20240617T213157Z
UID:11181-1725667200-1725753599@basoccer.club
SUMMARY:Rec Open / Rec Select League Season Starts
DESCRIPTION:Click the link below to find your teams league schedule.
URL:https://basoccer.club/eventt/rec-open-rec-select-league-season-starts-9724/
LOCATION:Indian Springs Soccer Complex\, 13600 South 145th East Avenue\, Broken Arrow\, OK\, 74011\, United States
CATEGORIES:Club Event,General
ORGANIZER;CN="General":MAILTO:jessica@basoccer.club
END:VEVENT
BEGIN:VEVENT
DTSTART;VALUE=DATE:20240907
DTEND;VALUE=DATE:20240908
DTSTAMP:20260420T152641
CREATED:20240617T213110Z
LAST-MODIFIED:20240617T213110Z
UID:11179-1725667200-1725753599@basoccer.club
SUMMARY:Closed League Season Starts
DESCRIPTION:Click the link below to find your teams league schedule.
URL:https://basoccer.club/eventt/closed-league-season-starts-9724/
LOCATION:Indian Springs Soccer Complex\, 13600 South 145th East Avenue\, Broken Arrow\, OK\, 74011\, United States
CATEGORIES:Club Event,General
ORGANIZER;CN="General":MAILTO:jessica@basoccer.club
END:VEVENT
BEGIN:VEVENT
DTSTART;TZID=America/Chicago:20240905T193000
DTEND;TZID=America/Chicago:20240905T203000
DTSTAMP:20260420T152641
CREATED:20230104T171240Z
LAST-MODIFIED:20230104T171240Z
UID:8333-1725564600-1725568200@basoccer.club
SUMMARY:General Membership Meeting
DESCRIPTION:Follow the link below for more information.
URL:https://basoccer.club/eventt/general-membership-meeting-sept24/
LOCATION:Central Park Community Center\, 1500 South Main Street\, Broken Arrow\, OK\, 74012\, United States
CATEGORIES:Club Event
ORGANIZER;CN="Info":MAILTO:info@basoccer.club
END:VEVENT
BEGIN:VEVENT
DTSTART;VALUE=DATE:20240902
DTEND;VALUE=DATE:20240903
DTSTAMP:20260420T152641
CREATED:20230117T173612Z
LAST-MODIFIED:20230117T173612Z
UID:8482-1725235200-1725321599@basoccer.club
SUMMARY:Office Closed - Labor Day Holiday
DESCRIPTION:
URL:https://basoccer.club/eventt/office-closed-labor-day-holiday-24/
LOCATION:Indian Springs Soccer Complex\, 13600 South 145th East Avenue\, Broken Arrow\, OK\, 74011\, United States
CATEGORIES:Office Closed
ORGANIZER;CN="Info":MAILTO:info@basoccer.club
END:VEVENT
BEGIN:VEVENT
DTSTART;VALUE=DATE:20240831
DTEND;VALUE=DATE:20240901
DTSTAMP:20260420T152641
CREATED:20221206T173248Z
LAST-MODIFIED:20230622T171715Z
UID:8269-1725062400-1725148799@basoccer.club
SUMMARY:Labor Day Kick-Off Classic Friendlies
DESCRIPTION:Click the link below for tournament info. \nSchedule
URL:https://basoccer.club/eventt/labor-day-kick-off-classic-24/
LOCATION:Indian Springs Soccer Complex\, 13600 South 145th East Avenue\, Broken Arrow\, OK\, 74011\, United States
CATEGORIES:upcoming tournaments
ORGANIZER;CN="Tournament":MAILTO:tournament@basoccer.club
END:VEVENT
BEGIN:VEVENT
DTSTART;TZID=America/Chicago:20240826T170000
DTEND;TZID=America/Chicago:20240826T200000
DTSTAMP:20260420T152641
CREATED:20240622T164650Z
LAST-MODIFIED:20240622T164650Z
UID:11197-1724691600-1724702400@basoccer.club
SUMMARY:Goal Keeper Training
DESCRIPTION:For Goal Keeper Training Specifics\, please click here.
URL:https://basoccer.club/eventt/goal-keeper-training-82624/
LOCATION:Indian Springs Soccer Complex\, 13600 South 145th East Avenue\, Broken Arrow\, OK\, 74011\, United States
CATEGORIES:Training - players
ORGANIZER;CN="Coach":MAILTO:coach@basoccer.club
END:VEVENT
BEGIN:VEVENT
DTSTART;TZID=America/Chicago:20240826T150000
DTEND;TZID=America/Chicago:20240826T150000
DTSTAMP:20260420T152641
CREATED:20230113T173901Z
LAST-MODIFIED:20230113T173908Z
UID:8415-1724684400-1724684400@basoccer.club
SUMMARY:Nominations for Executive Board positions Due by Close of Business: 3rd VP & Secretary
DESCRIPTION:Click the link below for more information.
URL:https://basoccer.club/eventt/nominations-for-executive-board-positions-sept24/
LOCATION:OK
CATEGORIES:Club Event
ORGANIZER;CN="Info":MAILTO:info@basoccer.club
END:VEVENT
BEGIN:VEVENT
DTSTART;VALUE=DATE:20240824
DTEND;VALUE=DATE:20240825
DTSTAMP:20260420T152641
CREATED:20240617T213554Z
LAST-MODIFIED:20240617T213554Z
UID:11187-1724457600-1724543999@basoccer.club
SUMMARY:OPL Season Start
DESCRIPTION:
URL:https://basoccer.club/eventt/opl-season-start-82424/
LOCATION:OK
CATEGORIES:BA Express
ORGANIZER;CN="BA Express":MAILTO:competitiveheadcoach@basoccer.club
END:VEVENT
BEGIN:VEVENT
DTSTART;TZID=America/Chicago:20240817T080000
DTEND;TZID=America/Chicago:20240818T170000
DTSTAMP:20260420T152641
CREATED:20240617T121313Z
LAST-MODIFIED:20240617T121313Z
UID:11141-1723881600-1724000400@basoccer.club
SUMMARY:US Soccer National D License - Field Session @ ISSC
DESCRIPTION:Follow the link below for details and to register.
URL:https://basoccer.club/eventt/national-d-license-field-session-issc-8171824/
LOCATION:Indian Springs Soccer Complex\, 13600 South 145th East Avenue\, Broken Arrow\, OK\, 74011\, United States
CATEGORIES:Training - Coach/Manager
ORGANIZER;CN="Coach":MAILTO:coach@basoccer.club
END:VEVENT
END:VCALENDAR