BEGIN:VCALENDAR
VERSION:2.0
PRODID:-//Broken Arrow Soccer Club - ECPv6.15.20//NONSGML v1.0//EN
CALSCALE:GREGORIAN
METHOD:PUBLISH
X-WR-CALNAME:Broken Arrow Soccer Club
X-ORIGINAL-URL:https://basoccer.club
X-WR-CALDESC:Events for Broken Arrow Soccer Club
REFRESH-INTERVAL;VALUE=DURATION:PT1H
X-Robots-Tag:noindex
X-PUBLISHED-TTL:PT1H
BEGIN:VTIMEZONE
TZID:America/Chicago
BEGIN:DAYLIGHT
TZOFFSETFROM:-0600
TZOFFSETTO:-0500
TZNAME:CDT
DTSTART:20230312T080000
END:DAYLIGHT
BEGIN:STANDARD
TZOFFSETFROM:-0500
TZOFFSETTO:-0600
TZNAME:CST
DTSTART:20231105T070000
END:STANDARD
BEGIN:DAYLIGHT
TZOFFSETFROM:-0600
TZOFFSETTO:-0500
TZNAME:CDT
DTSTART:20240310T080000
END:DAYLIGHT
BEGIN:STANDARD
TZOFFSETFROM:-0500
TZOFFSETTO:-0600
TZNAME:CST
DTSTART:20241103T070000
END:STANDARD
BEGIN:DAYLIGHT
TZOFFSETFROM:-0600
TZOFFSETTO:-0500
TZNAME:CDT
DTSTART:20250309T080000
END:DAYLIGHT
BEGIN:STANDARD
TZOFFSETFROM:-0500
TZOFFSETTO:-0600
TZNAME:CST
DTSTART:20251102T070000
END:STANDARD
BEGIN:DAYLIGHT
TZOFFSETFROM:-0600
TZOFFSETTO:-0500
TZNAME:CDT
DTSTART:20260308T080000
END:DAYLIGHT
BEGIN:STANDARD
TZOFFSETFROM:-0500
TZOFFSETTO:-0600
TZNAME:CST
DTSTART:20261101T070000
END:STANDARD
END:VTIMEZONE
BEGIN:VEVENT
DTSTART;TZID=America/Chicago:20250201T080000
DTEND;TZID=America/Chicago:20250201T120000
DTSTAMP:20260420T105616
CREATED:20250112T193324Z
LAST-MODIFIED:20250112T193324Z
UID:11557-1738396800-1738411200@basoccer.club
SUMMARY:Field Day
DESCRIPTION:Get more information at the link below.
URL:https://basoccer.club/eventt/field-day-s25/
LOCATION:Indian Springs Soccer Complex\, 13600 South 145th East Avenue\, Broken Arrow\, OK\, 74011\, United States
CATEGORIES:Club Event
ORGANIZER;CN="Complex Manager":MAILTO:complexmanager@basoccer.club
END:VEVENT
BEGIN:VEVENT
DTSTART;TZID=America/Chicago:20250131T183000
DTEND;TZID=America/Chicago:20250131T203000
DTSTAMP:20260420T105616
CREATED:20250112T193118Z
LAST-MODIFIED:20250112T193118Z
UID:11556-1738348200-1738355400@basoccer.club
SUMMARY:Coach Meeting - Mandatory for ALL BASC Coaches
DESCRIPTION:Click website link below for details.
URL:https://basoccer.club/eventt/coach-meeting-mandatory-for-all-coaches-s25/
LOCATION:OK
CATEGORIES:Club Event,Training - Coach/Manager
ORGANIZER;CN="Coach":MAILTO:coach@basoccer.club
END:VEVENT
BEGIN:VEVENT
DTSTART;VALUE=DATE:20250131
DTEND;VALUE=DATE:20250204
DTSTAMP:20260420T105616
CREATED:20250112T192836Z
LAST-MODIFIED:20250112T192836Z
UID:11562-1738281600-1738627199@basoccer.club
SUMMARY:BASC Shop Days @ Dick's Sporting Goods
DESCRIPTION:Click the link below for more information and to get your 20% discount coupon.
URL:https://basoccer.club/eventt/basc-shop-days-dicks-sporting-goods-s251/
LOCATION:Dick’s Sporting Goods\, 1620 East Hillside Drive\, Broken Arrow\, OK\, 74012\, United States
CATEGORIES:Club Event
ORGANIZER;CN="General":MAILTO:jessica@basoccer.club
END:VEVENT
BEGIN:VEVENT
DTSTART;TZID=America/Chicago:20250130T170000
DTEND;TZID=America/Chicago:20250130T170000
DTSTAMP:20260420T105616
CREATED:20250112T193415Z
LAST-MODIFIED:20250112T193552Z
UID:11555-1738256400-1738256400@basoccer.club
SUMMARY:Practice Field Requests Due by 5pm
DESCRIPTION:Practice Field Locations \nRequest Your Practice Field
URL:https://basoccer.club/eventt/practice-field-requests-due-by-5pm-s25/
LOCATION:OK
CATEGORIES:General
ORGANIZER;CN="Practice Fields":MAILTO:practicefield@basoccer.club
END:VEVENT
BEGIN:VEVENT
DTSTART;VALUE=DATE:20250127
DTEND;VALUE=DATE:20250128
DTSTAMP:20260420T105616
CREATED:20250103T234627Z
LAST-MODIFIED:20250103T234659Z
UID:11796-1737936000-1738022399@basoccer.club
SUMMARY:Early Bird Registration Deadline - Spring 7v7 High School League
DESCRIPTION:Get details and register here.
URL:https://basoccer.club/eventt/early-registration-deadline-spring-high-school-league/
LOCATION:OK
ORGANIZER;CN="General":MAILTO:jessica@basoccer.club
END:VEVENT
BEGIN:VEVENT
DTSTART;VALUE=DATE:20250124
DTEND;VALUE=DATE:20250125
DTSTAMP:20260420T105616
CREATED:20250116T174129Z
LAST-MODIFIED:20250116T174129Z
UID:11886-1737676800-1737763199@basoccer.club
SUMMARY:DEADLINE: Goalkeeper Coach Job
DESCRIPTION:Accepting Applications through Friday\, January 24\, 2025 \nGet specifications and apply here.
URL:https://basoccer.club/eventt/deadline-goalkeeper-coach-job/
LOCATION:OK
CATEGORIES:General
ORGANIZER;CN="Info":MAILTO:info@basoccer.club
END:VEVENT
BEGIN:VEVENT
DTSTART;VALUE=DATE:20250119
DTEND;VALUE=DATE:20250120
DTSTAMP:20260420T105616
CREATED:20240925T164903Z
LAST-MODIFIED:20240925T165001Z
UID:11552-1737244800-1737331199@basoccer.club
SUMMARY:Late Registration Begins. Fee raises to $135
DESCRIPTION:Follow the link below to register your Soccer Player!
URL:https://basoccer.club/eventt/late-registration-begins-fee-raises-s25/
LOCATION:OK
CATEGORIES:Registration
ORGANIZER;CN="Registrar":MAILTO:registration@basoccer.club
END:VEVENT
BEGIN:VEVENT
DTSTART;VALUE=DATE:20250118
DTEND;VALUE=DATE:20250119
DTSTAMP:20260420T105616
CREATED:20240925T164756Z
LAST-MODIFIED:20240925T164756Z
UID:11550-1737158400-1737244799@basoccer.club
SUMMARY:BASC Spring 2025 Registration Closes
DESCRIPTION:Follow the link below to register your Soccer Player!
URL:https://basoccer.club/eventt/registration-closes-s25/
LOCATION:OK
CATEGORIES:Registration
ORGANIZER;CN="Registrar":MAILTO:registration@basoccer.club
END:VEVENT
BEGIN:VEVENT
DTSTART;VALUE=DATE:20250117
DTEND;VALUE=DATE:20250118
DTSTAMP:20260420T105616
CREATED:20240925T164642Z
LAST-MODIFIED:20240925T164642Z
UID:11548-1737072000-1737158399@basoccer.club
SUMMARY:Rec Select Rosters Due
DESCRIPTION:Get your Rec Select Roster at the link below. \nEmail your fully filled out Rec Select Roster to the Registrar at: registration@basoccer.club
URL:https://basoccer.club/eventt/rec-select-rosters-due-s25/
LOCATION:OK
CATEGORIES:Registration
ORGANIZER;CN="Registrar":MAILTO:registration@basoccer.club
END:VEVENT
BEGIN:VEVENT
DTSTART;VALUE=DATE:20250113
DTEND;VALUE=DATE:20250116
DTSTAMP:20260420T105616
CREATED:20240925T164503Z
LAST-MODIFIED:20240925T164517Z
UID:11546-1736726400-1736985599@basoccer.club
SUMMARY:Financial Aid Vouchers Distributed
DESCRIPTION:
URL:https://basoccer.club/eventt/financial-aid-vouchers-distributed-s25/
LOCATION:OK
ORGANIZER;CN="General":MAILTO:jessica@basoccer.club
END:VEVENT
BEGIN:VEVENT
DTSTART;VALUE=DATE:20250110
DTEND;VALUE=DATE:20250111
DTSTAMP:20260420T105616
CREATED:20240925T164331Z
LAST-MODIFIED:20240925T164331Z
UID:11544-1736467200-1736553599@basoccer.club
SUMMARY:DEADLINE: Financial Aid Applications for spring 2025 Season
DESCRIPTION:Follow the link below to learn more and apply.
URL:https://basoccer.club/eventt/deadline-financial-aid-applications-for-s25/
LOCATION:OK
CATEGORIES:General,Registration
ORGANIZER;CN="General":MAILTO:jessica@basoccer.club
END:VEVENT
BEGIN:VEVENT
DTSTART;VALUE=DATE:20250101
DTEND;VALUE=DATE:20250102
DTSTAMP:20260420T105616
CREATED:20230523T205020Z
LAST-MODIFIED:20230523T205020Z
UID:9307-1735689600-1735775999@basoccer.club
SUMMARY:Office Closed - New Year Holiday
DESCRIPTION:
URL:https://basoccer.club/eventt/office-closed-new-year-holiday-25/
LOCATION:Indian Springs Soccer Complex\, 13600 South 145th East Avenue\, Broken Arrow\, OK\, 74011\, United States
CATEGORIES:Office Closed
ORGANIZER;CN="Info":MAILTO:info@basoccer.club
END:VEVENT
BEGIN:VEVENT
DTSTART;TZID=America/Chicago:20241212T190000
DTEND;TZID=America/Chicago:20241212T200000
DTSTAMP:20260420T105616
CREATED:20241017T180038Z
LAST-MODIFIED:20241017T180038Z
UID:11649-1734030000-1734033600@basoccer.club
SUMMARY:BASC Fall Awards Ceremony
DESCRIPTION:The Fall 2024 Awards ceremony for U9 – U19 League winners. Click below for details. \nWinning coaches will be notified in late November / early December with details.
URL:https://basoccer.club/eventt/basc-fall-awards-ceremony/
LOCATION:Ridge Christian Church\, 4010 W New Orleans St\,\, Broken Arrow\, OK\, 74011\, United States
CATEGORIES:Club Event
ORGANIZER;CN="General":MAILTO:jessica@basoccer.club
END:VEVENT
BEGIN:VEVENT
DTSTART;TZID=America/Chicago:20241111T170000
DTEND;TZID=America/Chicago:20241111T200000
DTSTAMP:20260420T105616
CREATED:20241111T192904Z
LAST-MODIFIED:20241111T192904Z
UID:11691-1731344400-1731355200@basoccer.club
SUMMARY:Goal Keeper Training (Moved to North end of Field 6)
DESCRIPTION:For Goal Keeper Training Specifics\, please click here. \n 
URL:https://basoccer.club/eventt/goal-keeper-training-moved-to-north-end-of-field-6/
LOCATION:Indian Springs Soccer Complex\, 13600 South 145th East Avenue\, Broken Arrow\, OK\, 74011\, United States
CATEGORIES:Training - players
ORGANIZER;CN="Coach":MAILTO:coach@basoccer.club
END:VEVENT
BEGIN:VEVENT
DTSTART;TZID=America/Chicago:20241107T193000
DTEND;TZID=America/Chicago:20241107T203000
DTSTAMP:20260420T105616
CREATED:20230104T171330Z
LAST-MODIFIED:20230104T171627Z
UID:8335-1731007800-1731011400@basoccer.club
SUMMARY:General Membership Meeting
DESCRIPTION:Follow the link below for more information.
URL:https://basoccer.club/eventt/general-membership-meeting-nov24/
LOCATION:Central Park Community Center\, 1500 South Main Street\, Broken Arrow\, OK\, 74012\, United States
CATEGORIES:Club Event
ORGANIZER;CN="Info":MAILTO:info@basoccer.club
END:VEVENT
BEGIN:VEVENT
DTSTART;TZID=America/Chicago:20241107T180000
DTEND;TZID=America/Chicago:20241110T200000
DTSTAMP:20260420T105616
CREATED:20221206T173849Z
LAST-MODIFIED:20240701T173548Z
UID:8275-1731002400-1731268800@basoccer.club
SUMMARY:BASC Fall Classic
DESCRIPTION:Follow the link below for more information and to register. \nSchedule
URL:https://basoccer.club/eventt/basc-fall-classic-24/
LOCATION:OK
CATEGORIES:upcoming tournaments
ORGANIZER;CN="Tournament":MAILTO:tournament@basoccer.club
END:VEVENT
BEGIN:VEVENT
DTSTART;TZID=America/Chicago:20241104T170000
DTEND;TZID=America/Chicago:20241104T200000
DTSTAMP:20260420T105616
CREATED:20240622T170317Z
LAST-MODIFIED:20241104T204025Z
UID:11215-1730739600-1730750400@basoccer.club
SUMMARY:Goal Keeper Training (Moved to West end of 39N)
DESCRIPTION:For Goal Keeper Training Specifics\, please click here. \n 
URL:https://basoccer.club/eventt/goal-keeper-training-11424/
LOCATION:Indian Springs Soccer Complex\, 13600 South 145th East Avenue\, Broken Arrow\, OK\, 74011\, United States
CATEGORIES:Training - players
ORGANIZER;CN="Coach":MAILTO:coach@basoccer.club
END:VEVENT
BEGIN:VEVENT
DTSTART;TZID=America/Chicago:20241102T170000
DTEND;TZID=America/Chicago:20241102T200000
DTSTAMP:20260420T105616
CREATED:20240802T193852Z
LAST-MODIFIED:20240802T203507Z
UID:11359-1730566800-1730577600@basoccer.club
SUMMARY:Coach/Manager VS Referee Soccer Match
DESCRIPTION:Follow the link below for details
URL:https://basoccer.club/eventt/coach-manager-vs-referee-soccer-match-f24/
LOCATION:Indian Springs Soccer Complex\, 13600 South 145th East Avenue\, Broken Arrow\, OK\, 74011\, United States
CATEGORIES:Club Event
ORGANIZER;CN="Coach":MAILTO:coach@basoccer.club
END:VEVENT
BEGIN:VEVENT
DTSTART;TZID=America/Chicago:20241101T190000
DTEND;TZID=America/Chicago:20241101T220000
DTSTAMP:20260420T105616
CREATED:20241008T161405Z
LAST-MODIFIED:20241008T163231Z
UID:11622-1730487600-1730498400@basoccer.club
SUMMARY:BASC Night @ TU men's soccer
DESCRIPTION:Join BASC tonight and watch TU take on the Temple Owls in men’s soccer! \nGet tickets here.
URL:https://basoccer.club/eventt/basc-night-tu-mens-soccer-1124/
LOCATION:Hurricane Soccer and Track Stadium\, 512 South Delaware Ave\, Tulsa\, OK\, 740104\, United States
ORGANIZER;CN="Event":MAILTO:jdickerson@basoccer.club
END:VEVENT
BEGIN:VEVENT
DTSTART;TZID=America/Chicago:20241028T170000
DTEND;TZID=America/Chicago:20241028T200000
DTSTAMP:20260420T105616
CREATED:20240622T170153Z
LAST-MODIFIED:20241028T181514Z
UID:11213-1730134800-1730145600@basoccer.club
SUMMARY:CANCELLED - Goal Keeper Training
DESCRIPTION:For Goal Keeper Training Specifics\, please click here.
URL:https://basoccer.club/eventt/goal-keeper-training-102824/
LOCATION:Indian Springs Soccer Complex\, 13600 South 145th East Avenue\, Broken Arrow\, OK\, 74011\, United States
CATEGORIES:Training - players
ORGANIZER;CN="Coach":MAILTO:coach@basoccer.club
END:VEVENT
BEGIN:VEVENT
DTSTART;TZID=America/Chicago:20241028T150000
DTEND;TZID=America/Chicago:20241028T150000
DTSTAMP:20260420T105616
CREATED:20230113T173211Z
LAST-MODIFIED:20230113T174402Z
UID:8409-1730127600-1730127600@basoccer.club
SUMMARY:Nominations for Executive Board positions Due by Close of Business: Treasurer\, Registrar\, Games Commissioner\, & Head Coach
DESCRIPTION:Click the link below for more information.
URL:https://basoccer.club/eventt/nominations-for-executive-board-positions-nov24/
LOCATION:OK
CATEGORIES:Club Event
ORGANIZER;CN="Info":MAILTO:info@basoccer.club
END:VEVENT
BEGIN:VEVENT
DTSTART;VALUE=DATE:20241024
DTEND;VALUE=DATE:20241028
DTSTAMP:20260420T105616
CREATED:20231207T185754Z
LAST-MODIFIED:20231207T185835Z
UID:10381-1729728000-1730073599@basoccer.club
SUMMARY:Competitive Tournament @ ISSC - No League Games
DESCRIPTION:
URL:https://basoccer.club/eventt/competitive-tournament-issc-no-league-games-f24/
LOCATION:Indian Springs Soccer Complex\, 13600 South 145th East Avenue\, Broken Arrow\, OK\, 74011\, United States
CATEGORIES:upcoming tournaments
ORGANIZER;CN="Info":MAILTO:info@basoccer.club
END:VEVENT
BEGIN:VEVENT
DTSTART;TZID=America/Chicago:20241021T170000
DTEND;TZID=America/Chicago:20241021T200000
DTSTAMP:20260420T105616
CREATED:20240622T170109Z
LAST-MODIFIED:20240622T170109Z
UID:11211-1729530000-1729540800@basoccer.club
SUMMARY:Goal Keeper Training
DESCRIPTION:For Goal Keeper Training Specifics\, please click here.
URL:https://basoccer.club/eventt/goal-keeper-training-102124/
LOCATION:Indian Springs Soccer Complex\, 13600 South 145th East Avenue\, Broken Arrow\, OK\, 74011\, United States
CATEGORIES:Training - players
ORGANIZER;CN="Coach":MAILTO:coach@basoccer.club
END:VEVENT
BEGIN:VEVENT
DTSTART;TZID=America/Chicago:20241019T170000
DTEND;TZID=America/Chicago:20241019T200000
DTSTAMP:20260420T105616
CREATED:20241008T162717Z
LAST-MODIFIED:20241008T163317Z
UID:11624-1729357200-1729368000@basoccer.club
SUMMARY:BASC Night @ FC Tulsa
DESCRIPTION:Join BASC tonight and watch FC Tulsa take on the Hartford Athletics! \nGet tickets here.
URL:https://basoccer.club/eventt/basc-night-fc-tulsa/
LOCATION:ONEOK Field\, 201 N Elgin Ave\, Tulsa\, 74120\, United States
ORGANIZER;CN="Event":MAILTO:jdickerson@basoccer.club
END:VEVENT
BEGIN:VEVENT
DTSTART;VALUE=DATE:20241018
DTEND;VALUE=DATE:20241019
DTSTAMP:20260420T105616
CREATED:20240815T173319Z
LAST-MODIFIED:20240815T173336Z
UID:11419-1729209600-1729295999@basoccer.club
SUMMARY:Registration Deadline: BASC Fall Classic
DESCRIPTION:Click the link below for more information and to register.
URL:https://basoccer.club/eventt/registration-deadline-basc-fall-classic-f24/
LOCATION:Indian Springs Soccer Complex\, 13600 South 145th East Avenue\, Broken Arrow\, OK\, 74011\, United States
CATEGORIES:upcoming tournaments
ORGANIZER;CN="Tournament":MAILTO:tournament@basoccer.club
END:VEVENT
BEGIN:VEVENT
DTSTART;TZID=America/Chicago:20241015T180000
DTEND;TZID=America/Chicago:20241015T200000
DTSTAMP:20260420T105616
CREATED:20240917T210414Z
LAST-MODIFIED:20240917T210414Z
UID:11494-1729015200-1729022400@basoccer.club
SUMMARY:On Field Referee Class @ ISSC
DESCRIPTION:For anyone who wants to become a soccer referee. Follow the link below to register online.
URL:https://basoccer.club/eventt/on-field-referee-class-issc-1015/
LOCATION:Indian Springs Soccer Complex\, 13600 South 145th East Avenue\, Broken Arrow\, OK\, 74011\, United States
CATEGORIES:Referee
ORGANIZER;CN="Referee":MAILTO:areareferee@basoccer.club
END:VEVENT
BEGIN:VEVENT
DTSTART;TZID=America/Chicago:20241014T170000
DTEND;TZID=America/Chicago:20241014T200000
DTSTAMP:20260420T105616
CREATED:20240622T170049Z
LAST-MODIFIED:20240622T170049Z
UID:11209-1728925200-1728936000@basoccer.club
SUMMARY:Goal Keeper Training
DESCRIPTION:For Goal Keeper Training Specifics\, please click here.
URL:https://basoccer.club/eventt/goal-keeper-training-101424/
LOCATION:Indian Springs Soccer Complex\, 13600 South 145th East Avenue\, Broken Arrow\, OK\, 74011\, United States
CATEGORIES:Training - players
ORGANIZER;CN="Coach":MAILTO:coach@basoccer.club
END:VEVENT
BEGIN:VEVENT
DTSTART;VALUE=DATE:20241011
DTEND;VALUE=DATE:20241012
DTSTAMP:20260420T105616
CREATED:20240917T202523Z
LAST-MODIFIED:20240917T202533Z
UID:11491-1728604800-1728691199@basoccer.club
SUMMARY:10/15 Referee Class Registration Deadline @ 10pm
DESCRIPTION:For anyone who wants to become a soccer referee. Follow the link below to register online by 10pm.
URL:https://basoccer.club/eventt/referee-class-registration-deadline-101124/
LOCATION:Indian Springs Soccer Complex\, 13600 South 145th East Avenue\, Broken Arrow\, OK\, 74011\, United States
CATEGORIES:Referee
ORGANIZER;CN="Referee":MAILTO:areareferee@basoccer.club
END:VEVENT
BEGIN:VEVENT
DTSTART;TZID=America/Chicago:20241007T170000
DTEND;TZID=America/Chicago:20241007T200000
DTSTAMP:20260420T105616
CREATED:20240622T170004Z
LAST-MODIFIED:20240622T170004Z
UID:11207-1728320400-1728331200@basoccer.club
SUMMARY:Goal Keeper Training
DESCRIPTION:For Goal Keeper Training Specifics\, please click here.
URL:https://basoccer.club/eventt/goal-keeper-training-10724/
LOCATION:Indian Springs Soccer Complex\, 13600 South 145th East Avenue\, Broken Arrow\, OK\, 74011\, United States
CATEGORIES:Training - players
ORGANIZER;CN="Coach":MAILTO:coach@basoccer.club
END:VEVENT
BEGIN:VEVENT
DTSTART;TZID=America/Chicago:20241005T090000
DTEND;TZID=America/Chicago:20241005T150000
DTSTAMP:20260420T105616
CREATED:20240919T215540Z
LAST-MODIFIED:20240919T215540Z
UID:11509-1728118800-1728140400@basoccer.club
SUMMARY:BASC's 50th Anniversary Celebration
DESCRIPTION:
URL:https://basoccer.club/eventt/bascs-50th-anniversary-celebration/
LOCATION:Indian Springs Soccer Complex\, 13600 South 145th East Avenue\, Broken Arrow\, OK\, 74011\, United States
END:VEVENT
END:VCALENDAR