BEGIN:VCALENDAR
VERSION:2.0
PRODID:-//Broken Arrow Soccer Club - ECPv6.15.20//NONSGML v1.0//EN
CALSCALE:GREGORIAN
METHOD:PUBLISH
X-ORIGINAL-URL:https://basoccer.club
X-WR-CALDESC:Events for Broken Arrow Soccer Club
REFRESH-INTERVAL;VALUE=DURATION:PT1H
X-Robots-Tag:noindex
X-PUBLISHED-TTL:PT1H
BEGIN:VTIMEZONE
TZID:America/Chicago
BEGIN:DAYLIGHT
TZOFFSETFROM:-0600
TZOFFSETTO:-0500
TZNAME:CDT
DTSTART:20250309T080000
END:DAYLIGHT
BEGIN:STANDARD
TZOFFSETFROM:-0500
TZOFFSETTO:-0600
TZNAME:CST
DTSTART:20251102T070000
END:STANDARD
BEGIN:DAYLIGHT
TZOFFSETFROM:-0600
TZOFFSETTO:-0500
TZNAME:CDT
DTSTART:20260308T080000
END:DAYLIGHT
BEGIN:STANDARD
TZOFFSETFROM:-0500
TZOFFSETTO:-0600
TZNAME:CST
DTSTART:20261101T070000
END:STANDARD
BEGIN:DAYLIGHT
TZOFFSETFROM:-0600
TZOFFSETTO:-0500
TZNAME:CDT
DTSTART:20270314T080000
END:DAYLIGHT
BEGIN:STANDARD
TZOFFSETFROM:-0500
TZOFFSETTO:-0600
TZNAME:CST
DTSTART:20271107T070000
END:STANDARD
BEGIN:DAYLIGHT
TZOFFSETFROM:-0600
TZOFFSETTO:-0500
TZNAME:CDT
DTSTART:20280312T080000
END:DAYLIGHT
BEGIN:STANDARD
TZOFFSETFROM:-0500
TZOFFSETTO:-0600
TZNAME:CST
DTSTART:20281105T070000
END:STANDARD
END:VTIMEZONE
BEGIN:VEVENT
DTSTART;TZID=America/Chicago:20260427T150000
DTEND;TZID=America/Chicago:20260427T150000
DTSTAMP:20260419T122731
CREATED:20230523T213440Z
LAST-MODIFIED:20260414T172739Z
UID:9327-1777302000-1777302000@basoccer.club
SUMMARY:Nominations for Executive Board positions Due by Close of Business: 2nd VP & Area Referee
DESCRIPTION:Click the link below for more information.
URL:https://basoccer.club/eventt/nominations-for-executive-board-positions-due-by-close-of-business-1st-vp-2nd-vp-area-referee-26/
LOCATION:OK
CATEGORIES:Club Event
ORGANIZER;CN="Info":MAILTO:info@basoccer.club
END:VEVENT
BEGIN:VEVENT
DTSTART;TZID=America/Chicago:20260427T180000
DTEND;TZID=America/Chicago:20260427T200000
DTSTAMP:20260419T122731
CREATED:20260110T161802Z
LAST-MODIFIED:20260110T161820Z
UID:13506-1777312800-1777320000@basoccer.club
SUMMARY:Goal Keeper Training
DESCRIPTION:For Goal Keeper Training Specifics\, please click here.
URL:https://basoccer.club/eventt/goal-keeper-training-42726/
LOCATION:Indian Springs Soccer Complex\, 13600 South 145th East Avenue\, Broken Arrow\, OK\, 74011\, United States
CATEGORIES:Training - players
ORGANIZER;CN="Coach":MAILTO:coach@basoccer.club
END:VEVENT
BEGIN:VEVENT
DTSTART;TZID=America/Chicago:20260502T173000
DTEND;TZID=America/Chicago:20260502T193000
DTSTAMP:20260419T122731
CREATED:20260327T172222Z
LAST-MODIFIED:20260327T173658Z
UID:13867-1777743000-1777750200@basoccer.club
SUMMARY:Coach\, Manager\, & Referee Pickup Soccer Match
DESCRIPTION:Get Details Here.
URL:https://basoccer.club/eventt/coach-manager-referee-pickup-soccer-match-s26/
LOCATION:Indian Springs Soccer Complex\, 13600 South 145th East Avenue\, Broken Arrow\, OK\, 74011\, United States
CATEGORIES:Club Event
ORGANIZER;CN="Coach":MAILTO:coach@basoccer.club
END:VEVENT
BEGIN:VEVENT
DTSTART;TZID=America/Chicago:20260504T180000
DTEND;TZID=America/Chicago:20260504T200000
DTSTAMP:20260419T122731
CREATED:20260110T161920Z
LAST-MODIFIED:20260110T161920Z
UID:13508-1777917600-1777924800@basoccer.club
SUMMARY:Goal Keeper Training
DESCRIPTION:For Goal Keeper Training Specifics\, please click here.
URL:https://basoccer.club/eventt/goal-keeper-training-5426/
LOCATION:Indian Springs Soccer Complex\, 13600 South 145th East Avenue\, Broken Arrow\, OK\, 74011\, United States
CATEGORIES:Training - players
ORGANIZER;CN="Coach":MAILTO:coach@basoccer.club
END:VEVENT
BEGIN:VEVENT
DTSTART;TZID=America/Chicago:20260507T193000
DTEND;TZID=America/Chicago:20260507T203000
DTSTAMP:20260419T122731
CREATED:20230523T213718Z
LAST-MODIFIED:20230523T213718Z
UID:9329-1778182200-1778185800@basoccer.club
SUMMARY:General Membership Meeting
DESCRIPTION:Follow the link below for more information.
URL:https://basoccer.club/eventt/general-membership-meeting-526/
LOCATION:Central Park Community Center\, 1500 South Main Street\, Broken Arrow\, OK\, 74012\, United States
CATEGORIES:Club Event
ORGANIZER;CN="Info":MAILTO:info@basoccer.club
END:VEVENT
BEGIN:VEVENT
DTSTART;TZID=America/Chicago:20260511T180000
DTEND;TZID=America/Chicago:20260511T200000
DTSTAMP:20260419T122731
CREATED:20260110T162003Z
LAST-MODIFIED:20260110T162027Z
UID:13510-1778522400-1778529600@basoccer.club
SUMMARY:Goal Keeper Training
DESCRIPTION:For Goal Keeper Training Specifics\, please click here.
URL:https://basoccer.club/eventt/goal-keeper-training-51126/
LOCATION:Indian Springs Soccer Complex\, 13600 South 145th East Avenue\, Broken Arrow\, OK\, 74011\, United States
CATEGORIES:Training - players
ORGANIZER;CN="Coach":MAILTO:coach@basoccer.club
END:VEVENT
BEGIN:VEVENT
DTSTART;VALUE=DATE:20260514
DTEND;VALUE=DATE:20260518
DTSTAMP:20260419T122731
CREATED:20230523T213809Z
LAST-MODIFIED:20231114T230222Z
UID:9331-1778716800-1779062399@basoccer.club
SUMMARY:Tornado Alley Spring Classic
DESCRIPTION:Tournament Starts at 6pm on Thursday\, and runs through Sunday evening. \nSchedule
URL:https://basoccer.club/eventt/tornado-alley-spring-classic-26/
LOCATION:Indian Springs Soccer Complex\, 13600 South 145th East Avenue\, Broken Arrow\, OK\, 74011\, United States
CATEGORIES:upcoming tournaments
ORGANIZER;CN="Tournament":MAILTO:tournament@basoccer.club
END:VEVENT
BEGIN:VEVENT
DTSTART;VALUE=DATE:20260525
DTEND;VALUE=DATE:20260526
DTSTAMP:20260419T122731
CREATED:20230523T213927Z
LAST-MODIFIED:20230523T214448Z
UID:9334-1779667200-1779753599@basoccer.club
SUMMARY:Office Closed - Memorial Day Holiday
DESCRIPTION:
URL:https://basoccer.club/eventt/office-closed-memorial-day-holiday-26/
LOCATION:OK
CATEGORIES:Office Closed
ORGANIZER;CN="General":MAILTO:jessica@basoccer.club
END:VEVENT
BEGIN:VEVENT
DTSTART;TZID=America/Chicago:20260530T080000
DTEND;TZID=America/Chicago:20260530T120000
DTSTAMP:20260419T122731
CREATED:20260416T202613Z
LAST-MODIFIED:20260416T202706Z
UID:13985-1780128000-1780142400@basoccer.club
SUMMARY:Post Season Field Day
DESCRIPTION:Get more information at the link below.
URL:https://basoccer.club/eventt/post-season-field-day/
LOCATION:Indian Springs Soccer Complex\, 13600 South 145th East Avenue\, Broken Arrow\, OK\, 74011\, United States
CATEGORIES:Club Event
ORGANIZER;CN="Complex Manager":MAILTO:complexmanager@basoccer.club
END:VEVENT
BEGIN:VEVENT
DTSTART;VALUE=DATE:20260601
DTEND;VALUE=DATE:20260605
DTSTAMP:20260419T122731
CREATED:20260310T013238Z
LAST-MODIFIED:20260310T013238Z
UID:13755-1780272000-1780617599@basoccer.club
SUMMARY:BASC Summer Soccer Camp
DESCRIPTION:Half Day Camp – 8:30am – 11:30am \nLittle Macs Camp – 8:30am – 10am \nFollow the link below for more information and to register.
URL:https://basoccer.club/eventt/basc-summer-soccer-camp-26/
LOCATION:Indian Springs Soccer Complex\, 13600 South 145th East Avenue\, Broken Arrow\, OK\, 74011\, United States
CATEGORIES:Club Event
ORGANIZER;CN="Coach":MAILTO:coach@basoccer.club
END:VEVENT
BEGIN:VEVENT
DTSTART;VALUE=DATE:20260703
DTEND;VALUE=DATE:20260704
DTSTAMP:20260419T122731
CREATED:20230523T214004Z
LAST-MODIFIED:20230523T214414Z
UID:9336-1783036800-1783123199@basoccer.club
SUMMARY:Office Closed - Independence Day Holiday
DESCRIPTION:
URL:https://basoccer.club/eventt/office-closed-independence-day-holiday-26/
LOCATION:Indian Springs Soccer Complex\, 13600 South 145th East Avenue\, Broken Arrow\, OK\, 74011\, United States
CATEGORIES:Office Closed
ORGANIZER;CN="Info":MAILTO:info@basoccer.club
END:VEVENT
BEGIN:VEVENT
DTSTART;TZID=America/Chicago:20260824T150000
DTEND;TZID=America/Chicago:20260824T150000
DTSTAMP:20260419T122731
CREATED:20230523T214612Z
LAST-MODIFIED:20230523T214612Z
UID:9339-1787583600-1787583600@basoccer.club
SUMMARY:Nominations for Executive Board positions Due by Close of Business: 3rd VP & Secretary
DESCRIPTION:Click the link below for more information.
URL:https://basoccer.club/eventt/nominations-for-executive-board-positions-due-by-close-of-business-3rd-vp-secretary-26/
LOCATION:OK
CATEGORIES:Club Event
ORGANIZER;CN="Info":MAILTO:info@basoccer.club
END:VEVENT
BEGIN:VEVENT
DTSTART;TZID=America/Chicago:20260903T193000
DTEND;TZID=America/Chicago:20260903T203000
DTSTAMP:20260419T122731
CREATED:20230523T214940Z
LAST-MODIFIED:20230523T214940Z
UID:9345-1788463800-1788467400@basoccer.club
SUMMARY:General Membership Meeting
DESCRIPTION:Follow the link below for more information.
URL:https://basoccer.club/eventt/general-membership-meeting-926/
LOCATION:Central Park Community Center\, 1500 South Main Street\, Broken Arrow\, OK\, 74012\, United States
CATEGORIES:Club Event
ORGANIZER;CN="Info":MAILTO:info@basoccer.club
END:VEVENT
BEGIN:VEVENT
DTSTART;VALUE=DATE:20260905
DTEND;VALUE=DATE:20260906
DTSTAMP:20260419T122731
CREATED:20230523T214733Z
LAST-MODIFIED:20230622T171457Z
UID:9341-1788566400-1788652799@basoccer.club
SUMMARY:Labor Day Kick-Off Classic Friendlies
DESCRIPTION:Click the link below for tournament info. \nSchedule
URL:https://basoccer.club/eventt/labor-day-kick-off-classic-26/
LOCATION:Indian Springs Soccer Complex\, 13600 South 145th East Avenue\, Broken Arrow\, OK\, 74011\, United States
CATEGORIES:upcoming tournaments
ORGANIZER;CN="Tournament":MAILTO:tournament@basoccer.club
END:VEVENT
BEGIN:VEVENT
DTSTART;VALUE=DATE:20260907
DTEND;VALUE=DATE:20260908
DTSTAMP:20260419T122731
CREATED:20230523T214848Z
LAST-MODIFIED:20230523T214848Z
UID:9343-1788739200-1788825599@basoccer.club
SUMMARY:Office Closed - Labor Day Holiday
DESCRIPTION:
URL:https://basoccer.club/eventt/office-closed-labor-day-holiday-26/
LOCATION:Indian Springs Soccer Complex\, 13600 South 145th East Avenue\, Broken Arrow\, OK\, 74011\, United States
CATEGORIES:Office Closed
ORGANIZER;CN="Info":MAILTO:info@basoccer.club
END:VEVENT
BEGIN:VEVENT
DTSTART;TZID=America/Chicago:20261026T150000
DTEND;TZID=America/Chicago:20261026T150000
DTSTAMP:20260419T122731
CREATED:20230523T215040Z
LAST-MODIFIED:20230523T215114Z
UID:9347-1793026800-1793026800@basoccer.club
SUMMARY:Nominations for Executive Board positions Due by Close of Business: Treasurer\, Registrar\, Games Commissioner\, & Head Coach
DESCRIPTION:Click the link below for more information.
URL:https://basoccer.club/eventt/nominations-for-executive-board-positions-due-by-close-of-business-treasurer-registrar-games-commissioner-head-coach-26/
LOCATION:OK
CATEGORIES:Club Event
ORGANIZER;CN="Info":MAILTO:info@basoccer.club
END:VEVENT
BEGIN:VEVENT
DTSTART;TZID=America/Chicago:20261105T193000
DTEND;TZID=America/Chicago:20261105T203000
DTSTAMP:20260419T122731
CREATED:20230523T215153Z
LAST-MODIFIED:20230523T215153Z
UID:9349-1793907000-1793910600@basoccer.club
SUMMARY:General Membership Meeting
DESCRIPTION:Follow the link below for more information.
URL:https://basoccer.club/eventt/general-membership-meeting-1126/
LOCATION:Central Park Community Center\, 1500 South Main Street\, Broken Arrow\, OK\, 74012\, United States
CATEGORIES:Club Event
ORGANIZER;CN="Info":MAILTO:info@basoccer.club
END:VEVENT
BEGIN:VEVENT
DTSTART;TZID=America/Chicago:20261112T180000
DTEND;TZID=America/Chicago:20261115T200000
DTSTAMP:20260419T122731
CREATED:20230523T215310Z
LAST-MODIFIED:20240701T173659Z
UID:9351-1794506400-1794772800@basoccer.club
SUMMARY:BASC Fall Classic
DESCRIPTION:Follow the link below for more information and to register. \nSchedule
URL:https://basoccer.club/eventt/basc-fall-classic-26/
LOCATION:OK
CATEGORIES:upcoming tournaments
ORGANIZER;CN="Tournament":MAILTO:tournament@basoccer.club
END:VEVENT
BEGIN:VEVENT
DTSTART;TZID=America/Chicago:20270304T193000
DTEND;TZID=America/Chicago:20270304T203000
DTSTAMP:20260419T122731
CREATED:20250619T011816Z
LAST-MODIFIED:20250619T012217Z
UID:12540-1804188600-1804192200@basoccer.club
SUMMARY:General Membership Meeting
DESCRIPTION:Follow the link below for more information.
URL:https://basoccer.club/eventt/general-membership-meeting-3427/
LOCATION:Indian Springs Soccer Complex\, 13600 South 145th East Avenue\, Broken Arrow\, OK\, 74011\, United States
CATEGORIES:Club Event
ORGANIZER;CN="Info":MAILTO:info@basoccer.club
END:VEVENT
BEGIN:VEVENT
DTSTART;TZID=America/Chicago:20270506T193000
DTEND;TZID=America/Chicago:20270506T203000
DTSTAMP:20260419T122731
CREATED:20250619T011910Z
LAST-MODIFIED:20250619T011910Z
UID:12542-1809631800-1809635400@basoccer.club
SUMMARY:General Membership Meeting
DESCRIPTION:Follow the link below for more information.
URL:https://basoccer.club/eventt/general-membership-meeting-5627/
LOCATION:Indian Springs Soccer Complex\, 13600 South 145th East Avenue\, Broken Arrow\, OK\, 74011\, United States
CATEGORIES:Club Event
ORGANIZER;CN="Info":MAILTO:info@basoccer.club
END:VEVENT
BEGIN:VEVENT
DTSTART;TZID=America/Chicago:20270902T193000
DTEND;TZID=America/Chicago:20270902T203000
DTSTAMP:20260419T122731
CREATED:20250619T011952Z
LAST-MODIFIED:20250619T011952Z
UID:12544-1819913400-1819917000@basoccer.club
SUMMARY:General Membership Meeting
DESCRIPTION:Follow the link below for more information.
URL:https://basoccer.club/eventt/general-membership-meeting-9227/
LOCATION:Indian Springs Soccer Complex\, 13600 South 145th East Avenue\, Broken Arrow\, OK\, 74011\, United States
CATEGORIES:Club Event
ORGANIZER;CN="Info":MAILTO:info@basoccer.club
END:VEVENT
BEGIN:VEVENT
DTSTART;TZID=America/Chicago:20271104T193000
DTEND;TZID=America/Chicago:20271104T203000
DTSTAMP:20260419T122731
CREATED:20250619T012035Z
LAST-MODIFIED:20250619T012035Z
UID:12546-1825356600-1825360200@basoccer.club
SUMMARY:General Membership Meeting
DESCRIPTION:Follow the link below for more information.
URL:https://basoccer.club/eventt/general-membership-meeting-11427/
LOCATION:Indian Springs Soccer Complex\, 13600 South 145th East Avenue\, Broken Arrow\, OK\, 74011\, United States
CATEGORIES:Club Event
ORGANIZER;CN="Info":MAILTO:info@basoccer.club
END:VEVENT
BEGIN:VEVENT
DTSTART;VALUE=DATE:20271231
DTEND;VALUE=DATE:20280101
DTSTAMP:20260419T122731
CREATED:20230523T215350Z
LAST-MODIFIED:20250110T174949Z
UID:9353-1830211200-1830297599@basoccer.club
SUMMARY:Office Closed - New Year Holiday
DESCRIPTION:
URL:https://basoccer.club/eventt/office-closed-new-year-holiday-28/
LOCATION:Indian Springs Soccer Complex\, 13600 South 145th East Avenue\, Broken Arrow\, OK\, 74011\, United States
CATEGORIES:Office Closed
ORGANIZER;CN="Info":MAILTO:info@basoccer.club
END:VEVENT
END:VCALENDAR