BEGIN:VCALENDAR
VERSION:2.0
PRODID:-//Broken Arrow Soccer Club - ECPv6.15.20//NONSGML v1.0//EN
CALSCALE:GREGORIAN
METHOD:PUBLISH
X-WR-CALNAME:Broken Arrow Soccer Club
X-ORIGINAL-URL:https://basoccer.club
X-WR-CALDESC:Events for Broken Arrow Soccer Club
REFRESH-INTERVAL;VALUE=DURATION:PT1H
X-Robots-Tag:noindex
X-PUBLISHED-TTL:PT1H
BEGIN:VTIMEZONE
TZID:America/Chicago
BEGIN:DAYLIGHT
TZOFFSETFROM:-0600
TZOFFSETTO:-0500
TZNAME:CDT
DTSTART:20250309T080000
END:DAYLIGHT
BEGIN:STANDARD
TZOFFSETFROM:-0500
TZOFFSETTO:-0600
TZNAME:CST
DTSTART:20251102T070000
END:STANDARD
BEGIN:DAYLIGHT
TZOFFSETFROM:-0600
TZOFFSETTO:-0500
TZNAME:CDT
DTSTART:20260308T080000
END:DAYLIGHT
BEGIN:STANDARD
TZOFFSETFROM:-0500
TZOFFSETTO:-0600
TZNAME:CST
DTSTART:20261101T070000
END:STANDARD
BEGIN:DAYLIGHT
TZOFFSETFROM:-0600
TZOFFSETTO:-0500
TZNAME:CDT
DTSTART:20270314T080000
END:DAYLIGHT
BEGIN:STANDARD
TZOFFSETFROM:-0500
TZOFFSETTO:-0600
TZNAME:CST
DTSTART:20271107T070000
END:STANDARD
END:VTIMEZONE
BEGIN:VEVENT
DTSTART;TZID=America/Chicago:20260824T150000
DTEND;TZID=America/Chicago:20260824T150000
DTSTAMP:20260419T185337
CREATED:20230523T214612Z
LAST-MODIFIED:20230523T214612Z
UID:9339-1787583600-1787583600@basoccer.club
SUMMARY:Nominations for Executive Board positions Due by Close of Business: 3rd VP & Secretary
DESCRIPTION:Click the link below for more information.
URL:https://basoccer.club/eventt/nominations-for-executive-board-positions-due-by-close-of-business-3rd-vp-secretary-26/
LOCATION:OK
CATEGORIES:Club Event
ORGANIZER;CN="Info":MAILTO:info@basoccer.club
END:VEVENT
BEGIN:VEVENT
DTSTART;VALUE=DATE:20260703
DTEND;VALUE=DATE:20260704
DTSTAMP:20260419T185337
CREATED:20230523T214004Z
LAST-MODIFIED:20230523T214414Z
UID:9336-1783036800-1783123199@basoccer.club
SUMMARY:Office Closed - Independence Day Holiday
DESCRIPTION:
URL:https://basoccer.club/eventt/office-closed-independence-day-holiday-26/
LOCATION:Indian Springs Soccer Complex\, 13600 South 145th East Avenue\, Broken Arrow\, OK\, 74011\, United States
CATEGORIES:Office Closed
ORGANIZER;CN="Info":MAILTO:info@basoccer.club
END:VEVENT
BEGIN:VEVENT
DTSTART;VALUE=DATE:20260601
DTEND;VALUE=DATE:20260605
DTSTAMP:20260419T185337
CREATED:20260310T013238Z
LAST-MODIFIED:20260310T013238Z
UID:13755-1780272000-1780617599@basoccer.club
SUMMARY:BASC Summer Soccer Camp
DESCRIPTION:Half Day Camp – 8:30am – 11:30am \nLittle Macs Camp – 8:30am – 10am \nFollow the link below for more information and to register.
URL:https://basoccer.club/eventt/basc-summer-soccer-camp-26/
LOCATION:Indian Springs Soccer Complex\, 13600 South 145th East Avenue\, Broken Arrow\, OK\, 74011\, United States
CATEGORIES:Club Event
ORGANIZER;CN="Coach":MAILTO:coach@basoccer.club
END:VEVENT
BEGIN:VEVENT
DTSTART;TZID=America/Chicago:20260530T080000
DTEND;TZID=America/Chicago:20260530T120000
DTSTAMP:20260419T185337
CREATED:20260416T202613Z
LAST-MODIFIED:20260416T202706Z
UID:13985-1780128000-1780142400@basoccer.club
SUMMARY:Post Season Field Day
DESCRIPTION:Get more information at the link below.
URL:https://basoccer.club/eventt/post-season-field-day/
LOCATION:Indian Springs Soccer Complex\, 13600 South 145th East Avenue\, Broken Arrow\, OK\, 74011\, United States
CATEGORIES:Club Event
ORGANIZER;CN="Complex Manager":MAILTO:complexmanager@basoccer.club
END:VEVENT
BEGIN:VEVENT
DTSTART;VALUE=DATE:20260525
DTEND;VALUE=DATE:20260526
DTSTAMP:20260419T185337
CREATED:20230523T213927Z
LAST-MODIFIED:20230523T214448Z
UID:9334-1779667200-1779753599@basoccer.club
SUMMARY:Office Closed - Memorial Day Holiday
DESCRIPTION:
URL:https://basoccer.club/eventt/office-closed-memorial-day-holiday-26/
LOCATION:OK
CATEGORIES:Office Closed
ORGANIZER;CN="General":MAILTO:jessica@basoccer.club
END:VEVENT
BEGIN:VEVENT
DTSTART;VALUE=DATE:20260514
DTEND;VALUE=DATE:20260518
DTSTAMP:20260419T185337
CREATED:20230523T213809Z
LAST-MODIFIED:20231114T230222Z
UID:9331-1778716800-1779062399@basoccer.club
SUMMARY:Tornado Alley Spring Classic
DESCRIPTION:Tournament Starts at 6pm on Thursday\, and runs through Sunday evening. \nSchedule
URL:https://basoccer.club/eventt/tornado-alley-spring-classic-26/
LOCATION:Indian Springs Soccer Complex\, 13600 South 145th East Avenue\, Broken Arrow\, OK\, 74011\, United States
CATEGORIES:upcoming tournaments
ORGANIZER;CN="Tournament":MAILTO:tournament@basoccer.club
END:VEVENT
BEGIN:VEVENT
DTSTART;TZID=America/Chicago:20260511T180000
DTEND;TZID=America/Chicago:20260511T200000
DTSTAMP:20260419T185337
CREATED:20260110T162003Z
LAST-MODIFIED:20260110T162027Z
UID:13510-1778522400-1778529600@basoccer.club
SUMMARY:Goal Keeper Training
DESCRIPTION:For Goal Keeper Training Specifics\, please click here.
URL:https://basoccer.club/eventt/goal-keeper-training-51126/
LOCATION:Indian Springs Soccer Complex\, 13600 South 145th East Avenue\, Broken Arrow\, OK\, 74011\, United States
CATEGORIES:Training - players
ORGANIZER;CN="Coach":MAILTO:coach@basoccer.club
END:VEVENT
BEGIN:VEVENT
DTSTART;TZID=America/Chicago:20260507T193000
DTEND;TZID=America/Chicago:20260507T203000
DTSTAMP:20260419T185337
CREATED:20230523T213718Z
LAST-MODIFIED:20230523T213718Z
UID:9329-1778182200-1778185800@basoccer.club
SUMMARY:General Membership Meeting
DESCRIPTION:Follow the link below for more information.
URL:https://basoccer.club/eventt/general-membership-meeting-526/
LOCATION:Central Park Community Center\, 1500 South Main Street\, Broken Arrow\, OK\, 74012\, United States
CATEGORIES:Club Event
ORGANIZER;CN="Info":MAILTO:info@basoccer.club
END:VEVENT
BEGIN:VEVENT
DTSTART;TZID=America/Chicago:20260504T180000
DTEND;TZID=America/Chicago:20260504T200000
DTSTAMP:20260419T185337
CREATED:20260110T161920Z
LAST-MODIFIED:20260110T161920Z
UID:13508-1777917600-1777924800@basoccer.club
SUMMARY:Goal Keeper Training
DESCRIPTION:For Goal Keeper Training Specifics\, please click here.
URL:https://basoccer.club/eventt/goal-keeper-training-5426/
LOCATION:Indian Springs Soccer Complex\, 13600 South 145th East Avenue\, Broken Arrow\, OK\, 74011\, United States
CATEGORIES:Training - players
ORGANIZER;CN="Coach":MAILTO:coach@basoccer.club
END:VEVENT
BEGIN:VEVENT
DTSTART;TZID=America/Chicago:20260502T173000
DTEND;TZID=America/Chicago:20260502T193000
DTSTAMP:20260419T185337
CREATED:20260327T172222Z
LAST-MODIFIED:20260327T173658Z
UID:13867-1777743000-1777750200@basoccer.club
SUMMARY:Coach\, Manager\, & Referee Pickup Soccer Match
DESCRIPTION:Get Details Here.
URL:https://basoccer.club/eventt/coach-manager-referee-pickup-soccer-match-s26/
LOCATION:Indian Springs Soccer Complex\, 13600 South 145th East Avenue\, Broken Arrow\, OK\, 74011\, United States
CATEGORIES:Club Event
ORGANIZER;CN="Coach":MAILTO:coach@basoccer.club
END:VEVENT
BEGIN:VEVENT
DTSTART;TZID=America/Chicago:20260427T180000
DTEND;TZID=America/Chicago:20260427T200000
DTSTAMP:20260419T185337
CREATED:20260110T161802Z
LAST-MODIFIED:20260110T161820Z
UID:13506-1777312800-1777320000@basoccer.club
SUMMARY:Goal Keeper Training
DESCRIPTION:For Goal Keeper Training Specifics\, please click here.
URL:https://basoccer.club/eventt/goal-keeper-training-42726/
LOCATION:Indian Springs Soccer Complex\, 13600 South 145th East Avenue\, Broken Arrow\, OK\, 74011\, United States
CATEGORIES:Training - players
ORGANIZER;CN="Coach":MAILTO:coach@basoccer.club
END:VEVENT
BEGIN:VEVENT
DTSTART;TZID=America/Chicago:20260427T150000
DTEND;TZID=America/Chicago:20260427T150000
DTSTAMP:20260419T185337
CREATED:20230523T213440Z
LAST-MODIFIED:20260414T172739Z
UID:9327-1777302000-1777302000@basoccer.club
SUMMARY:Nominations for Executive Board positions Due by Close of Business: 2nd VP & Area Referee
DESCRIPTION:Click the link below for more information.
URL:https://basoccer.club/eventt/nominations-for-executive-board-positions-due-by-close-of-business-1st-vp-2nd-vp-area-referee-26/
LOCATION:OK
CATEGORIES:Club Event
ORGANIZER;CN="Info":MAILTO:info@basoccer.club
END:VEVENT
BEGIN:VEVENT
DTSTART;TZID=America/Chicago:20260420T180000
DTEND;TZID=America/Chicago:20260420T200000
DTSTAMP:20260419T185337
CREATED:20260110T161716Z
LAST-MODIFIED:20260110T161716Z
UID:13504-1776708000-1776715200@basoccer.club
SUMMARY:Goal Keeper Training
DESCRIPTION:For Goal Keeper Training Specifics\, please click here.
URL:https://basoccer.club/eventt/goal-keeper-training-42026/
LOCATION:Indian Springs Soccer Complex\, 13600 South 145th East Avenue\, Broken Arrow\, OK\, 74011\, United States
CATEGORIES:Training - players
ORGANIZER;CN="Coach":MAILTO:coach@basoccer.club
END:VEVENT
BEGIN:VEVENT
DTSTART;TZID=America/Chicago:20260417T150000
DTEND;TZID=America/Chicago:20260417T150000
DTSTAMP:20260419T185337
CREATED:20260129T003506Z
LAST-MODIFIED:20260129T003506Z
UID:13627-1776438000-1776438000@basoccer.club
SUMMARY:REGISTRATION DEADLINE: Tornado Alley Spring Classic
DESCRIPTION:Register now for the Tornado Alley Spring Classic
URL:https://basoccer.club/eventt/registration-deadline-tornado-alley-spring-classic-26/
LOCATION:Indian Springs Soccer Complex\, 13600 South 145th East Avenue\, Broken Arrow\, OK\, 74011\, United States
CATEGORIES:upcoming tournaments
ORGANIZER;CN="Tournament":MAILTO:tournament@basoccer.club
END:VEVENT
BEGIN:VEVENT
DTSTART;VALUE=DATE:20260416
DTEND;VALUE=DATE:20260420
DTSTAMP:20260419T185337
CREATED:20251230T233021Z
LAST-MODIFIED:20251231T045057Z
UID:13438-1776297600-1776643199@basoccer.club
SUMMARY:Competitive Tournament @ ISSC - No League Games
DESCRIPTION:
URL:https://basoccer.club/eventt/competitive-tournament-issc-no-league-games-s26/
LOCATION:Indian Springs Soccer Complex\, 13600 South 145th East Avenue\, Broken Arrow\, OK\, 74011\, United States
CATEGORIES:upcoming tournaments
ORGANIZER;CN="Info":MAILTO:info@basoccer.club
END:VEVENT
BEGIN:VEVENT
DTSTART;TZID=America/Chicago:20260413T180000
DTEND;TZID=America/Chicago:20260413T200000
DTSTAMP:20260419T185337
CREATED:20260110T161632Z
LAST-MODIFIED:20260110T161632Z
UID:13502-1776103200-1776110400@basoccer.club
SUMMARY:Goal Keeper Training
DESCRIPTION:For Goal Keeper Training Specifics\, please click here.
URL:https://basoccer.club/eventt/goal-keeper-training-41326/
LOCATION:Indian Springs Soccer Complex\, 13600 South 145th East Avenue\, Broken Arrow\, OK\, 74011\, United States
CATEGORIES:Training - players
ORGANIZER;CN="Coach":MAILTO:coach@basoccer.club
END:VEVENT
BEGIN:VEVENT
DTSTART;TZID=America/Chicago:20260407T173000
DTEND;TZID=America/Chicago:20260407T203000
DTSTAMP:20260419T185337
CREATED:20260320T191321Z
LAST-MODIFIED:20260320T194324Z
UID:13851-1775583000-1775593800@basoccer.club
SUMMARY:ORU Players Clinic for BASC Legacy & Express Players
DESCRIPTION:Get details here. 
URL:https://basoccer.club/eventt/oru-players-clinic-for-legacy-express-players/
LOCATION:Indian Springs Soccer Complex\, 13600 South 145th East Avenue\, Broken Arrow\, OK\, 74011\, United States
ORGANIZER;CN="Event":MAILTO:jdickerson@basoccer.club
END:VEVENT
BEGIN:VEVENT
DTSTART;TZID=America/Chicago:20260406T180000
DTEND;TZID=America/Chicago:20260406T200000
DTSTAMP:20260419T185337
CREATED:20260110T161539Z
LAST-MODIFIED:20260110T161539Z
UID:13500-1775498400-1775505600@basoccer.club
SUMMARY:Goal Keeper Training
DESCRIPTION:For Goal Keeper Training Specifics\, please click here.
URL:https://basoccer.club/eventt/goal-keeper-training-4626/
LOCATION:Indian Springs Soccer Complex\, 13600 South 145th East Avenue\, Broken Arrow\, OK\, 74011\, United States
CATEGORIES:Training - players
ORGANIZER;CN="Coach":MAILTO:coach@basoccer.club
END:VEVENT
BEGIN:VEVENT
DTSTART;VALUE=DATE:20260405
DTEND;VALUE=DATE:20260406
DTSTAMP:20260419T185337
CREATED:20230117T162846Z
LAST-MODIFIED:20230523T205247Z
UID:8463-1775347200-1775433599@basoccer.club
SUMMARY:Easter Sunday - No League Games
DESCRIPTION:
URL:https://basoccer.club/eventt/easter-sunday-no-league-games-26/
LOCATION:Indian Springs Soccer Complex\, 13600 South 145th East Avenue\, Broken Arrow\, OK\, 74011\, United States
CATEGORIES:Office Closed
ORGANIZER;CN="Info":MAILTO:info@basoccer.club
END:VEVENT
BEGIN:VEVENT
DTSTART;VALUE=DATE:20260331
DTEND;VALUE=DATE:20260401
DTSTAMP:20260419T185337
CREATED:20230928T151625Z
LAST-MODIFIED:20260311T205054Z
UID:10134-1774915200-1775001599@basoccer.club
SUMMARY:DEADLINE: College Scholarship Application Deadline
DESCRIPTION:Follow the link below for criteria and to apply.
URL:https://basoccer.club/eventt/deadline-college-scholarship-application-deadline-26/
LOCATION:OK
CATEGORIES:General
ORGANIZER;CN="General":MAILTO:jessica@basoccer.club
END:VEVENT
BEGIN:VEVENT
DTSTART;TZID=America/Chicago:20260330T180000
DTEND;TZID=America/Chicago:20260330T200000
DTSTAMP:20260419T185337
CREATED:20260110T161457Z
LAST-MODIFIED:20260110T161457Z
UID:13498-1774893600-1774900800@basoccer.club
SUMMARY:Goal Keeper Training
DESCRIPTION:For Goal Keeper Training Specifics\, please click here.
URL:https://basoccer.club/eventt/goal-keeper-training-33026/
LOCATION:Indian Springs Soccer Complex\, 13600 South 145th East Avenue\, Broken Arrow\, OK\, 74011\, United States
CATEGORIES:Training - players
ORGANIZER;CN="Coach":MAILTO:coach@basoccer.club
END:VEVENT
BEGIN:VEVENT
DTSTART;VALUE=DATE:20260327
DTEND;VALUE=DATE:20260328
DTSTAMP:20260419T185337
CREATED:20260129T003326Z
LAST-MODIFIED:20260129T003326Z
UID:13625-1774569600-1774655999@basoccer.club
SUMMARY:Discounted Registration Deadline: Tornado Alley Spring Classic
DESCRIPTION:Register by end of day today to get $50 off your teams registration fee. \nTornado Alley Spring Classic
URL:https://basoccer.club/eventt/discounted-registration-deadline-tornado-alley-spring-classic-26/
LOCATION:OK
CATEGORIES:upcoming tournaments
ORGANIZER;CN="Tournament":MAILTO:tournament@basoccer.club
END:VEVENT
BEGIN:VEVENT
DTSTART;TZID=America/Chicago:20260323T180000
DTEND;TZID=America/Chicago:20260323T200000
DTSTAMP:20260419T185337
CREATED:20260110T161059Z
LAST-MODIFIED:20260110T161246Z
UID:13496-1774288800-1774296000@basoccer.club
SUMMARY:Goal Keeper Training
DESCRIPTION:For Goal Keeper Training Specifics\, please click here.
URL:https://basoccer.club/eventt/goal-keeper-training-32326/
LOCATION:Indian Springs Soccer Complex\, 13600 South 145th East Avenue\, Broken Arrow\, OK\, 74011\, United States
CATEGORIES:Training - players
ORGANIZER;CN="Coach":MAILTO:coach@basoccer.club
END:VEVENT
BEGIN:VEVENT
DTSTART;TZID=America/Chicago:20260320T180000
DTEND;TZID=America/Chicago:20260320T193000
DTSTAMP:20260419T185337
CREATED:20260314T020401Z
LAST-MODIFIED:20260314T021447Z
UID:13807-1774029600-1774035000@basoccer.club
SUMMARY:BA Express Open Session
DESCRIPTION:Find details here.
URL:https://basoccer.club/eventt/ba-express-open-session-2/
LOCATION:OK
ORGANIZER;CN="BA Express":MAILTO:competitiveheadcoach@basoccer.club
END:VEVENT
BEGIN:VEVENT
DTSTART;TZID=America/Chicago:20260318T180000
DTEND;TZID=America/Chicago:20260318T193000
DTSTAMP:20260419T185337
CREATED:20260314T020339Z
LAST-MODIFIED:20260314T021821Z
UID:13805-1773856800-1773862200@basoccer.club
SUMMARY:BA Express Open Session
DESCRIPTION:Find details here.
URL:https://basoccer.club/eventt/ba-express-open-session/
LOCATION:OK
ORGANIZER;CN="BA Express":MAILTO:competitiveheadcoach@basoccer.club
END:VEVENT
BEGIN:VEVENT
DTSTART;TZID=America/Chicago:20260316T180000
DTEND;TZID=America/Chicago:20260316T200000
DTSTAMP:20260419T185337
CREATED:20260110T160944Z
LAST-MODIFIED:20260312T135744Z
UID:13494-1773684000-1773691200@basoccer.club
SUMMARY:CANCELLED - Goal Keeper Training
DESCRIPTION:For Goal Keeper Training Specifics\, please click here.
URL:https://basoccer.club/eventt/goal-keeper-training-31626/
LOCATION:Indian Springs Soccer Complex\, 13600 South 145th East Avenue\, Broken Arrow\, OK\, 74011\, United States
CATEGORIES:Training - players
ORGANIZER;CN="Coach":MAILTO:coach@basoccer.club
END:VEVENT
BEGIN:VEVENT
DTSTART;VALUE=DATE:20260311
DTEND;VALUE=DATE:20260401
DTSTAMP:20260419T185337
CREATED:20260312T024825Z
LAST-MODIFIED:20260312T025432Z
UID:13783-1773187200-1775001599@basoccer.club
SUMMARY:Assistant Games Scheduler Position - Accepting Applications
DESCRIPTION:Accepting Applications through March 31\, 2026 \nApply here.
URL:https://basoccer.club/eventt/assistant-games-scheduler/
LOCATION:OK
ORGANIZER;CN="General":MAILTO:jessica@basoccer.club
END:VEVENT
BEGIN:VEVENT
DTSTART;TZID=America/Chicago:20260309T180000
DTEND;TZID=America/Chicago:20260309T200000
DTSTAMP:20260419T185337
CREATED:20260110T160858Z
LAST-MODIFIED:20260110T160858Z
UID:13492-1773079200-1773086400@basoccer.club
SUMMARY:Goal Keeper Training
DESCRIPTION:For Goal Keeper Training Specifics\, please click here.
URL:https://basoccer.club/eventt/goal-keeper-training-3926/
LOCATION:Indian Springs Soccer Complex\, 13600 South 145th East Avenue\, Broken Arrow\, OK\, 74011\, United States
CATEGORIES:Training - players
ORGANIZER;CN="Coach":MAILTO:coach@basoccer.club
END:VEVENT
BEGIN:VEVENT
DTSTART;TZID=America/Chicago:20260305T183000
DTEND;TZID=America/Chicago:20260305T193000
DTSTAMP:20260419T185337
CREATED:20230523T212651Z
LAST-MODIFIED:20260226T023752Z
UID:9323-1772735400-1772739000@basoccer.club
SUMMARY:General Membership Meeting
DESCRIPTION:Follow the link below for more information.
URL:https://basoccer.club/eventt/general-membership-meeting-26/
LOCATION:Central Park Community Center\, 1500 South Main Street\, Broken Arrow\, OK\, 74012\, United States
CATEGORIES:Club Event
ORGANIZER;CN="Info":MAILTO:info@basoccer.club
END:VEVENT
BEGIN:VEVENT
DTSTART;TZID=America/Chicago:20260303T190000
DTEND;TZID=America/Chicago:20260303T210000
DTSTAMP:20260419T185337
CREATED:20260213T174655Z
LAST-MODIFIED:20260213T175331Z
UID:13697-1772564400-1772571600@basoccer.club
SUMMARY:11v11 Grassroots Field Session @ ISSC
DESCRIPTION:Follow this link for details and to register.
URL:https://basoccer.club/eventt/11v11-grassroots-field-session-issc-326/
LOCATION:Indian Springs Soccer Complex\, 13600 South 145th East Avenue\, Broken Arrow\, OK\, 74011\, United States
CATEGORIES:Training - Coach/Manager
ORGANIZER;CN="Coach":MAILTO:coach@basoccer.club
END:VEVENT
END:VCALENDAR