BEGIN:VCALENDAR
VERSION:2.0
PRODID:-//Broken Arrow Soccer Club - ECPv6.15.20//NONSGML v1.0//EN
CALSCALE:GREGORIAN
METHOD:PUBLISH
X-WR-CALNAME:Broken Arrow Soccer Club
X-ORIGINAL-URL:https://basoccer.club
X-WR-CALDESC:Events for Broken Arrow Soccer Club
REFRESH-INTERVAL;VALUE=DURATION:PT1H
X-Robots-Tag:noindex
X-PUBLISHED-TTL:PT1H
BEGIN:VTIMEZONE
TZID:America/Chicago
BEGIN:DAYLIGHT
TZOFFSETFROM:-0600
TZOFFSETTO:-0500
TZNAME:CDT
DTSTART:20210314T080000
END:DAYLIGHT
BEGIN:STANDARD
TZOFFSETFROM:-0500
TZOFFSETTO:-0600
TZNAME:CST
DTSTART:20211107T070000
END:STANDARD
BEGIN:DAYLIGHT
TZOFFSETFROM:-0600
TZOFFSETTO:-0500
TZNAME:CDT
DTSTART:20220313T080000
END:DAYLIGHT
BEGIN:STANDARD
TZOFFSETFROM:-0500
TZOFFSETTO:-0600
TZNAME:CST
DTSTART:20221106T070000
END:STANDARD
BEGIN:DAYLIGHT
TZOFFSETFROM:-0600
TZOFFSETTO:-0500
TZNAME:CDT
DTSTART:20230312T080000
END:DAYLIGHT
BEGIN:STANDARD
TZOFFSETFROM:-0500
TZOFFSETTO:-0600
TZNAME:CST
DTSTART:20231105T070000
END:STANDARD
END:VTIMEZONE
BEGIN:VEVENT
DTSTART;TZID=America/Chicago:20220429T180000
DTEND;TZID=America/Chicago:20220429T193000
DTSTAMP:20260424T222349
CREATED:20220404T163317Z
LAST-MODIFIED:20220429T150734Z
UID:6436-1651255200-1651260600@basoccer.club
SUMMARY:EXPRESS FRIDAY NIGHT DEVELOPMENTAL TRAINING
DESCRIPTION:Additional advanced training for U6 – U10 players. \nRegistration Required. \n  \nMOVED TO Tulsa Health Department Soccer Fields for this session\n129th East Avenue & 51st Street\nField Map \n 
URL:https://basoccer.club/eventt/express-friday-night-developmental-training-2/
LOCATION:Tulsa Health Department Soccer Fields\, 5051 S. 129th E. Avenue\, Tulsa\, 74134
CATEGORIES:Training - players
ORGANIZER;CN="Academy":MAILTO:coach@brokenarrowexpress.club
END:VEVENT
END:VCALENDAR