BEGIN:VCALENDAR
VERSION:2.0
PRODID:-//Broken Arrow Soccer Club - ECPv6.15.20//NONSGML v1.0//EN
CALSCALE:GREGORIAN
METHOD:PUBLISH
X-WR-CALNAME:Broken Arrow Soccer Club
X-ORIGINAL-URL:https://basoccer.club
X-WR-CALDESC:Events for Broken Arrow Soccer Club
REFRESH-INTERVAL;VALUE=DURATION:PT1H
X-Robots-Tag:noindex
X-PUBLISHED-TTL:PT1H
BEGIN:VTIMEZONE
TZID:America/Chicago
BEGIN:DAYLIGHT
TZOFFSETFROM:-0600
TZOFFSETTO:-0500
TZNAME:CDT
DTSTART:20210314T080000
END:DAYLIGHT
BEGIN:STANDARD
TZOFFSETFROM:-0500
TZOFFSETTO:-0600
TZNAME:CST
DTSTART:20211107T070000
END:STANDARD
BEGIN:DAYLIGHT
TZOFFSETFROM:-0600
TZOFFSETTO:-0500
TZNAME:CDT
DTSTART:20220313T080000
END:DAYLIGHT
BEGIN:STANDARD
TZOFFSETFROM:-0500
TZOFFSETTO:-0600
TZNAME:CST
DTSTART:20221106T070000
END:STANDARD
BEGIN:DAYLIGHT
TZOFFSETFROM:-0600
TZOFFSETTO:-0500
TZNAME:CDT
DTSTART:20230312T080000
END:DAYLIGHT
BEGIN:STANDARD
TZOFFSETFROM:-0500
TZOFFSETTO:-0600
TZNAME:CST
DTSTART:20231105T070000
END:STANDARD
END:VTIMEZONE
BEGIN:VEVENT
DTSTART;VALUE=DATE:20220503
DTEND;VALUE=DATE:20220507
DTSTAMP:20260424T172744
CREATED:20220429T180323Z
LAST-MODIFIED:20220503T165814Z
UID:6814-1651536000-1651881599@basoccer.club
SUMMARY:BA Express - Talent ID Nights
DESCRIPTION:Click here for details \nClick here to see age group dates & times
URL:https://basoccer.club/eventt/ba-express-talent-id-nights/
LOCATION:OK
CATEGORIES:Training - players
ATTACH;FMTTYPE=image/png:https://basoccer.club/wp-content/uploads/2022/04/BA-Express-Talent-ID-happenings.png
ORGANIZER;CN="BA Express":MAILTO:competitiveheadcoach@basoccer.club
END:VEVENT
BEGIN:VEVENT
DTSTART;TZID=America/Chicago:20220513T180000
DTEND;TZID=America/Chicago:20220513T193000
DTSTAMP:20260424T172744
CREATED:20220404T163714Z
LAST-MODIFIED:20220404T171710Z
UID:6443-1652464800-1652470200@basoccer.club
SUMMARY:EXPRESS FRIDAY NIGHT DEVELOPMENTAL TRAINING
DESCRIPTION:Additional advanced training for U6 – U10 players. \nRegistration Required.
URL:https://basoccer.club/eventt/express-friday-night-developmental-training-3/
LOCATION:Indian Springs Soccer Complex\, 13600 South 145th East Avenue\, Broken Arrow\, OK\, 74011\, United States
CATEGORIES:Training - players
ORGANIZER;CN="Academy":MAILTO:coach@brokenarrowexpress.club
END:VEVENT
BEGIN:VEVENT
DTSTART;TZID=America/Chicago:20220520T180000
DTEND;TZID=America/Chicago:20220520T193000
DTSTAMP:20260424T172744
CREATED:20220404T163748Z
LAST-MODIFIED:20220404T171656Z
UID:6445-1653069600-1653075000@basoccer.club
SUMMARY:EXPRESS FRIDAY NIGHT DEVELOPMENTAL TRAINING
DESCRIPTION:Additional advanced training for U6 – U10 players. \nRegistration Required.
URL:https://basoccer.club/eventt/express-friday-night-developmental-training-4/
LOCATION:Indian Springs Soccer Complex\, 13600 South 145th East Avenue\, Broken Arrow\, OK\, 74011\, United States
CATEGORIES:Training - players
ORGANIZER;CN="Academy":MAILTO:coach@brokenarrowexpress.club
END:VEVENT
END:VCALENDAR