BEGIN:VCALENDAR
VERSION:2.0
PRODID:-//Broken Arrow Soccer Club - ECPv6.15.20//NONSGML v1.0//EN
CALSCALE:GREGORIAN
METHOD:PUBLISH
X-WR-CALNAME:Broken Arrow Soccer Club
X-ORIGINAL-URL:https://basoccer.club
X-WR-CALDESC:Events for Broken Arrow Soccer Club
REFRESH-INTERVAL;VALUE=DURATION:PT1H
X-Robots-Tag:noindex
X-PUBLISHED-TTL:PT1H
BEGIN:VTIMEZONE
TZID:America/Chicago
BEGIN:DAYLIGHT
TZOFFSETFROM:-0600
TZOFFSETTO:-0500
TZNAME:CDT
DTSTART:20220313T080000
END:DAYLIGHT
BEGIN:STANDARD
TZOFFSETFROM:-0500
TZOFFSETTO:-0600
TZNAME:CST
DTSTART:20221106T070000
END:STANDARD
BEGIN:DAYLIGHT
TZOFFSETFROM:-0600
TZOFFSETTO:-0500
TZNAME:CDT
DTSTART:20230312T080000
END:DAYLIGHT
BEGIN:STANDARD
TZOFFSETFROM:-0500
TZOFFSETTO:-0600
TZNAME:CST
DTSTART:20231105T070000
END:STANDARD
BEGIN:DAYLIGHT
TZOFFSETFROM:-0600
TZOFFSETTO:-0500
TZNAME:CDT
DTSTART:20240310T080000
END:DAYLIGHT
BEGIN:STANDARD
TZOFFSETFROM:-0500
TZOFFSETTO:-0600
TZNAME:CST
DTSTART:20241103T070000
END:STANDARD
END:VTIMEZONE
BEGIN:VEVENT
DTSTART;VALUE=DATE:20230102
DTEND;VALUE=DATE:20230103
DTSTAMP:20260422T173917
CREATED:20220629T154030Z
LAST-MODIFIED:20220629T154043Z
UID:7287-1672617600-1672703999@basoccer.club
SUMMARY:Office Closed - New Year Holiday
DESCRIPTION:
URL:https://basoccer.club/eventt/office-closed-new-year-holiday/
LOCATION:Indian Springs Soccer Complex\, 13600 South 145th East Avenue\, Broken Arrow\, OK\, 74011\, United States
CATEGORIES:Office Closed
ORGANIZER;CN="Info":MAILTO:info@basoccer.club
END:VEVENT
END:VCALENDAR